{"text_format":"1","workbook":"xlsx","n_sheets":8,"sheets":["AllModes","Mode Strength","Axial","Tangential","Oblique","Bonello","Ideal Rooms - IMPERIAL","RATIOS"],"not_rendered":{"charts":4,"images":2,"macros":1,"external_links":0,"defined_names":5,"comments":0,"pivot_tables":0},"unopened":[],"bounds":{"document_bytes":16777216,"sheet_cells":100000,"rows_first":2000,"rows_last":500,"rows_between":2000,"halvings":0,"cell_chars":16384,"cell_head_chars":4096},"cells_cut":0,"cells_raw":0,"read":"whole","date_system":"1900"}

{"sheet":"AllModes","index":0,"n_rows":1001,"n_cols":22,"rows_kept":1001,"cut":false,"hidden":false,"merged":[[24,0,24,3],[27,0,32,3],[34,0,35,3],[94,16,95,16],[100,15,100,16],[37,0,40,3],[8,0,10,3],[17,0,17,3],[21,0,21,3],[22,0,22,3],[23,0,23,3],[121,13,121,16],[118,18,118,20],[117,13,117,15],[41,0,43,3],[44,0,47,3],[101,18,101,21],[101,15,101,16],[102,18,102,21],[99,14,99,18],[100,18,100,21],[106,13,109,17],[103,15,103,19]]}
["Read instructions!","Inches","sea level, 70˚F","Feet","All Modes",null,null,null,null,null,null,null,null,null,null,null,null,"BANDWIDTH"]
["Length =",162,"Lx =",{"$f":"+B2/12","v":13.5},"nx","ny","nz","f","Type","Weight","SPACING","Δf","Octave Band","Δmax","Δavg","Δ²","1/3 Octave Band","low","center","hi","# of modes","Measureable?"]
["Width =",156,"Ly =",{"$f":"+B3/12","v":13},1,0,0,{"$f":"$D$5*SQRT((($E3/$D$2)^2)+(($F3/$D$3)^2)+(($G3/$D$4)^2))","v":41.794814814814814},{"$f":"+IF(+AND(E3=0,F3=0)+OR(+AND(E3=0,G3=0))+OR(+AND(F3=0,G3=0)),\"Axial\",(+IF(+OR(E3=0,F3=0,G3=0),\"Tangential\",\"Oblique\")))","v":"Axial"},{"$f":"IF(I3=\"Axial\",1,IF(I3=\"Tangential\",0.5,IF(I3=\"Oblique\",0.25,\"\")))","v":1},null,"-",{"$f":"IF(H3<17.8,1,IF(H3<=22.4,2,IF(H3<=28.2,3,IF(H3<=35.5,4,IF(H3<=44.7,5,IF(H3<=56.2,6,IF(H3<=70.8,7,IF(H3<=89.1,8,IF(H3<=112,9,IF(H3<=141,10,IF(H3<=178,11,IF(H3<=224,12,IF(H3<=282,13,IF(H3<=355,14,IF(H3<=447,15,IF(H3<=562,16,IF(H3<=708,17,IF(H3<=891,18,IF(H3<=1122,19,IF(H3<=1413,20,IF(H3<=1778,21,IF(H3<=2239,22,IF(H3<=2818,23,IF(H3<=3548,24,IF(H3<=4467,25,IF(H3<=5623,26,IF(H3<=7079,27,IF(H3<=8913,28,IF(H3<=11220,29,IF(H3<=14130,30,IF(H3<=17780,31,IF(H3<=22390,32,))))))))))))))))))))))))))))))))","v":5},null,null,null,1,14.1,16,17.8,{"$f":"COUNTIF($M$3:$M$1001,Q3)","v":0},{"$f":"IF((U3)<5,\"INACCURATE\",\"CAN TEST\")","v":"INACCURATE"}]
["Height =",99,"Lz =",{"$f":"+B4/12","v":8.25},0,1,0,43.402307692307694,"Axial",{"$f":"IF(I4=\"Axial\",1,IF(I4=\"Tangential\",0.5,IF(I4=\"Oblique\",0.25,\"\")))","v":1},{"$f":"IF((H4-H3)<1,\"RED\",\"OK\")","v":"OK"},{"$f":"H4-H3","v":1.6074928774928807},{"$f":"IF(H4<17.8,1,IF(H4<=22.4,2,IF(H4<=28.2,3,IF(H4<=35.5,4,IF(H4<=44.7,5,IF(H4<=56.2,6,IF(H4<=70.8,7,IF(H4<=89.1,8,IF(H4<=112,9,IF(H4<=141,10,IF(H4<=178,11,IF(H4<=224,12,IF(H4<=282,13,IF(H4<=355,14,IF(H4<=447,15,IF(H4<=562,16,IF(H4<=708,17,IF(H4<=891,18,IF(H4<=1122,19,IF(H4<=1413,20,IF(H4<=1778,21,IF(H4<=2239,22,IF(H4<=2818,23,IF(H4<=3548,24,IF(H4<=4467,25,IF(H4<=5623,26,IF(H4<=7079,27,IF(H4<=8913,28,IF(H4<=11220,29,IF(H4<=14130,30,IF(H4<=17780,31,IF(H4<=22390,32,))))))))))))))))))))))))))))))))","v":5},null,null,null,{"$f":"Q3+1","v":2},17.8,20,22.4,{"$f":"COUNTIF($M$3:$M$1001,Q4)","v":0},{"$f":"IF((U4)<5,\"INACCURATE\",\"CAN TEST\")","v":"INACCURATE"}]
["Calculate Inches here",null,"c/2 =",{"$f":"1128.46/2","v":564.23},1,1,0,60.254185401699814,"Tangential",0.5,{"$f":"IF((H5-H4)<1,\"RED\",\"OK\")","v":"OK"},{"$f":"H5-H4","v":16.85187770939212},7,null,null,{"$f":"O5*N5","v":0},3,22.4,25,28.2,0,"INACCURATE"]
[13.5,{"$f":"A6*12","v":162},{"$f":"IF(D7>1500,\"PERFECT\",\"TOO SMALL\")","v":"TOO SMALL"},"VOLUME",0,0,1,68.391515151515151,"Axial",1,"OK",8.1373297498153363,7,null,null,0,4,28.2,31.5,35.5,0,"INACCURATE"]
[13,{"$f":"A7*12","v":156},"V =",{"$f":"+D2*D3*D4","v":1447.875},1,0,1,80.151144035032914,"Tangential",0.5,"OK",11.759628883517763,8,null,null,0,5,35.5,40,44.7,2,"INACCURATE"]
[8.25,{"$f":"A8*12","v":99},"V =",{"$f":"0.028316846592*D7","v":40.999254259392004},0,1,1,81.000985535595049,"Tangential",0.5,"RED",0.84984150056213537,8,null,null,0,6,44.7,50,56.2,0,"INACCURATE"]
["If you found this spreadsheet helpful, please send a donation via PayPal to https://www.paypal.me/JHBrandt/",null,null,null,2,0,0,83.589629629629627,"Axial",1,"OK",2.5886440940345778,8,null,null,0,7,56.2,63,70.8,2,"INACCURATE"]
[null,null,null,null,0,2,0,86.804615384615389,"Axial",1,"OK",3.2149857549857614,8,null,null,0,8,70.8,80,89.1,{"$f":"COUNTIF($M$3:$M$1001,Q10)","v":4},"INACCURATE"]
[null,null,null,null,1,1,1,91.148045525630138,"Oblique",0.25,"OK",4.3434301410147498,9,null,null,0,9,89.1,100,112,5,"CAN TEST"]
["Floor/ceiling area",{"$f":"(B2/12)*(B3/12)","v":175.5},null,null,2,1,0,94.185914523544369,"Tangential",0.5,"OK",3.0378689979142308,9,null,null,0,10,112,125,141,9,"CAN TEST"]
["Wall f & b area",{"$f":"(B3/12)*(B4/12)","v":107.25},null,null,1,2,0,96.342346854722578,"Tangential",0.5,"OK",2.156432331178209,9,null,null,0,11,141,160,178,18,"CAN TEST"]
["Wall side area",{"$f":"(B2/12)*(B4/12)","v":111.375},null,"Position %",2,0,1,108.00289591644561,"Tangential",0.5,"OK",11.660549061723032,9,null,null,0,12,178,200,224,35,"CAN TEST"]
["Ideal Mix position",{"$f":"B2*D15","v":60.75},"to front wall",{"$f":"3/8","v":0.375},0,2,1,110.50991175813567,"Tangential",0.5,"OK",2.5070158416900625,9,null,null,0,13,224,250,282,63,"CAN TEST"]
[null,null,null,null,2,1,1,116.39753364808179,"Oblique",0.25,"OK",5.8876218899461179,10,null,null,0,14,282,315,355,117,"CAN TEST"]
[null,null,null,null,1,2,1,118.14925789947053,"Oblique",0.25,"OK",1.7517242513887368,10,null,null,0,15,355,400,447,211,"CAN TEST"]
["see the Ideal Rooms tab",null,null,null,2,2,0,120.50837080339963,"Tangential",0.5,"OK",2.3591129039291019,10,null,null,0,16,447,500,562,245,"CAN TEST"]
[null,"Height","Width","Length",3,0,0,125.38444444444444,"Axial",1,"OK",4.8760736410448118,10,null,null,null,17,562,630,708]
["Ratio:",1,{"$f":"B3/B4","v":1.5757575757575757},{"$f":"B2/B4","v":1.6363636363636365},0,3,0,130.20692307692309,"Axial",1,"OK",4.8224786324786493,10,null,null,null,18,708,800,891]
[null,null,null,null,3,1,0,132.6839071691052,"Tangential",0.5,"OK",2.4769840921821071,10,null,null,null,19,891,1000,1122]
["INSTRUCTIONS:",null,null,null,1,3,0,136.75031759584485,"Tangential",0.5,"OK",4.066410426739651,10,null,null,null,20,1122,1250,1413]
["1. Enter Dimensions in Yellow Area (inches).",null,null,null,0,0,2,136.7830303030303,"Axial",1,"RED",3.2712707185453382E-2,10,null,null,null,21,1413,1600,1778]
["2. Press Ctrl+Shift+S to Sort.",null,null,null,2,2,1,138.56286219044983,"Oblique",0.25,"OK",1.7798318874195331,10,null,null,null,22,1778,2000,2239]
["3. Press Ctrl+Shift+C to Copy Mode Strength Data.",null,null,null,3,0,1,142.8238714408831,"Tangential",0.5,"OK",4.2610092504332613,11,null,null,null,23,2239,2500,2818]
[null,null,null,null,1,0,2,143.02588550428334,"Tangential",0.5,"RED",0.20201406340024164,11,null,null,null,24,2818,3150,3548]
["Other Notes:",null,null,null,0,1,2,143.50385950174811,"Tangential",0.5,"RED",0.47797399746477254,11,null,null,null,25,3548,4000,4467]
["If the \"Ideal\" bar does exceed the \"Actual\" bar in any given 1/3-octave band, the problem modes will usually be those occurring in the 1/3 octave bands that are lower than the violating band. I.e., if the \"Ideal\" bar at 100 Hz exceeds the \"Actual\" bar, the modes at 80 Hz and below are likely to give very perceptible problems in the room.",null,null,null,0,3,1,147.07563415426668,"Tangential",0.5,"OK",3.5717746525185703,11,null,null,null,26,4467,5000,5623]
[null,null,null,null,3,1,1,149.27296662952622,"Oblique",0.25,"OK",2.1973324752595431,11,null,null,null,27,5623,6300,7079]
[null,null,null,null,1,1,2,149.46626454589051,"Oblique",0.25,"RED",0.19329791636428695,11,null,null,null,28,7079,8000,8913]
[null,null,null,null,3,2,0,152.50016446126537,"Tangential",0.5,"OK",3.0338999153748603,11,null,null,null,29,8913,10000,11220]
[null,null,null,null,1,3,1,152.89881852808529,"Oblique",0.25,"RED",0.39865406681991544,11,null,null,null,30,11220,12500,14130]
[null,null,null,null,2,3,0,154.729017959717,"Tangential",0.5,"OK",1.8301994316317121,11,null,null,null,31,14130,16000,17780]
[null,null,null,null,2,0,2,160.30228807006583,"Tangential",0.5,"OK",5.5732701103488296,11,null,null,null,32,17780,20000,22390]
["RT60 is not applicable to these small rooms. The mean free time is calculated instead from the mean free path. ",null,null,null,0,2,2,162.0019710711901,"Tangential",0.5,"OK",1.6996830011242707,11]
[null,null,null,null,2,1,2,166.07403130386191,"Oblique",0.25,"OK",4.0720602326718165,11]
[null,null,null,null,3,2,1,167.13377727267735,"Oblique",0.25,"OK",1.0597459688154345,11]
[null,null,null,null,4,0,0,167.17925925925925,"Axial",1,"RED",4.5481986581904721E-2,11]
[null,null,null,null,1,2,2,167.30644092907892,"Oblique",0.25,"RED",0.12718166981966306,11]
[null,null,null,null,2,3,1,169.16993924305331,"Oblique",0.25,"OK",1.8634983139743895,11]
[null,null,null,null,4,1,0,172.72135085012616,"Tangential",0.5,"OK",3.5514116070728505,11]
[null,null,null,null,0,4,0,173.60923076923078,"Axial",1,"RED",0.88787991910461983,11]
[null,null,null,null,1,4,0,178.56923462256506,"Tangential",0.5,"OK",4.9600038533342854,12]
[null,null,null,null,4,0,1,180.62752855308227,"Tangential",0.5,"OK",2.058293930517209,12]
[null,null,null,null,3,3,0,180.76255620509946,"Tangential",0.5,"RED",0.13502765201718603,12]
[null,null,null,null,2,2,2,182.29609105126028,"Oblique",0.25,"OK",1.5335348461608191,12]
[null,null,null,null,3,0,2,185.55553424115834,"Tangential",0.5,"OK",3.2594431898980645,12]
[null,null,null,null,4,1,1,185.76884664607331,"Oblique",0.25,"RED",0.21331240491497283,12]
[null,null,null,null,0,4,1,186.59465253056948,"Tangential",0.5,"RED",0.82580588449616243,12]
[null,null,null,null,4,2,0,188.37182904708874,"Tangential",0.5,"OK",1.7771765165192619,12]
[null,null,null,null,0,3,2,188.84766399412908,"Tangential",0.5,"RED",0.47583494704034024,12]
[null,null,null,null,3,1,2,190.5639436004079,"Oblique",0.25,"OK",1.7162796062788175,12]
[null,null,null,null,1,4,1,191.21812387534979,"Oblique",0.25,"RED",0.65418027494189346,12]
[null,null,null,null,2,4,0,192.68469370944516,"Tangential",0.5,"OK",1.4665698340953668,12]
[null,null,null,null,3,3,1,193.26795148322361,"Oblique",0.25,"RED",0.58325777377845611,12]
[null,null,null,null,1,3,2,193.41728656313049,"Oblique",0.25,"RED",0.14933507990687644,12]
[null,null,null,null,4,2,1,200.40295737155566,"Oblique",0.25,"OK",6.9856708084251693,12]
[null,null,null,null,2,4,1,204.46219830233318,"Oblique",0.25,"OK",4.0592409307775199,12]
[null,null,null,null,3,2,2,204.85579693919499,"Oblique",0.25,"RED",0.39359863686181029,12]
[null,null,null,null,0,0,3,205.17454545454547,"Axial",1,"RED",0.3187485153504781,12]
[null,null,null,null,2,3,2,206.52037763295448,"Oblique",0.25,"OK",1.3458321784090117,12]
[null,null,null,null,5,0,0,208.97407407407408,"Axial",1,"OK",2.4536964411196038,12]
[null,null,null,null,1,0,3,209.38815785016118,"Tangential",0.5,"RED",0.41408377608709657,12]
[null,null,null,null,0,1,3,209.71493608109341,"Tangential",0.5,"RED",0.32677823093223424,12]
[null,null,null,null,4,3,0,211.90268413503966,"Tangential",0.5,"OK",2.187748053946251,12]
[null,null,null,null,5,1,0,213.433652332837,"Tangential",0.5,"OK",1.5309681977973355,12]
[null,null,null,null,1,1,3,{"$f":"$D$5*SQRT((($E67/$D$2)^2)+(($F67/$D$3)^2)+(($G67/$D$4)^2))","v":213.83910063620672},{"$f":"+IF(+AND(E67=0,F67=0)+OR(+AND(E67=0,G67=0))+OR(+AND(F67=0,G67=0)),\"Axial\",(+IF(+OR(E67=0,F67=0,G67=0),\"Tangential\",\"Oblique\")))","v":"Oblique"},0.25,"RED",0.40544830336972382,12]
[null,null,null,null,3,4,0,214.15280506434186,"Tangential",{"$f":"IF(I68=\"Axial\",1,IF(I68=\"Tangential\",0.5,IF(I68=\"Oblique\",0.25,\"\")))","v":0.5},"RED",0.31370442813513932,{"$f":"IF(H68<17.8,1,IF(H68<=22.4,2,IF(H68<=28.2,3,IF(H68<=35.5,4,IF(H68<=44.7,5,IF(H68<=56.2,6,IF(H68<=70.8,7,IF(H68<=89.1,8,IF(H68<=112,9,IF(H68<=141,10,IF(H68<=178,11,IF(H68<=224,12,IF(H68<=282,13,IF(H68<=355,14,IF(H68<=447,15,IF(H68<=562,16,IF(H68<=708,17,IF(H68<=891,18,IF(H68<=1122,19,IF(H68<=1413,20,IF(H68<=1778,21,IF(H68<=2239,22,IF(H68<=2818,23,IF(H68<=3548,24,IF(H68<=4467,25,IF(H68<=5623,26,IF(H68<=7079,27,IF(H68<=8913,28,IF(H68<=11220,29,IF(H68<=14130,30,IF(H68<=17780,31,IF(H68<=22390,32,))))))))))))))))))))))))))))))))","v":12}]
[null,null,null,null,4,0,2,216.00579183289122,"Tangential",0.5,{"$f":"IF((H69-H68)<1,\"RED\",\"OK\")","v":"OK"},{"$f":"H69-H68","v":1.8529867685493571},12]
[null,null,null,null,0,5,0,217.01153846153849,"Axial",1,"OK",1.0057466286472732,12]
[null,null,null,null,5,0,1,219.88079265783202,"Tangential",0.5,"OK",2.8692541962935252,12]
[null,null,null,null,4,1,2,220.32308643982836,"Oblique",0.25,"RED",0.44229378199634084,12]
[null,null,null,null,1,5,0,220.99958002414496,"Tangential",0.5,"RED",0.67649358431660289,12]
[null,null,null,null,0,4,2,221.01982351627134,"Tangential",0.5,"RED",2.0243492126382989E-2,12]
[null,null,null,null,2,0,3,221.54868603559353,"Tangential",0.5,"RED",0.52886251932218897,12,{"$f":"0.16*(($D$8/$N$102)^(1/2))","v":2.0091449939197807}]
[null,null,null,null,4,3,1,222.66599850079112,"Oblique",0.25,"OK",1.1173124651975854,12]
[null,null,null,null,0,2,3,222.78158665955846,"Tangential",0.5,"RED",0.11558815876733775,12]
[null,null,null,null,5,1,1,224.1234554723228,"Oblique",0.25,"OK",1.3418688127643463,13]
[null,null,null,null,3,4,1,224.80841457037576,"Oblique",0.25,"RED",0.68495909805295696,13]
[null,null,null,null,1,4,2,224.93681097714619,"Oblique",0.25,"RED",0.12839640677043462,13]
[null,null,null,null,2,1,3,225.760006637836,"Oblique",0.25,"RED",0.82319566068980521,13]
[null,null,null,null,5,2,0,226.28567097186601,"Tangential",0.5,"RED",0.52566433403001156,13]
[null,null,null,null,1,2,3,226.66813163732351,"Oblique",0.25,"RED",0.38246066545750068,13]
[null,null,null,null,3,3,2,226.6819337853845,"Oblique",0.25,"RED",1.3802148060989339E-2,13]
[null,null,null,null,0,5,1,227.53331002331004,"Tangential",0.5,"RED",0.85137623792553541,13]
[null,null,null,null,1,5,1,231.34003915355504,"Oblique",0.25,"OK",3.806729130245003,13]
[null,null,null,null,2,5,0,232.55372284068568,"Tangential",0.5,"OK",1.21368368713064,13]
[null,null,null,null,4,2,2,232.79506729616358,"Oblique",0.25,"RED",0.24134445547790051,13]
[null,null,null,null,2,4,2,236.29851579894105,"Oblique",0.25,"OK",3.5034485027774735,13]
[null,null,null,null,5,2,1,236.39501735846196,"Oblique",0.25,"RED",9.6501559520902447E-2,13]
[null,null,null,null,2,2,3,237.94718224044806,"Oblique",0.25,"OK",1.5521648819861014,13]
[null,null,null,null,3,0,3,240.4534321050987,"Tangential",0.5,"OK",2.5062498646506413,13]
[null,null,null,null,4,4,0,241.01674160679926,"Tangential",0.5,"RED",0.56330950170055871,13]
[null,null,null,null,2,5,1,242.40180146150396,"Oblique",0.25,"OK",1.385059854704707,13]
[null,null,null,null,0,3,3,243.00295660678515,"Tangential",0.5,"RED",0.60115514528118297,13,null,null,null,"Transition/Diffusive Region"]
[null,null,null,null,3,1,3,244.33913588317995,"Oblique",0.25,"OK",1.3361792763948017,13,"|-------","Wave Region"," ------|------",null," ------|------","Ray Region"," ------|"]
[null,null,null,null,5,3,0,246.21942744689414,"Tangential",0.5,"OK",1.880291563714195,13,"F¹",null,"F²",null,"F³",null,"Fⁿ"]
[null,null,null,null,1,3,3,246.57097044267755,"Oblique",0.25,"RED",0.35154299578340442,13,{"$f":"565/D2","v":41.851851851851855},null,{"$f":"(SQRT(N102/D7))*11885","v":159.26866255398832},null,{"$f":"4*P98","v":637.07465021595328},null,20000]
[null,null,null,null,5,0,2,249.75940625729453,"Tangential",0.5,"OK",3.1884358146169802,13,"LF cutoff",null,"(Schroeder Frequency)",null,null,null,"HF cutoff"]
[null,null,null,null,4,4,1,250.53237132051134,"Oblique",0.25,"RED",0.77296506321681591,13,{"$f":"((SQRT(2))*(565/D2))","v":59.187456499318429},"<--This should be the LF cut-off of the speaker system if ported speakers are used"]
[null,null,null,null,3,5,0,250.62974032242414,"Tangential",0.5,"RED",9.7369001912795738E-2,13,"MEAN FREE TIMES",null,"Permissible rise from 200 Hz @ 63 Hz",null,{"$f":"((((344/R98)/4)*1000)*2)*0.0393700787401574","v":10.629293664426362},"Maximum depth for Schroeder 1D diffusor"]
[null,null,null,null,6,0,0,250.76888888888888,"Axial",1,"RED",0.1391485664647405,13,{"$f":"0.35*((D8/100)^(1/3))","v":0.260011982996601},"Maximum",{"$f":"(N102*0.25)+N102","v":0.32501497874575125},null,{"$f":"(SQRT(2))*P98","v":225.23990264487421},"We don't want any problematic resonances below this frequency"]
[null,null,null,null,4,3,2,252.21487847173904,"Oblique",0.25,"OK",1.4459895828501601,13,{"$f":"N102","v":0.260011982996601},"Balance spec.",{"$f":"(SQRT(N103/D7))*11250","v":150.75914629637094},"Schroeder @ spec",{"$f":"P103/2","v":75.379573148185472},"<---- Maximum inner shell MAM resonance"]
[null,null,null,null,5,1,2,253.50250753594935,"Oblique",0.25,"OK",1.2876290642103072,13,"Critical Distance - Dmin",{"$f":"(N75*1000)*0.039370078740157","v":79.100196611014027},"For control rooms, this is the circumference of the 'sweet-spot' - or best listening position"]
[null,null,null,null,3,4,2,254.10828655477906,"Oblique",0.25,"RED",0.60577901882970764,13]
[null,null,null,null,6,1,0,254.49714329945957,"Tangential",0.5,"RED",0.38885674468050979,13]
[null,null,null,null,5,3,1,255.54139742318912,"Oblique",0.25,"OK",1.0442541237295586,13,"see the Ratios tab for best room ratios + more information"]
[null,null,null,null,3,2,3,255.64212145730664,"Oblique",0.25,"RED",0.10072403411751907,13]
[null,null,null,null,0,5,2,256.52213394622208,"Tangential",0.5,"RED",0.88001248891544037,13]
[null,null,null,null,2,3,3,256.9779428302316,"Oblique",0.25,"RED",0.4558088840095138,13]
[null,null,null,null,3,5,1,259.79350661401389,"Oblique",0.25,"OK",2.8155637837822951,13]
[null,null,null,null,1,5,2,259.9046204855315,"Oblique",0.25,"RED",0.11111387151760255,13]
[null,null,null,null,6,0,1,259.92774953684307,"Tangential",0.5,"RED",2.3129051311570947E-2,13]
[null,null,null,null,0,6,0,260.41384615384618,"Axial",1,"RED",0.48609661700311335,13,"Temperature Centigrade",20,{"$f":"331.23 + (0.606*O114)","v":343.35}]
[null,null,null,null,6,1,1,263.52646032667303,"Oblique",0.25,"OK",3.1126141728268522,13,"Temperature Fahrinheit",{"$f":"(9/5)*(O114)+32","v":68},{"$f":"P114*3.28084","v":1126.476414}]
[null,null,null,null,1,6,0,263.74642711142786,"Tangential",0.5,"RED",0.21996678475483122,13]
[null,null,null,null,5,2,2,264.41407350227655,"Oblique",0.25,"RED",0.66764639084868804,13]
[null,null,null,null,4,0,3,264.66110184338379,"Tangential",0.5,"RED",0.2470283411072387,13,"All Modes",null,null,"Wavelength",null,"Poly Diameter","Poly Radius","Poly Depth"]
[null,null,null,null,6,2,0,265.36781433821039,"Tangential",0.5,"RED",0.70671249482660414,13,"nx","ny","nz","f","Type","DIFFRACTION/SCATTERING @"]
[null,null,null,null,4,1,3,268.19630709980277,"Oblique",0.25,"OK",2.8284927615923721,13,0,1,0,{"$f":"$D$5*SQRT(((N120/$D$2)^2)+((O120/$D$3)^2)+((P120/$D$4)^2))","v":43.402307692307694},{"$f":"+IF(+AND(N120=0,O120=0)+OR(+AND(N120=0,P120=0))+OR(+AND(O120=0,P120=0)),\"Axial\",(+IF(+OR(N120=0,O120=0,P120=0),\"Tangential\",\"Oblique\")))","v":"Axial"},{"$f":"((1128.48*12)*2)/Q120","v":624.01105931978088},{"$f":"S120/2","v":312.00552965989044},{"$f":"T120*0.0317224829","v":9.8975900793413185}]
[null,null,null,null,0,4,3,268.76896976913719,"Tangential",0.5,"RED",0.57266266933442012,13]
[null,null,null,null,0,6,1,269.24481538807572,"Tangential",0.5,"RED",0.47584561893853561,13,"Slat Diffraction Frequency, both width and gap"]
[null,null,null,null,2,5,2,269.7977601573856,"Oblique",0.25,"RED",0.55294476930987457,13,null,"Full","1/2 wave","1/4 wave"]
[null,null,null,null,5,4,0,271.6805636099142,"Tangential",0.5,"OK",1.8828034525286057,13,0.75,{"$f":"1126.48/(N124/12)","v":18023.68},{"$f":"O124/2","v":9011.84},{"$f":"P124/2","v":4505.92}]
[null,null,null,null,1,4,3,271.99920157266644,"Oblique",0.25,"RED",0.31863796275223422,13,1.5,{"$f":"1126.48/(N125/12)","v":9011.84},{"$f":"O125/2","v":4505.92},2252.96]
[null,null,null,null,1,6,1,272.46940591333123,"Oblique",0.25,"RED",0.47020434066479311,13,2,{"$f":"1126.48/(N126/12)","v":6758.88},3379.44,1689.72]
[null,null,null,null,3,3,3,273.4441365768904,"Oblique",0.25,"RED",0.97473066355917126,13,4,3379.44,1689.72,844.86]
[null,null,null,null,2,6,0,273.5006351916897,"Tangential",0.5,"RED",5.649861479929541E-2,13,6,2252.96,1126.48,563.24]
[null,null,null,null,0,0,4,273.5660606060606,"Axial",1,"RED",6.5425414370906765E-2,13,8,1689.72,844.86,422.43]
[null,null,null,null,4,5,0,273.93961479114046,"Tangential",0.5,"RED",0.37355418507985405,13,10,1351.7760000000001,675.88800000000003,337.94400000000002]
[null,null,null,null,6,2,1,{"$f":"$D$5*SQRT((($E131/$D$2)^2)+(($F131/$D$3)^2)+(($G131/$D$4)^2))","v":274.03918740092416},{"$f":"+IF(+AND(E131=0,F131=0)+OR(+AND(E131=0,G131=0))+OR(+AND(F131=0,G131=0)),\"Axial\",(+IF(+OR(E131=0,F131=0,G131=0),\"Tangential\",\"Oblique\")))","v":"Oblique"},0.25,"RED",9.9572609783706412E-2,13,12,1126.48,563.24,281.62]
[null,null,null,null,1,0,4,276.74030436660922,"Tangential",{"$f":"IF(I132=\"Axial\",1,IF(I132=\"Tangential\",0.5,IF(I132=\"Oblique\",0.25,\"\")))","v":0.5},"OK",2.7011169656850598,{"$f":"IF(H132<17.8,1,IF(H132<=22.4,2,IF(H132<=28.2,3,IF(H132<=35.5,4,IF(H132<=44.7,5,IF(H132<=56.2,6,IF(H132<=70.8,7,IF(H132<=89.1,8,IF(H132<=112,9,IF(H132<=141,10,IF(H132<=178,11,IF(H132<=224,12,IF(H132<=282,13,IF(H132<=355,14,IF(H132<=447,15,IF(H132<=562,16,IF(H132<=708,17,IF(H132<=891,18,IF(H132<=1122,19,IF(H132<=1413,20,IF(H132<=1778,21,IF(H132<=2239,22,IF(H132<=2818,23,IF(H132<=3548,24,IF(H132<=4467,25,IF(H132<=5623,26,IF(H132<=7079,27,IF(H132<=8913,28,IF(H132<=11220,29,IF(H132<=14130,30,IF(H132<=17780,31,IF(H132<=22390,32,))))))))))))))))))))))))))))))))","v":13},14,965.5542857142857,482.77714285714285,241.38857142857142]
[null,null,null,null,0,1,4,276.98763479357086,"Tangential",0.5,{"$f":"IF((H133-H132)<1,\"RED\",\"OK\")","v":"RED"},{"$f":"H133-H132","v":0.2473304269616392},13,16,844.86,422.43,211.215]
[null,null,null,null,4,4,2,277.12572438089967,"Oblique",0.25,"RED",0.13808958732880683,13,18,750.98666666666668,375.49333333333334,187.74666666666667]
[null,null,null,null,4,2,3,278.53283483464742,"Oblique",0.25,"OK",1.4071104537477481,13,20,675.88800000000003,337.94400000000002,168.97200000000001]
[null,null,null,null,1,1,4,280.12310931792337,"Oblique",0.25,"OK",1.5902744832759481,13,22,614.44363636363641,307.22181818181821,153.6109090909091]
[null,null,null,null,5,4,1,280.15661332212119,"Oblique",0.25,"RED",3.3504004197823178E-2,13,24,563.24,281.62,140.81]
[null,null,null,null,2,4,3,281.46755637618708,"Oblique",0.25,"OK",1.3109430540658877,13,26,519.91384615384618,259.95692307692309,129.97846153846154]
[null,null,null,null,5,3,2,281.66221583868162,"Oblique",0.25,"RED",0.19465946249454191,13,28,482.77714285714285,241.38857142857142,120.69428571428571]
[null,null,null,null,2,6,1,281.92196933722221,"Oblique",0.25,"RED",0.25975349854059004,13,30,450.59199999999998,225.29599999999999,112.648]
[null,null,null,null,4,5,1,282.34785619274379,"Oblique",0.25,"RED",0.42588685552158267,14,32,422.43,{"$f":"O141/2","v":211.215},105.6075]
[null,null,null,null,6,3,0,282.55774357063308,"Tangential",0.5,"RED",0.20988737788928802,14,36,375.49333333333334,187.74666666666667,93.873333333333335]
[null,null,null,null,3,5,2,285.52559274601896,"Oblique",0.25,"OK",2.9678491753858793,14,38,355.73052631578952,177.86526315789476,88.93263157894738]
[null,null,null,null,6,0,2,285.64774288176619,"Tangential",0.5,"RED",0.12215013574723343,14,40,337.94400000000002,168.97200000000001,84.486000000000004]
[null,null,null,null,2,0,4,286.05177100856667,"Tangential",0.5,"RED",0.40402812680048328,14,42,321.85142857142858,160.92571428571429,80.462857142857146]
[null,null,null,null,0,2,4,287.00771900349622,"Tangential",0.5,"RED",0.95594799492954508,14,46,293.86434782608694,146.93217391304347,73.466086956521735]
[null,null,null,null,6,1,2,288.92627662859837,"Oblique",0.25,"OK",1.918557625102153,14,48,281.62,140.81,70.405000000000001]
[null,null,null,null,3,6,0,289.02704056416775,"Tangential",0.5,"RED",0.10076393556937546,14]
[null,null,null,null,2,1,4,289.32572649205468,"Oblique",0.25,"RED",0.29868592788693604,14]
[null,null,null,null,1,2,4,290.0348898201637,"Oblique",0.25,"RED",0.70916332810901395,14]
[null,null,null,null,6,3,1,290.71683438777256,"Oblique",0.25,"RED",0.68194456760886624,14]
[null,null,null,null,7,0,0,292.56370370370371,"Axial",1,"OK",1.8468693159311442,14]
[null,null,null,null,5,0,3,292.85962121398018,"Tangential",0.5,"RED",0.29591751027646751,14]
[null,null,null,null,0,6,2,294.15126830853336,"Tangential",0.5,"OK",1.2916470945531842,14]
[null,null,null,null,4,3,3,294.95650805858435,"Oblique",0.25,"RED",0.80523975005098691,14]
[null,null,null,null,7,1,0,295.7655846068746,"Tangential",0.5,"RED",0.80907654829024978,14]
[null,null,null,null,5,1,3,296.05830177621044,"Oblique",0.25,"RED",0.29271716933584457,14]
[null,null,null,null,3,4,3,296.57717042855029,"Oblique",0.25,"RED",0.51886865233984736,14]
[null,null,null,null,3,6,1,297.00846708806296,"Oblique",0.25,"RED",0.43129665951266816,14]
[null,null,null,null,1,6,2,297.10566334710529,"Oblique",0.25,"RED",9.7196259042334532E-2,14]
[null,null,null,null,6,2,2,298.54593325905245,"Oblique",0.25,"OK",1.4402699119471549,14]
[null,null,null,null,0,5,3,298.64795651054288,"Tangential",0.5,"RED",0.10202325149043645,14]
[null,null,null,null,2,2,4,298.93252909178102,"Oblique",0.25,"RED",0.28457258123813745,14]
[null,null,null,null,7,0,1,300.45119415563732,"Tangential",0.5,"OK",1.5186650638563037,14]
[null,null,null,null,3,0,4,300.93130183508799,"Tangential",0.5,"RED",0.48010767945066846,14]
[null,null,null,null,5,5,0,301.27092700849909,"Tangential",0.5,"RED",0.33962517341109333,14]
[null,null,null,null,1,5,3,301.5583002892273,"Oblique",0.25,"RED",0.28737328072821811,14]
[null,null,null,null,0,3,4,302.97232931850164,"Tangential",0.5,"OK",1.4140290292743316,14]
[null,null,null,null,7,1,1,303.5698937354727,"Oblique",0.25,"RED",0.59756441697106766,14]
[null,null,null,null,0,7,0,303.81615384615384,"Axial",1,"RED",0.24626011068113485,14]
[null,null,null,null,3,1,4,304.04507681786026,"Oblique",0.25,"RED",0.22892297170642451,14]
[null,null,null,null,5,4,2,304.17088292977741,"Oblique",0.25,"RED",0.12580611191714297,14]
[null,null,null,null,6,4,0,305.00032892253074,"Tangential",0.5,"RED",0.8294459927533353,14]
[null,null,null,null,7,2,0,305.16972650788864,"Tangential",0.5,"RED",0.16939758535789906,14]
[null,null,null,null,5,2,3,305.45343178570926,"Oblique",0.25,"RED",0.28370527782061572,14]
[null,null,null,null,2,6,2,305.79763705617057,"Oblique",0.25,"RED",0.3442052704613161,14]
[null,null,null,null,1,3,4,305.84152575816654,"Oblique",0.25,"RED",4.3888701995967949E-2,14]
[null,null,null,null,4,5,2,306.19031652029446,"Oblique",0.25,"RED",0.34879076212791915,14]
[null,null,null,null,1,7,0,306.67745577931629,"Tangential",0.5,"RED",0.48713925902183064,14]
[null,null,null,null,5,5,1,308.93619212594746,"Oblique",0.25,"OK",2.2587363466311672,14]
[null,null,null,null,4,6,0,309.458035919434,"Tangential",0.5,"RED",0.5218437934865392,14]
[null,null,null,null,2,5,3,310.12550380376945,"Oblique",0.25,"RED",0.66746788433545134,14]
[null,null,null,null,0,7,1,311.41877702314252,"Tangential",0.5,"OK",1.2932732193730772,14]
[null,null,null,null,6,4,1,312.57415118267841,"Oblique",0.25,"OK",1.1553741595358815,14]
[null,null,null,null,7,2,1,312.73944637928145,"Oblique",0.25,"RED",0.16529519660304004,14]
[null,null,null,null,3,2,4,313.20071787311059,"Oblique",0.25,"RED",0.46127149382914467,14]
[null,null,null,null,6,3,2,313.92431544977103,"Oblique",0.25,"RED",0.72359757666043834,14]
[null,null,null,null,1,7,1,314.21085472655847,"Oblique",0.25,"RED",0.28653927678743685,14]
[null,null,null,null,2,3,4,314.29199562556039,"Oblique",0.25,"RED",8.1140899001923117E-2,14]
[null,null,null,null,2,7,0,315.10550855148256,"Tangential",0.5,"RED",0.81351292592216851,14]
[null,null,null,null,4,4,3,316.52119018675199,"Oblique",0.25,"OK",1.4156816352694364,14]
[null,null,null,null,4,6,1,316.92534663518734,"Oblique",0.25,"RED",0.40415644843534437,14]
[null,null,null,null,3,6,2,319.7596402865139,"Oblique",0.25,"OK",2.8342936513265613,14]
[null,null,null,null,7,3,0,320.23017275389321,"Tangential",0.5,"RED",0.47053246737931431,14]
[null,null,null,null,5,3,3,{"$f":"$D$5*SQRT((($E195/$D$2)^2)+(($F195/$D$3)^2)+(($G195/$D$4)^2))","v":320.50054688682781},{"$f":"+IF(+AND(E195=0,F195=0)+OR(+AND(E195=0,G195=0))+OR(+AND(F195=0,G195=0)),\"Axial\",(+IF(+OR(E195=0,F195=0,G195=0),\"Tangential\",\"Oblique\")))","v":"Oblique"},0.25,"RED",0.27037413293459167,14]
[null,null,null,null,4,0,4,320.60457614013166,"Tangential",{"$f":"IF(I196=\"Axial\",1,IF(I196=\"Tangential\",0.5,IF(I196=\"Oblique\",0.25,\"\")))","v":0.5},"RED",0.1040292533038496,{"$f":"IF(H196<17.8,1,IF(H196<=22.4,2,IF(H196<=28.2,3,IF(H196<=35.5,4,IF(H196<=44.7,5,IF(H196<=56.2,6,IF(H196<=70.8,7,IF(H196<=89.1,8,IF(H196<=112,9,IF(H196<=141,10,IF(H196<=178,11,IF(H196<=224,12,IF(H196<=282,13,IF(H196<=355,14,IF(H196<=447,15,IF(H196<=562,16,IF(H196<=708,17,IF(H196<=891,18,IF(H196<=1122,19,IF(H196<=1413,20,IF(H196<=1778,21,IF(H196<=2239,22,IF(H196<=2818,23,IF(H196<=3548,24,IF(H196<=4467,25,IF(H196<=5623,26,IF(H196<=7079,27,IF(H196<=8913,28,IF(H196<=11220,29,IF(H196<=14130,30,IF(H196<=17780,31,IF(H196<=22390,32,))))))))))))))))))))))))))))))))","v":14}]
[null,null,null,null,2,7,1,322.4420581503108,"Oblique",0.25,{"$f":"IF((H197-H196)<1,\"RED\",\"OK\")","v":"OK"},{"$f":"H197-H196","v":1.8374820101791443},14]
[null,null,null,null,7,0,2,322.95993265993263,"Tangential",0.5,"RED",0.51787450962183357,14]
[null,null,null,null,4,1,4,323.52906292172764,"Oblique",0.25,"RED",0.56913026179501003,14]
[null,null,null,null,3,5,3,323.90100468594585,"Oblique",0.25,"RED",0.37194176421820657,14]
[null,null,null,null,0,4,4,324.0039421423802,"Tangential",0.5,"RED",0.10293745643434704,14]
[null,null,null,null,6,0,3,324.00868774933679,"Tangential",0.5,"RED",4.7456069565896541E-3,14]
[null,null,null,null,7,1,2,325.86328178658914,"Oblique",0.25,"OK",1.8545940372523546,14]
[null,null,null,null,1,4,4,326.68847709891384,"Oblique",0.25,"RED",0.8251953123246949,14]
[null,null,null,null,6,1,3,326.90272261035847,"Oblique",0.25,"RED",0.21424551144463067,14]
[null,null,null,null,7,3,1,327.45192454268494,"Oblique",0.25,"RED",0.54920193232646852,14]
[null,null,null,null,3,3,4,327.89249951976728,"Oblique",0.25,"RED",0.44057497708234905,14]
[null,null,null,null,3,7,0,328.6723509005767,"Tangential",0.5,"RED",0.77985138080941852,14]
[null,null,null,null,5,5,2,330.86820463658955,"Oblique",0.25,"OK",2.1958537360128503,14]
[null,null,null,null,0,6,3,331.52973527440702,"Tangential",0.5,"RED",0.66153063781746368,14]
[null,null,null,null,6,5,0,331.63088435791337,"Tangential",0.5,"RED",0.10114908350635687,14]
[null,null,null,null,4,2,4,332.14806260772383,"Oblique",0.25,"RED",0.51717824981045624,14]
[null,null,null,null,0,7,2,333.18741380302697,"Tangential",0.5,"OK",1.0393511953031407,14]
[null,null,null,null,5,6,0,333.89449666587149,"Tangential",0.5,"RED",0.7070828628445156,14]
[null,null,null,null,1,6,3,334.15381475680192,"Oblique",0.25,"RED",0.25931809093043512,14]
[null,null,null,null,6,4,2,334.2675545453547,"Oblique",0.25,"RED",0.11373978855277755,14]
[null,null,null,null,8,0,0,334.35851851851851,"Axial",1,"RED",9.0963973163809442E-2,14]
[null,null,null,null,7,2,2,334.4221274912581,"Oblique",0.25,"RED",6.3608972739586989E-2,14]
[null,null,null,null,2,4,4,334.61288185815783,"Oblique",0.25,"RED",0.19075436689973913,14]
[null,null,null,null,6,2,3,335.43504734764713,"Oblique",0.25,"RED",0.82216548948929358,14]
[null,null,null,null,3,7,1,335.71254607361897,"Oblique",0.25,"RED",0.27749872597183867,14]
[null,null,null,null,1,7,2,335.7985396962801,"Oblique",0.25,"RED",8.5993622661135305E-2,14]
[null,null,null,null,8,1,0,337.16372761451703,"Tangential",0.5,"OK",1.3651879182369271,14]
[null,null,null,null,4,6,2,338.33987848610661,"Oblique",0.25,"OK",1.1761508715895843,14]
[null,null,null,null,6,5,1,338.60957281909742,"Oblique",0.25,"RED",0.26969433299080947,14]
[null,null,null,null,7,4,0,340.19653986058199,"Tangential",0.5,"OK",1.58696704148457,14]
[null,null,null,null,5,4,3,340.45105778346459,"Oblique",0.25,"RED",0.25451792288259867,14]
[null,null,null,null,5,6,1,340.82683909644726,"Oblique",0.25,"RED",0.37578131298266726,14]
[null,null,null,null,8,0,1,341.28143554934019,"Tangential",0.5,"RED",0.45459645289292894,14]
[null,null,null,null,2,6,3,341.90523767959024,"Oblique",0.25,"RED",0.6238021302500556,14]
[null,null,null,null,0,0,5,341.9575757575758,"Axial",1,"RED",5.23380779855529E-2,14]
[null,null,null,null,4,5,3,342.25649249414943,"Oblique",0.25,"RED",0.29891673657363071,14]
[null,null,null,null,2,7,2,343.51285114005299,"Oblique",0.25,"OK",1.2563586459035605,14]
[null,null,null,null,8,1,1,344.03020007498782,"Oblique",0.25,"RED",0.51734893493483014,14]
[null,null,null,null,5,0,4,344.25071263635084,"Tangential",0.5,"RED",0.220512561363023,14]
[null,null,null,null,1,0,5,344.50223535327433,"Tangential",0.5,"RED",0.25152271692348904,14]
[null,null,null,null,0,1,5,344.70094854963185,"Tangential",0.5,"RED",0.19871319635751661,14]
[null,null,null,null,8,2,0,345.44270170025231,"Tangential",0.5,"RED",0.7417531506204682,14]
[null,null,null,null,4,3,4,346.03632332336622,"Oblique",0.25,"RED",0.59362162311390421,14]
[null,null,null,null,4,7,0,346.77537407426212,"Tangential",0.5,"RED",0.739050750895899,14]
[null,null,null,null,5,1,4,346.97595516642531,"Oblique",0.25,"RED",0.20058109216319053,14]
[null,null,null,null,7,4,1,347.00300442191059,"Oblique",0.25,"RED",2.704925548528081E-2,14]
[null,null,null,null,0,8,0,347.21846153846155,"Axial",1,"RED",0.21545711655096511,14]
[null,null,null,null,1,1,5,347.22550378164993,"Oblique",0.25,"RED",7.0422431883798708E-3,14]
[null,null,null,null,3,4,4,347.41878681563099,"Oblique",0.25,"RED",0.19328303398106073,14]
[null,null,null,null,7,3,2,348.21970208600777,"Oblique",0.25,"RED",0.80091527037677679,14]
[null,null,null,null,0,5,4,349.18819759688705,"Tangential",0.5,"RED",0.96849551087927921,14]
[null,null,null,null,6,3,3,349.19260094424544,"Oblique",0.25,"RED",4.4033473583908744E-3,14]
[null,null,null,null,1,8,0,349.72484409681385,"Tangential",0.5,"RED",0.53224315256841237,14]
[null,null,null,null,1,5,4,351.68054237669628,"Oblique",0.25,"OK",1.9556982798824265,14]
[null,null,null,null,2,0,5,352.02586524233817,"Tangential",0.5,"RED",0.34532286564189008,14]
[null,null,null,null,8,2,1,352.1477807720637,"Oblique",0.25,"RED",0.12191552972552699,14]
[null,null,null,null,0,2,5,352.80309645759803,"Tangential",0.5,"RED",0.65531568553433317,14]
[null,null,null,null,4,7,1,353.45517312534048,"Oblique",0.25,"RED",0.65207666774244899,14]
[null,null,null,null,0,8,1,353.88989725316554,"Tangential",0.5,"RED",0.43472412782506353,14]
[null,null,null,null,3,6,3,354.44777369841159,"Oblique",0.25,"RED",0.55787644524605184,14]
[null,null,null,null,2,1,5,354.69137304512299,"Oblique",0.25,"RED",0.24359934671139172,14]
[null,null,null,null,5,2,4,355.02618833363044,"Oblique",0.25,"RED",0.3348152885074569,15]
[null,null,null,null,1,2,5,{"$f":"$D$5*SQRT((($E259/$D$2)^2)+(($F259/$D$3)^2)+(($G259/$D$4)^2))","v":355.27008235351576},{"$f":"+IF(+AND(E259=0,F259=0)+OR(+AND(E259=0,G259=0))+OR(+AND(F259=0,G259=0)),\"Axial\",(+IF(+OR(E259=0,F259=0,G259=0),\"Tangential\",\"Oblique\")))","v":"Oblique"},0.25,"RED",0.24389401988531745,15]
[null,null,null,null,3,7,2,355.99875228066668,"Oblique",{"$f":"IF(I260=\"Axial\",1,IF(I260=\"Tangential\",0.5,IF(I260=\"Oblique\",0.25,\"\")))","v":0.25},"RED",0.72866992715091783,{"$f":"IF(H260<17.8,1,IF(H260<=22.4,2,IF(H260<=28.2,3,IF(H260<=35.5,4,IF(H260<=44.7,5,IF(H260<=56.2,6,IF(H260<=70.8,7,IF(H260<=89.1,8,IF(H260<=112,9,IF(H260<=141,10,IF(H260<=178,11,IF(H260<=224,12,IF(H260<=282,13,IF(H260<=355,14,IF(H260<=447,15,IF(H260<=562,16,IF(H260<=708,17,IF(H260<=891,18,IF(H260<=1122,19,IF(H260<=1413,20,IF(H260<=1778,21,IF(H260<=2239,22,IF(H260<=2818,23,IF(H260<=3548,24,IF(H260<=4467,25,IF(H260<=5623,26,IF(H260<=7079,27,IF(H260<=8913,28,IF(H260<=11220,29,IF(H260<=14130,30,IF(H260<=17780,31,IF(H260<=22390,32,))))))))))))))))))))))))))))))))","v":15}]
[null,null,null,null,1,8,1,356.34935936979133,"Oblique",0.25,{"$f":"IF((H261-H260)<1,\"RED\",\"OK\")","v":"RED"},{"$f":"H261-H260","v":0.35060708912465088},15]
[null,null,null,null,2,8,0,357.13846924513012,"Tangential",0.5,"RED",0.78910987533879506,15]
[null,null,null,null,7,0,3,357.33753626971219,"Tangential",0.5,"RED",0.19906702458206382,15]
[null,null,null,null,6,5,2,358.73199026416842,"Oblique",0.25,"OK",1.394453994456228,15]
[null,null,null,null,8,3,0,358.81675228876685,"Tangential",0.5,"RED",8.4762024598433072E-2,15]
[null,null,null,null,2,5,4,359.05378917730593,"Oblique",0.25,"RED",0.23703688853908034,15]
[null,null,null,null,7,1,3,359.96371364392496,"Oblique",0.25,"RED",0.90992446661903159,15]
[null,null,null,null,5,6,2,360.82562586744774,"Oblique",0.25,"RED",0.86191222352277919,15]
[null,null,null,null,8,0,2,361.25505710616454,"Tangential",0.5,"RED",0.429431238716802,15]
[null,null,null,null,6,6,0,361.52511241019891,"Tangential",0.5,"RED",0.27005530403437206,15]
[null,null,null,null,2,2,5,362.57033945386075,"Oblique",0.25,"OK",1.0452270436618392,15]
[null,null,null,null,2,8,1,363.62794936510954,"Oblique",0.25,"OK",1.0576099112487896,15]
[null,null,null,null,8,1,2,363.85296013334283,"Oblique",0.25,"RED",0.22501076823328958,15]
[null,null,null,null,3,0,5,364.22004684893466,"Tangential",0.5,"RED",0.36708671559182449,15]
[null,null,null,null,7,5,0,364.26299366017446,"Tangential",0.5,"RED",4.2946811239801264E-2,15]
[null,null,null,null,5,5,3,364.50070721884714,"Oblique",0.25,"RED",0.23771355867268085,15]
[null,null,null,null,4,4,4,364.59218210252055,"Oblique",0.25,"RED",9.1474883673413387E-2,15]
[null,null,null,null,8,3,1,365.27641734415079,"Oblique",0.25,"RED",0.6842352416302333,15]
[null,null,null,null,0,3,5,365.908221327641,"Tangential",0.5,"RED",0.63180398349021516,15]
[null,null,null,null,0,7,3,366.60721411389216,"Tangential",0.5,"RED",0.69899278625115357,15]
[null,null,null,null,7,4,2,366.66508302808478,"Oblique",0.25,"RED",5.7868914192624743E-2,15]
[null,null,null,null,3,1,5,366.79695042306162,"Oblique",0.25,"RED",0.13186739497683675,15]
[null,null,null,null,6,4,3,367.58916570722164,"Oblique",0.25,"RED",0.79221528416002229,15]
[null,null,null,null,7,2,3,367.72973238423202,"Oblique",0.25,"RED",0.1405666770103835,15]
[null,null,null,null,6,6,1,367.937231396779,"Oblique",0.25,"RED",0.20749901254697534,15]
[null,null,null,null,5,3,4,368.05216473727631,"Oblique",0.25,"RED",0.11493334049731629,15]
[null,null,null,null,1,3,5,368.28743255854192,"Oblique",0.25,"RED",0.23526782126560875,15]
[null,null,null,null,5,7,0,368.74709351123892,"Tangential",0.5,"RED",0.45966095269699281,15]
[null,null,null,null,1,7,3,368.9819182368613,"Oblique",0.25,"RED",0.23482472562238854,15]
[null,null,null,null,3,8,0,369.1638104443312,"Tangential",0.5,"RED",0.18189220746990031,15]
[null,null,null,null,7,5,1,370.62774841475675,"Oblique",0.25,"OK",1.4639379704255475,15]
[null,null,null,null,3,5,4,371.01705654808461,"Oblique",0.25,"RED",0.38930813332785874,15]
[null,null,null,null,6,0,4,371.11106848231668,"Tangential",0.5,"RED",9.4011934232071326E-2,15]
[null,null,null,null,4,6,3,371.29620264364814,"Oblique",0.25,"RED",0.18513416133146166,15]
[null,null,null,null,8,2,2,371.53769329214663,"Oblique",0.25,"RED",0.24149064849848401,15]
[null,null,null,null,4,7,2,372.77708814145774,"Oblique",0.25,"OK",1.2393948493111111,15]
[null,null,null,null,0,8,2,373.18930506113895,"Tangential",0.5,"RED",0.41221691968121377,15]
[null,null,null,null,6,1,4,373.64044944719848,"Oblique",0.25,"RED",0.451144386059525,15]
[null,null,null,null,3,2,5,374.42126512620933,"Oblique",0.25,"RED",0.78081567901085691,15]
[null,null,null,null,5,7,1,375.03575605228144,"Oblique",0.25,"RED",0.61449092607210787,15]
[null,null,null,null,2,3,5,375.33458755725752,"Oblique",0.25,"RED",0.29883150497607858,15]
[null,null,null,null,3,8,1,375.44549309653195,"Oblique",0.25,"RED",0.1109055392744267,15]
[null,null,null,null,1,8,2,375.5223880908041,"Oblique",0.25,"RED",7.6894994272151962E-2,15]
[null,null,null,null,2,7,3,376.01605766505219,"Oblique",0.25,"RED",0.49366957424808788,15]
[null,null,null,null,9,0,0,376.15333333333331,"Axial",1,"RED",0.13727566828112003,15]
[null,null,null,null,8,4,0,376.74365809417748,"Tangential",0.5,"RED",0.59032476084416885,15]
[null,null,null,null,0,6,4,377.69532798825816,"Tangential",0.5,"RED",0.95166989408068048,15]
[null,null,null,null,9,1,0,378.64903339477246,"Tangential",0.5,"RED",0.95370540651430247,15]
[null,null,null,null,1,6,4,380.00074648553334,"Oblique",0.25,"OK",1.3517130907608816,15]
[null,null,null,null,7,3,3,380.32086143737587,"Oblique",0.25,"RED",0.32011495184252681,15]
[null,null,null,null,4,0,5,380.63616268619671,"Tangential",0.5,"RED",0.31530124882084465,15]
[null,null,null,null,6,2,4,381.12788720081579,"Oblique",0.25,"RED",0.4917245146190794,15]
[null,null,null,null,9,0,1,382.32019240748679,"Tangential",0.5,"OK",1.1923052066709943,15]
[null,null,null,null,2,8,2,382.43624775069958,"Oblique",0.25,"RED",0.11605534321279265,15]
[null,null,null,null,8,4,1,382.90100973868226,"Oblique",0.25,"RED",0.46476198798268342,15]
[null,null,null,null,4,1,5,383.10266072880586,"Oblique",0.25,"RED",0.20165099012359633,15]
[null,null,null,null,0,4,5,383.50377915515014,"Tangential",0.5,"RED",0.40111842634428285,15]
[null,null,null,null,8,3,2,384.00398318498981,"Oblique",0.25,"RED",0.50020402983966505,15]
[null,null,null,null,9,1,1,384.77589560095299,"Oblique",0.25,"RED",0.77191241596318605,15]
[null,null,null,null,4,8,0,385.36938741889031,"Tangential",0.5,"RED",0.59349181793731987,15]
[null,null,null,null,5,4,4,385.5498906223674,"Oblique",0.25,"RED",0.18050320347708748,15]
[null,null,null,null,1,4,5,385.77448745567256,"Oblique",0.25,"RED",0.22459683330515645,15]
[null,null,null,null,9,2,0,{"$f":"$D$5*SQRT((($E323/$D$2)^2)+(($F323/$D$3)^2)+(($G323/$D$4)^2))","v":386.03933922574367},{"$f":"+IF(+AND(E323=0,F323=0)+OR(+AND(E323=0,G323=0))+OR(+AND(F323=0,G323=0)),\"Axial\",(+IF(+OR(E323=0,F323=0,G323=0),\"Tangential\",\"Oblique\")))","v":"Tangential"},0.5,"RED",0.26485177007111815,15]
[null,null,null,null,6,6,2,386.53590296644722,"Oblique",{"$f":"IF(I324=\"Axial\",1,IF(I324=\"Tangential\",0.5,IF(I324=\"Oblique\",0.25,\"\")))","v":0.25},"RED",0.49656374070355014,{"$f":"IF(H324<17.8,1,IF(H324<=22.4,2,IF(H324<=28.2,3,IF(H324<=35.5,4,IF(H324<=44.7,5,IF(H324<=56.2,6,IF(H324<=70.8,7,IF(H324<=89.1,8,IF(H324<=112,9,IF(H324<=141,10,IF(H324<=178,11,IF(H324<=224,12,IF(H324<=282,13,IF(H324<=355,14,IF(H324<=447,15,IF(H324<=562,16,IF(H324<=708,17,IF(H324<=891,18,IF(H324<=1122,19,IF(H324<=1413,20,IF(H324<=1778,21,IF(H324<=2239,22,IF(H324<=2818,23,IF(H324<=3548,24,IF(H324<=4467,25,IF(H324<=5623,26,IF(H324<=7079,27,IF(H324<=8913,28,IF(H324<=11220,29,IF(H324<=14130,30,IF(H324<=17780,31,IF(H324<=22390,32,))))))))))))))))))))))))))))))))","v":15}]
[null,null,null,null,3,3,5,386.79462941437015,"Oblique",0.25,{"$f":"IF((H325-H324)<1,\"RED\",\"OK\")","v":"RED"},{"$f":"H325-H324","v":0.25872644792292476},15]
[null,null,null,null,2,6,4,386.83457312626098,"Oblique",0.25,"RED",3.9943711890828126E-2,15]
[null,null,null,null,4,5,4,387.14506592159643,"Oblique",0.25,"RED",0.31049279533544905,15]
[null,null,null,null,3,7,3,387.45594375230735,"Oblique",0.25,"RED",0.3108778307109219,15]
[null,null,null,null,7,5,2,389.09783593480967,"Oblique",0.25,"OK",1.6418921825023176,15]
[null,null,null,null,6,5,3,389.96876485494454,"Oblique",0.25,"RED",0.87092892013487244,15]
[null,null,null,null,4,2,5,390.4086699812695,"Oblique",0.25,"RED",0.43990512632495893,15]
[null,null,null,null,0,9,0,390.62076923076921,"Axial",1,"RED",0.21209924949971537,15]
[null,null,null,null,4,8,1,391.391062882548,"Oblique",0.25,"RED",0.77029365177878617,15]
[null,null,null,null,7,6,0,391.67447197062461,"Tangential",0.5,"RED",0.28340908807660981,15]
[null,null,null,null,5,6,3,391.89555879881442,"Oblique",0.25,"RED",0.22108682818981151,15]
[null,null,null,null,9,2,1,392.05072474689894,"Oblique",0.25,"RED",0.155165948084516,15]
[null,null,null,null,8,0,3,392.29098002423893,"Tangential",0.5,"RED",0.24025527733999752,15]
[null,null,null,null,2,4,5,392.507802225511,"Oblique",0.25,"RED",0.2168222012720662,15]
[null,null,null,null,1,9,0,392.8503428786114,"Tangential",0.5,"RED",0.34254065310040005,15]
[null,null,null,null,6,3,4,393.29031003477127,"Oblique",0.25,"RED",0.43996715615986659,15]
[null,null,null,null,5,7,2,393.29888933464605,"Oblique",0.25,"RED",8.5792998747820093E-3,15]
[null,null,null,null,3,8,2,393.68961926961936,"Oblique",0.25,"RED",0.39072993497330799,15]
[null,null,null,null,6,7,0,393.94072012478949,"Tangential",0.5,"RED",0.25110085517013658,15]
[null,null,null,null,8,1,3,394.68465047604218,"Oblique",0.25,"RED",0.74393035125268625,15]
[null,null,null,null,0,9,1,396.56271218958267,"Tangential",0.5,"OK",1.8780617135404896,15]
[null,null,null,null,7,4,3,397.27859221910245,"Oblique",0.25,"RED",0.71588002951978069,15]
[null,null,null,null,7,6,1,397.60066818126387,"Oblique",0.25,"RED",0.32207596216142065,15]
[null,null,null,null,3,6,4,397.9635909135406,"Oblique",0.25,"RED",0.36292273227672922,15]
[null,null,null,null,9,3,0,398.05172150731562,"Tangential",0.5,"RED",8.8130593775019861E-2,15]
[null,null,null,null,8,5,0,398.60961695792321,"Tangential",0.5,"RED",0.55789545060758883,15]
[null,null,null,null,1,9,1,398.75906415348413,"Oblique",0.25,"RED",0.14944719556092423,15]
[null,null,null,null,2,9,0,399.46440584369532,"Tangential",0.5,"RED",0.70534169021118487,15]
[null,null,null,null,6,7,1,399.83332817207429,"Oblique",0.25,"RED",0.36892232837897154,15]
[null,null,null,null,9,0,2,400.25108064395965,"Tangential",0.5,"RED",0.41775247188536468,15]
[null,null,null,null,7,0,4,400.53952394282811,"Tangential",0.5,"RED",0.28844329886845799,15]
[null,null,null,null,5,0,5,400.75572017516453,"Tangential",0.5,"RED",0.21619623233641505,15]
[null,null,null,null,8,4,2,400.80591474311132,"Oblique",0.25,"RED",5.0194567946789448E-2,15]
[null,null,null,null,8,2,3,401.78010685006399,"Oblique",0.25,"RED",0.97419210695267111,15]
[null,null,null,null,4,3,5,402.29060536089156,"Oblique",0.25,"RED",0.51049851082757414,15]
[null,null,null,null,9,1,2,402.5974265562005,"Oblique",0.25,"RED",0.3068211953089417,15]
[null,null,null,null,7,1,4,402.88419000174866,"Oblique",0.25,"RED",0.28676344554816069,15]
[null,null,null,null,4,7,3,402.92648729864334,"Oblique",0.25,"RED",4.2297296894673764E-2,15]
[null,null,null,null,5,1,5,403.09912870922028,"Oblique",0.25,"RED",0.1726414105769436,15]
[null,null,null,null,0,8,3,403.30788999921077,"Tangential",0.5,"RED",0.20876128999049115,15]
[null,null,null,null,3,4,5,403.48036821501512,"Oblique",0.25,"RED",0.17247821580434675,15]
[null,null,null,null,9,3,1,403.88435515585087,"Oblique",0.25,"RED",0.40398694083575037,15]
[null,null,null,null,8,5,1,404.43420487894218,"Oblique",0.25,"RED",0.54984972309131308,15]
[null,null,null,null,0,5,5,405.00492767797527,"Tangential",0.5,"RED",0.57072279903309209,15]
[null,null,null,null,5,8,0,405.254023629936,"Tangential",0.5,"RED",0.24909595196072587,15]
[null,null,null,null,2,9,1,405.27670902825946,"Oblique",0.25,"RED",2.2685398323460504E-2,15]
[null,null,null,null,1,8,3,405.46770608893149,"Oblique",0.25,"RED",0.19099706067203215,15]
[null,null,null,null,5,5,4,406.94294560304058,"Oblique",0.25,"OK",1.4752395141090915,15]
[null,null,null,null,1,5,5,407.15574168719104,"Oblique",0.25,"RED",0.21279608415045459,15]
[null,null,null,null,0,7,4,408.83082669166305,"Tangential",0.5,"OK",1.6750850044720096,15]
[null,null,null,null,4,8,2,408.92439660466636,"Oblique",0.25,"RED",9.3569913003307192E-2,15]
[null,null,null,null,9,2,2,409.55581891694385,"Oblique",0.25,"RED",0.63142231227749335,15]
[null,null,null,null,6,4,4,409.71159387838998,"Oblique",0.25,"RED",0.15577496144612724,15]
[null,null,null,null,7,2,4,409.83771360432212,"Oblique",0.25,"RED",0.12611972593214205,15]
[null,null,null,null,5,2,5,410.04900744323936,"Oblique",0.25,"RED",0.21129383891724274,15]
[null,null,null,null,3,9,0,410.25095278753452,"Tangential",0.5,"RED",0.20194534429515443,15]
[null,null,null,null,0,0,6,410.34909090909093,"Axial",1,"RED",9.8138121556416991E-2,15]
[null,null,null,null,1,7,4,410.961617914366,"Oblique",0.25,"RED",0.61252700527506931,15]
[null,null,null,null,5,8,1,410.98445592622193,"Oblique",0.25,"RED",2.2838011855924378E-2,15]
[null,null,null,null,2,8,3,411.87920597820198,"Oblique",0.25,"RED",0.8947500519800542,15]
[null,null,null,null,1,0,6,412.4720389981872,"Tangential",0.5,"RED",0.5928330199852212,15]
[null,null,null,null,0,1,6,412.63802142184517,"Tangential",0.5,"RED",0.16598242365796523,15]
[null,null,null,null,4,6,4,{"$f":"$D$5*SQRT((($E387/$D$2)^2)+(($F387/$D$3)^2)+(($G387/$D$4)^2))","v":413.04075526590896},{"$f":"+IF(+AND(E387=0,F387=0)+OR(+AND(E387=0,G387=0))+OR(+AND(F387=0,G387=0)),\"Axial\",(+IF(+OR(E387=0,F387=0,G387=0),\"Tangential\",\"Oblique\")))","v":"Oblique"},0.25,"RED",0.40273384406378909,15]
[null,null,null,null,8,3,3,413.33528258005947,"Oblique",{"$f":"IF(I388=\"Axial\",1,IF(I388=\"Tangential\",0.5,IF(I388=\"Oblique\",0.25,\"\")))","v":0.25},"RED",0.29452731415051403,{"$f":"IF(H388<17.8,1,IF(H388<=22.4,2,IF(H388<=28.2,3,IF(H388<=35.5,4,IF(H388<=44.7,5,IF(H388<=56.2,6,IF(H388<=70.8,7,IF(H388<=89.1,8,IF(H388<=112,9,IF(H388<=141,10,IF(H388<=178,11,IF(H388<=224,12,IF(H388<=282,13,IF(H388<=355,14,IF(H388<=447,15,IF(H388<=562,16,IF(H388<=708,17,IF(H388<=891,18,IF(H388<=1122,19,IF(H388<=1413,20,IF(H388<=1778,21,IF(H388<=2239,22,IF(H388<=2818,23,IF(H388<=3548,24,IF(H388<=4467,25,IF(H388<=5623,26,IF(H388<=7079,27,IF(H388<=8913,28,IF(H388<=11220,29,IF(H388<=14130,30,IF(H388<=17780,31,IF(H388<=22390,32,))))))))))))))))))))))))))))))))","v":15}]
[null,null,null,null,2,5,5,413.54107126748681,"Oblique",0.25,{"$f":"IF((H389-H388)<1,\"RED\",\"OK\")","v":"RED"},{"$f":"H389-H388","v":0.20578868742734358},15]
[null,null,null,null,0,9,2,413.87701401904116,"Tangential",0.5,"RED",0.33594275155434161,15]
[null,null,null,null,9,4,0,414.28431684781623,"Tangential",0.5,"RED",0.40730282877507307,15]
[null,null,null,null,1,1,6,414.74925348738094,"Oblique",0.25,"RED",0.4649366395647121,15]
[null,null,null,null,7,6,2,414.8716540959955,"Oblique",0.25,"RED",0.12240060861455504,15]
[null,null,null,null,6,6,3,415.68858657134945,"Oblique",0.25,"RED",0.8169324753539513,15]
[null,null,null,null,3,9,1,415.91254322008581,"Oblique",0.25,"RED",0.22395664873636179,15]
[null,null,null,null,1,9,2,415.98195787644715,"Oblique",0.25,"RED",6.9414656361345806E-2,15]
[null,null,null,null,6,7,2,417.01185636779854,"Oblique",0.25,"OK",1.0298984913513891,15]
[null,null,null,null,2,7,4,417.28871424351667,"Oblique",0.25,"RED",0.2768578757181217,15]
[null,null,null,null,7,5,3,418.07191086313327,"Oblique",0.25,"RED",0.78319661961660358,15]
[null,null,null,null,4,4,5,418.35876153459105,"Oblique",0.25,"RED",0.28685067145778476,15]
[null,null,null,null,2,0,6,418.77631570032236,"Tangential",0.5,"RED",0.41755416573130333,15]
[null,null,null,null,0,2,6,419.42987216218683,"Tangential",0.5,"RED",0.65355646186446847,15]
[null,null,null,null,9,4,1,419.89152710049024,"Oblique",0.25,"RED",0.4616549383034112,15]
[null,null,null,null,9,3,2,420.8975770586203,"Oblique",0.25,"OK",1.0060499581300633,15]
[null,null,null,null,2,1,6,421.01943292982781,"Oblique",0.25,"RED",0.12185587120751507,15]
[null,null,null,null,7,3,4,421.17188065860609,"Oblique",0.25,"RED",0.15244772877827018,15]
[null,null,null,null,5,3,5,421.37749117658683,"Oblique",0.25,"RED",0.20561051798074459,15]
[null,null,null,null,8,5,2,421.42522956062089,"Oblique",0.25,"RED",4.7738384034062165E-2,15]
[null,null,null,null,1,2,6,421.50708678193422,"Oblique",0.25,"RED",8.1857221313327955E-2,15]
[null,null,null,null,7,7,0,421.77929781189869,"Tangential",0.5,"RED",0.27221102996446689,15]
[null,null,null,null,5,7,3,421.98461236811198,"Oblique",0.25,"RED",0.20531455621329542,15]
[null,null,null,null,2,9,2,422.23383203497116,"Oblique",0.25,"RED",0.24921966685917596,15]
[null,null,null,null,3,8,3,422.34880495185189,"Oblique",0.25,"RED",0.11497291688073119,15]
[null,null,null,null,8,6,0,423.80536827007933,"Tangential",0.5,"OK",1.4565633182274382,15]
[null,null,null,null,3,5,5,423.96963376176359,"Oblique",0.25,"RED",0.16426549168426163,15]
[null,null,null,null,6,0,5,424.05190631875018,"Tangential",0.5,"RED",8.2272556986595191E-2,15]
[null,null,null,null,4,9,0,424.89232763243973,"Tangential",0.5,"RED",0.84042131368954642,15]
[null,null,null,null,6,1,5,426.26726307046357,"Oblique",0.25,"OK",1.3749354380238401,15]
[null,null,null,null,7,7,1,427.28816436617836,"Oblique",0.25,"OK",1.0209012957147934,15]
[null,null,null,null,3,7,4,427.62589229609404,"Oblique",0.25,"RED",0.33772792991567258,15]
[null,null,null,null,2,2,6,427.67820127241345,"Oblique",0.25,"RED",5.2308976319409339E-2,15]
[null,null,null,null,5,8,2,427.71535049274587,"Oblique",0.25,"RED",3.7149220332423738E-2,15]
[null,null,null,null,6,8,0,428.30561012868372,"Tangential",0.5,"RED",0.59025963593785491,15]
[null,null,null,null,9,0,3,428.47161432264932,"Tangential",0.5,"RED",0.16600419396559118,15]
[null,null,null,null,8,4,3,428.98995095067414,"Oblique",0.25,"RED",0.5183366280248265,15]
[null,null,null,null,3,0,6,429.07765651285007,"Tangential",0.5,"RED",8.7705562175926843E-2,15]
[null,null,null,null,8,6,1,429.28823594323831,"Oblique",0.25,"RED",0.21057943038823623,15]
[null,null,null,null,0,6,5,429.82595883291793,"Tangential",0.5,"RED",0.53772288967962822,15]
[null,null,null,null,6,5,4,429.90398111151575,"Oblique",0.25,"RED",7.8022278597813965E-2,15]
[null,null,null,null,4,9,1,430.36134750420183,"Oblique",0.25,"RED",0.45736639268608315,15]
[null,null,null,null,0,3,6,430.51157850524436,"Tangential",0.5,"RED",0.15023100104252762,15]
[null,null,null,null,9,1,3,430.66423649204364,"Oblique",0.25,"RED",0.15265798679928366,15]
[null,null,null,null,3,1,6,431.26719749080974,"Oblique",0.25,"RED",0.60296099876609333,15]
[null,null,null,null,5,6,4,431.65255057658868,"Oblique",0.25,"RED",0.38535308577894511,15]
[null,null,null,null,1,6,5,431.85317114968825,"Oblique",0.25,"RED",0.20062057309957027,15]
[null,null,null,null,8,0,4,432.01158366578244,"Tangential",0.5,"RED",0.15841251609418805,15]
[null,null,null,null,3,9,2,432.45282013412697,"Oblique",0.25,"RED",0.44123646834452757,15]
[null,null,null,null,1,3,6,432.53557746442294,"Oblique",0.25,"RED",8.2757330295976317E-2,15]
[null,null,null,null,6,2,5,432.84530782328812,"Oblique",0.25,"RED",0.30973035886518119,15]
[null,null,null,null,6,8,1,433.73159328370804,"Oblique",0.25,"RED",0.88628546041991285,15]
[null,null,null,null,8,1,4,434.18632951123078,"Oblique",0.25,"RED",0.45473622752274423,15]
[null,null,null,null,9,5,0,434.2641339130156,"Tangential",0.5,"RED",7.7804401784817401E-2,15]
[null,null,null,null,9,4,2,436.28097891718994,"Oblique",0.25,"OK",2.0168450041743426,15]
[null,null,null,null,7,4,4,436.54561645792694,"Oblique",0.25,"RED",0.26463754073699874,15]
[null,null,null,null,4,8,3,436.58465257277436,"Oblique",0.25,"RED",3.9036114847419867E-2,15]
[null,null,null,null,5,4,5,436.74398938210794,"Oblique",0.25,"RED",0.15933680933358119,15]
[null,null,null,null,9,2,3,437.17612644371167,"Oblique",0.25,"RED",0.43213706160372567,15]
[null,null,null,null,3,2,6,437.77011840762992,"Oblique",0.25,"RED",0.59399196391825626,15]
[null,null,null,null,2,6,5,437.87850034941874,"Oblique",0.25,"RED",0.10838194178882077,15]
[null,null,null,null,4,5,5,438.15282284828044,"Oblique",0.25,"RED",0.27432249886169302,15]
[null,null,null,null,2,3,6,{"$f":"$D$5*SQRT((($E451/$D$2)^2)+(($F451/$D$3)^2)+(($G451/$D$4)^2))","v":438.5515310755348},{"$f":"+IF(+AND(E451=0,F451=0)+OR(+AND(E451=0,G451=0))+OR(+AND(F451=0,G451=0)),\"Axial\",(+IF(+OR(E451=0,F451=0,G451=0),\"Tangential\",\"Oblique\")))","v":"Oblique"},0.25,"RED",0.39870822725436028,15]
[null,null,null,null,9,5,1,439.61657992839793,"Oblique",{"$f":"IF(I452=\"Axial\",1,IF(I452=\"Tangential\",0.5,IF(I452=\"Oblique\",0.25,\"\")))","v":0.25},"OK",1.0650488528631286,{"$f":"IF(H452<17.8,1,IF(H452<=22.4,2,IF(H452<=28.2,3,IF(H452<=35.5,4,IF(H452<=44.7,5,IF(H452<=56.2,6,IF(H452<=70.8,7,IF(H452<=89.1,8,IF(H452<=112,9,IF(H452<=141,10,IF(H452<=178,11,IF(H452<=224,12,IF(H452<=282,13,IF(H452<=355,14,IF(H452<=447,15,IF(H452<=562,16,IF(H452<=708,17,IF(H452<=891,18,IF(H452<=1122,19,IF(H452<=1413,20,IF(H452<=1778,21,IF(H452<=2239,22,IF(H452<=2818,23,IF(H452<=3548,24,IF(H452<=4467,25,IF(H452<=5623,26,IF(H452<=7079,27,IF(H452<=8913,28,IF(H452<=11220,29,IF(H452<=14130,30,IF(H452<=17780,31,IF(H452<=22390,32,))))))))))))))))))))))))))))))))","v":15}]
[null,null,null,null,8,2,4,440.64617287965672,"Oblique",0.25,{"$f":"IF((H453-H452)<1,\"RED\",\"OK\")","v":"OK"},{"$f":"H453-H452","v":1.0295929512587918},15]
[null,null,null,null,0,9,3,441.22690246280001,"Tangential",0.5,"RED",0.58072958314329526,15]
[null,null,null,null,4,7,4,441.69169063936818,"Oblique",0.25,"RED",0.46478817656816318,15]
[null,null,null,null,0,8,4,442.03964703254269,"Tangential",0.5,"RED",0.34795639317451332,15]
[null,null,null,null,7,6,3,442.16002317706983,"Oblique",0.25,"RED",0.12037614452714251,15]
[null,null,null,null,5,9,0,443.00648865400882,"Tangential",0.5,"RED",0.8464654769389881,15]
[null,null,null,null,4,0,6,443.09737207118707,"Tangential",0.5,"RED",9.0883417178247328E-2,15]
[null,null,null,null,1,9,3,443.20196976358517,"Oblique",0.25,"RED",0.10459769239810157,15]
[null,null,null,null,7,7,2,443.40430020645721,"Oblique",0.25,"RED",0.20233044287203938,15]
[null,null,null,null,6,3,5,443.59199955558921,"Oblique",0.25,"RED",0.18769934913200359,15]
[null,null,null,null,1,8,4,444.0110990662954,"Oblique",0.25,"RED",0.41909951070618945,15]
[null,null,null,null,6,7,3,444.16875742775636,"Oblique",0.25,"RED",0.15765836146096035,15]
[null,null,null,null,4,1,6,445.21797071705197,"Oblique",0.25,"OK",1.0492132892956079,15]
[null,null,null,null,8,6,2,445.33199700158224,"Oblique",0.25,"RED",0.11402628453026864,15]
[null,null,null,null,0,4,6,445.56317331911691,"Tangential",0.5,"RED",0.23117631753467549,15]
[null,null,null,null,4,9,2,446.36653935951801,"Oblique",0.25,"RED",0.8033660404011016,15]
[null,null,null,null,1,4,6,447.51910346219415,"Oblique",0.25,"OK",1.1525641026761377,16]
[null,null,null,null,3,6,5,447.74056527779476,"Oblique",0.25,"RED",0.22146181560060541,16]
[null,null,null,null,9,3,3,447.81889988857876,"Oblique",0.25,"RED",7.8334610783997505E-2,16]
[null,null,null,null,5,9,1,448.25455751645671,"Oblique",0.25,"RED",0.43565762787795848,16]
[null,null,null,null,8,5,3,448.31486795980976,"Oblique",0.25,"RED",6.0310443353046139E-2,16]
[null,null,null,null,3,3,6,448.39879363767147,"Oblique",0.25,"RED",8.3925677861714121E-2,16]
[null,null,null,null,2,9,3,449.0750556850557,"Oblique",0.25,"RED",0.67626204738422757,16]
[null,null,null,null,6,8,2,449.61682914075152,"Oblique",0.25,"RED",0.54177345569581803,16]
[null,null,null,null,2,8,4,449.87362195429239,"Oblique",0.25,"RED",0.25679281354086925,16]
[null,null,null,null,7,0,5,450.031670377571,"Tangential",0.5,"RED",0.15804842327861479,16]
[null,null,null,null,8,3,4,451.20710459674399,"Oblique",0.25,"OK",1.1754342191729847,16]
[null,null,null,null,4,2,6,451.520013275672,"Oblique",0.25,"RED",0.31290867892801089,16]
[null,null,null,null,8,7,0,451.77414074265948,"Tangential",0.5,"RED",0.25412746698748379,16]
[null,null,null,null,7,1,5,452.119745925617,"Oblique",0.25,"RED",0.34560518295751308,16]
[null,null,null,null,2,4,6,453.33626327464702,"Oblique",0.25,"OK",1.2165173490300276,16]
[null,null,null,null,6,6,4,453.363867570769,"Oblique",0.25,"RED",2.7604296121978678E-2,16]
[null,null,null,null,7,8,0,454.04204734579884,"Tangential",0.5,"RED",0.6781797750298324,16]
[null,null,null,null,5,8,3,454.23277927812745,"Oblique",0.25,"RED",0.1907319323286174,16]
[null,null,null,null,9,5,2,455.29653565791739,"Oblique",0.25,"OK",1.0637563797899361,16]
[null,null,null,null,7,5,4,455.5501268420316,"Oblique",0.25,"RED",0.25359118411421377,16]
[null,null,null,null,5,5,5,455.74022762815071,"Oblique",0.25,"RED",0.1901007861191033,16]
[null,null,null,null,8,7,1,456.92151797490146,"Oblique",0.25,"OK",1.1812903467507567,16]
[null,null,null,null,0,7,5,457.42675802347634,"Tangential",0.5,"RED",0.50524004857487625,16]
[null,null,null,null,9,6,0,457.50049338379608,"Tangential",0.5,"RED",7.3735360319744814E-2,16]
[null,null,null,null,6,4,5,458.21412490324889,"Oblique",0.25,"RED",0.71363151945280379,16]
[null,null,null,null,7,2,5,458.326898179561,"Oblique",0.25,"RED",0.11277327631211165,16]
[null,null,null,null,3,9,3,458.69645558425583,"Oblique",0.25,"RED",0.36955740469483089,16]
[null,null,null,null,5,7,4,459.14355978114867,"Oblique",0.25,"RED",0.44710419689283754,16]
[null,null,null,null,7,8,1,459.16400131400167,"Oblique",0.25,"RED",2.0441532852998989E-2,16]
[null,null,null,null,1,7,5,459.3321733792144,"Oblique",0.25,"RED",0.16817206521272965,16]
[null,null,null,null,3,8,4,459.47830031166529,"Oblique",0.25,"RED",0.14612693245089758,16]
[null,null,null,null,5,0,6,460.49597180109402,"Tangential",0.5,"OK",1.0176714894287215,16]
[null,null,null,null,4,6,5,461.19329961862184,"Oblique",0.25,"RED",0.69732781752782103,16]
[null,null,null,null,4,3,6,461.83235481454926,"Oblique",0.25,"RED",0.63905519592742621,16]
[null,null,null,null,9,4,3,462.30735370372508,"Oblique",0.25,"RED",0.47499888917582211,16]
[null,null,null,null,5,1,6,462.53680973307598,"Oblique",0.25,"RED",0.22945602935089937,16]
[null,null,null,null,9,6,1,462.58415536109402,"Oblique",0.25,"RED",4.7345628018035768E-2,16]
[null,null,null,null,3,4,6,462.86909631864967,"Oblique",0.25,"RED",0.28494095755564786,16]
[null,null,null,null,5,9,2,463.64247688109225,"Oblique",0.25,"RED",0.77338056244258269,16]
[null,null,null,null,6,9,0,464.18705387915094,"Tangential",0.5,"RED",0.54457699805868742,16]
[null,null,null,null,0,5,6,464.19864738639762,"Tangential",0.5,"RED",1.1593507246686841E-2,16]
[null,null,null,null,2,7,5,465.00157541398357,"Oblique",0.25,"RED",0.80292802758594917,16]
[null,null,null,null,9,0,4,465.1125881905333,"Tangential",0.5,"RED",0.11101277654972819,16]
[null,null,null,null,8,4,4,465.59013459232716,"Oblique",0.25,"RED",0.47754640179385888,16]
[null,null,null,null,1,5,6,466.07637869856251,"Oblique",0.25,"RED",0.48624410623534686,16]
[null,null,null,null,9,1,4,467.13325722572392,"Oblique",0.25,"OK",1.0568785271614161,16]
[null,null,null,null,7,3,5,{"$f":"$D$5*SQRT((($E515/$D$2)^2)+(($F515/$D$3)^2)+(($G515/$D$4)^2))","v":468.48943121482097},{"$f":"+IF(+AND(E515=0,F515=0)+OR(+AND(E515=0,G515=0))+OR(+AND(F515=0,G515=0)),\"Axial\",(+IF(+OR(E515=0,F515=0,G515=0),\"Tangential\",\"Oblique\")))","v":"Oblique"},0.25,"OK",1.3561739890970443,16]
[null,null,null,null,5,2,6,468.60599793120974,"Oblique",{"$f":"IF(I516=\"Axial\",1,IF(I516=\"Tangential\",0.5,IF(I516=\"Oblique\",0.25,\"\")))","v":0.25},"RED",0.11656671638877469,{"$f":"IF(H516<17.8,1,IF(H516<=22.4,2,IF(H516<=28.2,3,IF(H516<=35.5,4,IF(H516<=44.7,5,IF(H516<=56.2,6,IF(H516<=70.8,7,IF(H516<=89.1,8,IF(H516<=112,9,IF(H516<=141,10,IF(H516<=178,11,IF(H516<=224,12,IF(H516<=282,13,IF(H516<=355,14,IF(H516<=447,15,IF(H516<=562,16,IF(H516<=708,17,IF(H516<=891,18,IF(H516<=1122,19,IF(H516<=1413,20,IF(H516<=1778,21,IF(H516<=2239,22,IF(H516<=2818,23,IF(H516<=3548,24,IF(H516<=4467,25,IF(H516<=5623,26,IF(H516<=7079,27,IF(H516<=8913,28,IF(H516<=11220,29,IF(H516<=14130,30,IF(H516<=17780,31,IF(H516<=22390,32,))))))))))))))))))))))))))))))))","v":16}]
[null,null,null,null,7,7,3,469.03557451986268,"Oblique",0.25,{"$f":"IF((H517-H516)<1,\"RED\",\"OK\")","v":"RED"},{"$f":"H517-H516","v":0.42957658865293524},16]
[null,null,null,null,6,9,1,469.19827400974702,"Oblique",0.25,"RED",0.16269948988434635,16]
[null,null,null,null,8,6,3,470.85834842021961,"Oblique",0.25,"OK",1.6600744104725891,16]
[null,null,null,null,2,5,6,471.66472246393397,"Oblique",0.25,"RED",0.8063740437143565,16]
[null,null,null,null,4,9,3,471.83692541321079,"Oblique",0.25,"RED",0.17220294927682289,16]
[null,null,null,null,8,7,2,472.02698187990057,"Oblique",0.25,"RED",0.19005646668978216,16]
[null,null,null,null,4,8,4,472.59703159788211,"Oblique",0.25,"RED",0.57004971798153292,16]
[null,null,null,null,9,2,4,473.14348874878073,"Oblique",0.25,"RED",0.54645715089861824,16]
[null,null,null,null,7,8,2,474.19803683360431,"Oblique",0.25,"OK",1.0545480848235798,16]
[null,null,null,null,3,7,5,474.30000829064932,"Oblique",0.25,"RED",0.10197145704501054,16]
[null,null,null,null,6,8,3,474.9129286197454,"Oblique",0.25,"RED",0.61292032909608452,16]
[null,null,null,null,4,4,6,475.89436448089612,"Oblique",0.25,"RED",0.98143586115071457,16]
[null,null,null,null,6,5,5,476.35493812703345,"Oblique",0.25,"RED",0.46057364613733398,16]
[null,null,null,null,0,9,4,476.88884959700692,"Tangential",0.5,"RED",0.53391146997347505,16]
[null,null,null,null,9,6,2,477.51052221421941,"Oblique",0.25,"RED",0.62167261721248224,16]
[null,null,null,null,7,6,4,477.75232234808283,"Oblique",0.25,"RED",0.24180013386342125,16]
[null,null,null,null,5,6,5,477.93359216710621,"Oblique",0.25,"RED",0.18126981902338457,16]
[null,null,null,null,8,0,5,478.25788286644752,"Tangential",0.5,"RED",0.32429069934130439,16]
[null,null,null,null,5,3,6,478.55029292875133,"Oblique",0.25,"RED",0.29241006230381572,16]
[null,null,null,null,1,9,4,478.71680711602482,"Oblique",0.25,"RED",0.1665141872734921,16]
[null,null,null,null,0,0,7,478.74060606060607,"Axial",1,"RED",2.3798944581244541E-2,16]
[null,null,null,null,6,7,4,479.61201036666768,"Oblique",0.25,"RED",0.87140430606160635,16]
[null,null,null,null,8,1,5,480.22324270792478,"Oblique",0.25,"RED",0.61123234125710724,16]
[null,null,null,null,9,5,3,480.29358949053329,"Oblique",0.25,"RED",7.0346782608510239E-2,16]
[null,null,null,null,1,0,7,480.56151992921895,"Tangential",0.5,"RED",0.26793043868565292,16]
[null,null,null,null,0,1,7,480.70399229077998,"Tangential",0.5,"RED",0.14247236156103327,16]
[null,null,null,null,3,5,6,480.83431984832691,"Oblique",0.25,"RED",0.13032755754693426,16]
[null,null,null,null,6,0,6,480.9068642101974,"Tangential",0.5,"RED",7.2544361870484408E-2,16]
[null,null,null,null,8,8,0,482.03348321359852,"Tangential",0.5,"OK",1.1266190034011174,16]
[null,null,null,null,7,4,5,482.35740830955501,"Oblique",0.25,"RED",0.32392509595649699,16]
[null,null,null,null,1,1,7,482.51749683270435,"Oblique",0.25,"RED",0.16008852314934074,16]
[null,null,null,null,6,1,6,482.86144219382749,"Oblique",0.25,"RED",0.3439453611231329,16]
[null,null,null,null,9,3,4,482.99437109603707,"Oblique",0.25,"RED",0.13292890220958498,16]
[null,null,null,null,8,5,4,483.45425455451431,"Oblique",0.25,"RED",0.45988345847723622,16]
[null,null,null,null,9,7,0,483.52413126507713,"Tangential",0.5,"RED",6.9876710562823519E-2,16]
[null,null,null,null,6,9,2,483.92067363141808,"Oblique",0.25,"RED",0.39654236634095241,16]
[null,null,null,null,2,9,4,484.15927240070016,"Oblique",0.25,"RED",0.23859876928207768,16]
[null,null,null,null,2,0,7,485.98332694949022,"Tangential",0.5,"OK",1.824054548790059,16]
[null,null,null,null,0,6,6,486.0059132135703,"Tangential",0.5,"RED",2.258626408007558E-2,16]
[null,null,null,null,8,2,5,486.07164469445007,"Oblique",0.25,"RED",6.5731480879776427E-2,16]
[null,null,null,null,0,2,7,486.5466155912992,"Tangential",0.5,"RED",0.47497089684912908,16]
[null,null,null,null,8,8,1,486.86104617616979,"Oblique",0.25,"RED",0.31443058487059261,16]
[null,null,null,null,4,7,5,487.01965430806035,"Oblique",0.25,"RED",0.15860813189055989,16]
[null,null,null,null,0,8,5,487.33524770032204,"Tangential",0.5,"RED",0.31559339226168959,16]
[null,null,null,null,1,6,6,487.79970707654292,"Oblique",0.25,"RED",0.46445937622087285,16]
[null,null,null,null,2,1,7,487.91756925316065,"Oblique",0.25,"RED",0.11786217661773435,16]
[null,null,null,null,7,9,0,488.0349435022726,"Tangential",0.5,"RED",0.11737424911194694,16]
[null,null,null,null,5,9,3,488.21239547151384,"Oblique",0.25,"RED",0.17745196924124684,16]
[null,null,null,null,9,7,1,488.33695831911746,"Oblique",0.25,"RED",0.12456284760361314,16]
[null,null,null,null,1,2,7,488.33842331804294,"Oblique",0.25,"RED",1.4649989254849061E-3,16]
[null,null,null,null,6,2,6,488.6782717663599,"Oblique",0.25,"RED",0.33984844831695682,16]
[null,null,null,null,5,8,4,488.94704537789318,"Oblique",0.25,"RED",0.26877361153327683,16]
[null,null,null,null,1,8,5,489.12416644093446,"Oblique",0.25,"RED",0.17712106304128383,16]
[null,null,null,null,5,4,6,492.1348443803974,"Oblique",0.25,"OK",3.010677939462937,16]
[null,null,null,null,7,9,1,492.80371896322612,"Oblique",0.25,"RED",0.66887458282872103,16]
[null,null,null,null,3,9,4,493.09657652289451,"Oblique",0.25,"RED",0.29285755966839133,16]
[null,null,null,null,2,6,6,493.1419408853551,"Oblique",0.25,"RED",4.5364362460588836E-2,16]
[null,null,null,null,4,5,6,493.38553785233285,"Oblique",0.25,"RED",0.2435969669777478,16]
[null,null,null,null,2,2,7,493.67482751803954,"Oblique",0.25,"RED",0.2892896657066899,16]
[null,null,null,null,2,8,5,494.45209053330223,"Oblique",0.25,"RED",0.77726301526269026,16]
[null,null,null,null,3,0,7,494.88769109760494,"Tangential",0.5,"RED",0.43560056430271743,16]
[null,null,null,null,8,3,5,495.66565882765815,"Oblique",0.25,"RED",0.77796773005320574,16]
[null,null,null,null,0,3,7,{"$f":"$D$5*SQRT((($E579/$D$2)^2)+(($F579/$D$3)^2)+(($G579/$D$4)^2))","v":496.13144499057529},{"$f":"+IF(+AND(E579=0,F579=0)+OR(+AND(E579=0,G579=0))+OR(+AND(F579=0,G579=0)),\"Axial\",(+IF(+OR(E579=0,F579=0,G579=0),\"Tangential\",\"Oblique\")))","v":"Tangential"},0.5,"RED",0.4657861629171407,16]
[null,null,null,null,8,7,3,496.18189038521717,"Oblique",{"$f":"IF(I580=\"Axial\",1,IF(I580=\"Tangential\",0.5,IF(I580=\"Oblique\",0.25,\"\")))","v":0.25},"RED",5.0445394641883468E-2,{"$f":"IF(H580<17.8,1,IF(H580<=22.4,2,IF(H580<=28.2,3,IF(H580<=35.5,4,IF(H580<=44.7,5,IF(H580<=56.2,6,IF(H580<=70.8,7,IF(H580<=89.1,8,IF(H580<=112,9,IF(H580<=141,10,IF(H580<=178,11,IF(H580<=224,12,IF(H580<=282,13,IF(H580<=355,14,IF(H580<=447,15,IF(H580<=562,16,IF(H580<=708,17,IF(H580<=891,18,IF(H580<=1122,19,IF(H580<=1413,20,IF(H580<=1778,21,IF(H580<=2239,22,IF(H580<=2818,23,IF(H580<=3548,24,IF(H580<=4467,25,IF(H580<=5623,26,IF(H580<=7079,27,IF(H580<=8913,28,IF(H580<=11220,29,IF(H580<=14130,30,IF(H580<=17780,31,IF(H580<=22390,32,))))))))))))))))))))))))))))))))","v":16}]
[null,null,null,null,9,4,4,496.45733422075728,"Oblique",0.25,{"$f":"IF((H581-H580)<1,\"RED\",\"OK\")","v":"RED"},{"$f":"H581-H580","v":0.2754438355401021},16]
[null,null,null,null,3,1,7,496.78726544964513,"Oblique",0.25,"RED",0.3299312288878582,16]
[null,null,null,null,6,6,5,497.62977254300728,"Oblique",0.25,"RED",0.84250709336214413,16]
[null,null,null,null,1,3,7,497.88875991916194,"Oblique",0.25,"RED",0.25898737615466416,16]
[null,null,null,null,6,3,6,498.22209391158583,"Oblique",0.25,"RED",0.3333339924238885,16]
[null,null,null,null,7,8,3,498.24770432029487,"Oblique",0.25,"RED",2.5610408709042076E-2,16]
[null,null,null,null,7,5,5,499.62236956352393,"Oblique",0.25,"OK",1.3746652432290603,16]
[null,null,null,null,8,8,2,501.06474264102269,"Oblique",0.25,"OK",1.4423730774987575,16]
[null,null,null,null,9,6,3,501.40133181803191,"Oblique",0.25,"RED",0.3365891770092162,16]
[null,null,null,null,3,6,6,501.91932278723681,"Oblique",0.25,"RED",0.51799096920490229,16]
[null,null,null,null,3,2,7,502.44290029016179,"Oblique",0.25,"RED",0.5235775029249794,16]
[null,null,null,null,9,7,2,502.49893820238793,"Oblique",0.25,"RED",5.6037912226145181E-2,16]
[null,null,null,null,7,7,4,502.72871966719509,"Oblique",0.25,"RED",0.22978146480716077,16]
[null,null,null,null,5,7,5,502.90098686618677,"Oblique",0.25,"RED",0.1722671989916762,16]
[null,null,null,null,2,3,7,503.12387827458053,"Oblique",0.25,"RED",0.22289140839376387,16]
[null,null,null,null,3,8,5,503.20662014700906,"Oblique",0.25,"RED",8.274187242852804E-2,16]
[null,null,null,null,7,0,6,503.96418239270326,"Tangential",0.5,"RED",0.75756224569420283,16]
[null,null,null,null,8,6,4,504.42975694347808,"Oblique",0.25,"RED",0.46557455077481791,16]
[null,null,null,null,4,9,4,505.34332843763883,"Oblique",0.25,"RED",0.9135714941607489,16]
[null,null,null,null,7,1,6,505.82967236784719,"Oblique",0.25,"RED",0.48634393020836342,16]
[null,null,null,null,7,9,2,506.84090547048993,"Oblique",0.25,"OK",1.0112331026427341,16]
[null,null,null,null,4,0,7,507.09118767510745,"Tangential",0.5,"RED",0.25028220461751971,16]
[null,null,null,null,6,9,3,507.50981772915992,"Oblique",0.25,"RED",0.41863005405247122,16]
[null,null,null,null,6,8,4,508.21657310955811,"Oblique",0.25,"RED",0.7067553803981923,16]
[null,null,null,null,9,0,5,508.3564829878498,"Tangential",0.5,"RED",0.13990987829168944,16]
[null,null,null,null,8,4,5,508.79344289424631,"Oblique",0.25,"RED",0.43695990639650972,16]
[null,null,null,null,4,1,7,508.94521604075311,"Oblique",0.25,"RED",0.15177314650679818,16]
[null,null,null,null,5,5,6,509.06831355966142,"Oblique",0.25,"RED",0.12309751890830967,16]
[null,null,null,null,0,4,7,509.24722178875015,"Tangential",0.5,"RED",0.17890822908873361,16]
[null,null,null,null,9,1,5,510.20591343965594,"Oblique",0.25,"RED",0.95869165090579145,16]
[null,null,null,null,0,7,6,510.57872238058172,"Tangential",0.5,"RED",0.3728089409257791,16]
[null,null,null,null,1,4,7,510.9594303317682,"Oblique",0.25,"RED",0.38070795118647993,16]
[null,null,null,null,6,4,6,511.28424291461329,"Oblique",0.25,"RED",0.32481258284508385,16]
[null,null,null,null,7,2,6,511.3853130339362,"Oblique",0.25,"RED",0.10107011932291243,16]
[null,null,null,null,3,3,7,511.73007495854512,"Oblique",0.25,"RED",0.34476192460891752,16]
[null,null,null,null,9,8,0,511.91013880456978,"Tangential",0.5,"RED",0.18006384602466596,16]
[null,null,null,null,1,7,6,512.28648068555538,"Oblique",0.25,"RED",0.37634188098559207,16]
[null,null,null,null,9,5,4,513.2482123872818,"Oblique",0.25,"RED",0.96173170172642131,16]
[null,null,null,null,4,6,6,513.9558856604632,"Oblique",0.25,"RED",0.70767327318139905,16]
[null,null,null,null,8,9,0,514.17915580110434,"Tangential",0.5,"RED",0.22327014064114792,16]
[null,null,null,null,4,2,7,514.4672136004607,"Oblique",0.25,"RED",0.28805779935635201,16]
[null,null,null,null,4,8,5,515.21310967172496,"Oblique",0.25,"RED",0.74589607126426927,16]
[null,null,null,null,9,2,5,515.714412294098,"Oblique",0.25,"RED",0.50130262237303214,16]
[null,null,null,null,2,4,7,516.06197213239727,"Oblique",0.25,"RED",0.34755983829927573,16]
[null,null,null,null,9,8,1,516.4585070996834,"Oblique",0.25,"RED",0.39653496728612936,16]
[null,null,null,null,2,7,6,517.37593481858607,"Oblique",0.25,"RED",0.9174277189026725,16]
[null,null,null,null,8,9,1,518.70762825030465,"Oblique",0.25,"OK",1.3316934317185769,16]
[null,null,null,null,0,9,5,519.15274146674415,"Tangential",0.5,"RED",0.44511321643949486,16]
[null,null,null,null,7,6,5,519.94603144121197,"Oblique",0.25,"RED",0.79328997446782523,16]
[null,null,null,null,7,3,6,520.51295848605503,"Oblique",0.25,"RED",0.56692704484305523,16]
[null,null,null,null,5,9,4,520.66605276806104,"Oblique",0.25,"RED",0.15309428200600905,16]
[null,null,null,null,1,9,5,520.83238716293431,"Oblique",0.25,"RED",0.1663343948732745,16]
[null,null,null,null,6,7,5,521.65532163530736,"Oblique",0.25,"RED",0.82293447237304918,16]
[null,null,null,null,5,0,7,522.3626436934336,"Tangential",0.5,"RED",0.70732205812623761,16]
[null,null,null,null,4,3,7,523.54113060476038,"Oblique",0.25,"OK",1.178486911326786,16]
[null,null,null,null,8,8,3,523.88249927012635,"Oblique",0.25,"RED",0.34136866536596244,16]
[null,null,null,null,5,1,7,524.16265780710739,"Oblique",0.25,"RED",0.2801585369810482,16]
[null,null,null,null,3,4,7,524.45590072779476,"Oblique",0.25,"RED",0.29324292068736213,16]
[null,null,null,null,9,3,5,524.76676401324778,"Oblique",0.25,"RED",0.31086328545302422,16]
[null,null,null,null,8,5,5,525.19007068807048,"Oblique",0.25,"RED",0.42330667482269746,16]
[null,null,null,null,9,7,3,525.25439514403581,"Oblique",0.25,"RED",6.4324455965333982E-2,16]
[null,null,null,null,0,5,7,525.62969447770001,"Tangential",0.5,"RED",0.37529933366420209,16]
[null,null,null,null,3,7,6,{"$f":"$D$5*SQRT((($E643/$D$2)^2)+(($F643/$D$3)^2)+(($G643/$D$4)^2))","v":525.74888554939344},{"$f":"+IF(+AND(E643=0,F643=0)+OR(+AND(E643=0,G643=0))+OR(+AND(F643=0,G643=0)),\"Axial\",(+IF(+OR(E643=0,F643=0,G643=0),\"Tangential\",\"Oblique\")))","v":"Oblique"},0.25,"RED",0.11919107169342169,16]
[null,null,null,null,2,9,5,525.83913429304096,"Oblique",{"$f":"IF(I644=\"Axial\",1,IF(I644=\"Tangential\",0.5,IF(I644=\"Oblique\",0.25,\"\")))","v":0.25},"RED",9.0248743647521223E-2,{"$f":"IF(H644<17.8,1,IF(H644<=22.4,2,IF(H644<=28.2,3,IF(H644<=35.5,4,IF(H644<=44.7,5,IF(H644<=56.2,6,IF(H644<=70.8,7,IF(H644<=89.1,8,IF(H644<=112,9,IF(H644<=141,10,IF(H644<=178,11,IF(H644<=224,12,IF(H644<=282,13,IF(H644<=355,14,IF(H644<=447,15,IF(H644<=562,16,IF(H644<=708,17,IF(H644<=891,18,IF(H644<=1122,19,IF(H644<=1413,20,IF(H644<=1778,21,IF(H644<=2239,22,IF(H644<=2818,23,IF(H644<=3548,24,IF(H644<=4467,25,IF(H644<=5623,26,IF(H644<=7079,27,IF(H644<=8913,28,IF(H644<=11220,29,IF(H644<=14130,30,IF(H644<=17780,31,IF(H644<=22390,32,))))))))))))))))))))))))))))))))","v":16}]
[null,null,null,null,1,5,7,527.28870864273676,"Oblique",0.25,{"$f":"IF((H645-H644)<1,\"RED\",\"OK\")","v":"OK"},{"$f":"H645-H644","v":1.4495743496958085},16]
[null,null,null,null,6,5,6,527.6034684021032,"Oblique",0.25,"RED",0.31475975936643863,16]
[null,null,null,null,8,7,4,528.14606290238237,"Oblique",0.25,"RED",0.542594500279165,16]
[null,null,null,null,5,6,6,529.02921593582425,"Oblique",0.25,"RED",0.88315303344188578,16]
[null,null,null,null,8,0,6,529.32220368676758,"Tangential",0.5,"RED",0.29298775094332541,16]
[null,null,null,null,7,9,3,529.40976585414978,"Oblique",0.25,"RED",8.756216738220246E-2,16]
[null,null,null,null,5,2,7,529.52598876586217,"Oblique",0.25,"RED",0.1162229117123843,16]
[null,null,null,null,9,8,2,529.86940616513573,"Oblique",0.25,"RED",0.3434173992735623,16]
[null,null,null,null,7,8,4,530.08732325295557,"Oblique",0.25,"RED",0.21791708781984198,16]
[null,null,null,null,5,8,5,530.25070229680125,"Oblique",0.25,"RED",0.16337904384567992,16]
[null,null,null,null,8,1,6,531.0986307917143,"Oblique",0.25,"RED",0.84792849491304878,16]
[null,null,null,null,8,9,2,532.0618400517144,"Oblique",0.25,"RED",0.96320926000009877,16]
[null,null,null,null,2,5,7,532.23472443870003,"Oblique",0.25,"RED",0.17288438698562913,16]
[null,null,null,null,7,4,6,533.02913817448098,"Oblique",0.25,"RED",0.79441373578094954,16]
[null,null,null,null,9,6,4,533.05261556617063,"Oblique",0.25,"RED",2.3477391689652904E-2,16]
[null,null,null,null,3,9,5,534.07942094886789,"Oblique",0.25,"OK",1.0268053826972618,16]
[null,null,null,null,4,4,7,535.9866020956448,"Oblique",0.25,"OK",1.9071811467769066,16]
[null,null,null,null,8,2,6,536.39261419960553,"Oblique",0.25,"RED",0.40601210396073384,16]
[null,null,null,null,9,4,5,537.18384078829104,"Oblique",0.25,"RED",0.79122658868550388,16]
[null,null,null,null,4,7,6,537.25183710645592,"Oblique",0.25,"RED",6.7996318164887271E-2,16]
[null,null,null,null,0,8,6,537.53793953827437,"Tangential",0.5,"RED",0.28610243181844908,16]
[null,null,null,null,5,3,7,538.34614732860564,"Oblique",0.25,"RED",0.80820779033126655,16]
[null,null,null,null,6,9,4,538.80238539238542,"Oblique",0.25,"RED",0.45623806377977871,16]
[null,null,null,null,1,8,6,539.16031288333727,"Oblique",0.25,"RED",0.35792749095185172,16]
[null,null,null,null,3,5,7,540.37749270797929,"Oblique",0.25,"OK",1.2171798246420167,16]
[null,null,null,null,6,0,7,540.4420445578271,"Tangential",0.5,"RED",6.4551849847816811E-2,16]
[null,null,null,null,6,1,7,542.18203939162549,"Oblique",0.25,"OK",1.7399948337983915,16]
[null,null,null,null,9,9,0,542.28766861529834,"Tangential",0.5,"RED",0.10562922367284955,16]
[null,null,null,null,7,7,5,542.98504554057149,"Oblique",0.25,"RED",0.69737692527314721,16]
[null,null,null,null,2,8,6,543.99840314533287,"Oblique",0.25,"OK",1.0133576047613815,16]
[null,null,null,null,8,6,5,544.56034908220761,"Oblique",0.25,"RED",0.56194593687473571,16]
[null,null,null,null,0,6,7,544.98434762836587,"Tangential",0.5,"RED",0.42399854615825916,16]
[null,null,null,null,8,3,6,545.10167687595276,"Oblique",0.25,"RED",0.11732924758689478,16]
[null,null,null,null,4,9,5,545.40670485327792,"Oblique",0.25,"RED",0.30502797732515319,16]
[null,null,null,null,9,9,1,546.58331009731319,"Oblique",0.25,"OK",1.1766052440352723,16]
[null,null,null,null,1,6,7,546.58461897982477,"Oblique",0.25,"RED",1.3088825115801228E-3,16]
[null,null,null,null,6,6,6,546.8882731537808,"Oblique",0.25,"RED",0.30365417395603345,16]
[null,null,null,null,0,0,8,547.13212121212121,"Axial",1,"RED",0.24384805834040435,16]
[null,null,null,null,6,2,7,547.36883796752204,"Oblique",0.25,"RED",0.2367167554008347,16]
[null,null,null,null,6,8,5,548.06995838642911,"Oblique",0.25,"RED",0.70112041890706678,16]
[null,null,null,null,7,5,6,548.70201836715501,"Oblique",0.25,"RED",0.63205998072589864,16]
[null,null,null,null,1,0,8,548.72612896369355,"Tangential",0.5,"RED",2.4110596538548634E-2,16]
[null,null,null,null,0,1,8,548.850907237196,"Tangential",0.5,"RED",0.12477827350244297,16]
[null,null,null,null,1,1,8,550.43993761399406,"Oblique",0.25,"OK",1.589030376798064,16]
[null,null,null,null,5,4,7,550.45698881445503,"Oblique",0.25,"RED",1.7051200460969085E-2,16]
[null,null,null,null,2,6,7,551.35756577880943,"Oblique",0.25,"RED",0.90057696435439993,16]
[null,null,null,null,9,8,3,551.49667661137653,"Oblique",0.25,"RED",0.13911083256709844,16]
[null,null,null,null,4,5,7,551.57545308252691,"Oblique",0.25,null,7.8776471150376892E-2,16]
[null,null,null,null,5,7,6,551.68903866481139,"Oblique",0.25,null,0.11358558228448601,16]
[null,null,null,null,3,8,6,551.96765788558253,"Oblique",0.25,null,0.27861922077113377,16]
[null,null,null,null,9,5,5,552.73892718101536,"Oblique",0.25,null,0.7712692954328304,16]
[null,null,null,null,2,0,8,553.48060873321845,"Tangential",0.5,null,0.74168155220309018,16]
[null,null,null,null,8,9,3,553.60346671856712,"Oblique",0.25,null,0.12285798534867354,16]
[null,null,null,null,0,2,8,553.97526958714172,"Tangential",0.5,null,0.37180286857460487,16]
[null,null,null,null,8,8,4,554.25144876179934,"Oblique",0.25,null,0.27617917465761366,16]
[null,null,null,null,2,1,8,555.17974076573773,"Oblique",0.25,null,0.92829200393839528,16]
[null,null,null,null,9,7,4,555.54835525916769,"Oblique",0.25,null,0.36861449342995911,16]
[null,null,null,null,1,2,8,555.5496430199114,"Oblique",0.25,null,1.2877607437076222E-3,16]
[null,null,null,null,6,3,7,555.90596897587284,"Oblique",0.25,null,0.35632595596143801,16]
[null,null,null,null,9,0,6,556.66660272347497,"Tangential",0.5,null,0.7606337476021281,16]
[null,null,null,null,8,4,6,557.06566966929483,"Oblique",0.25,null,0.39906694581986812,16]
[null,null,null,null,9,1,6,558.35603954888222,"Oblique",0.25,null,1.2903698795873879,16]
[null,null,null,null,3,6,7,{"$f":"$D$5*SQRT((($E707/$D$2)^2)+(($F707/$D$3)^2)+(($G707/$D$4)^2))","v":559.22195778470416},{"$f":"+IF(+AND(E707=0,F707=0)+OR(+AND(E707=0,G707=0))+OR(+AND(F707=0,G707=0)),\"Axial\",(+IF(+OR(E707=0,F707=0,G707=0),\"Tangential\",\"Oblique\")))","v":"Oblique"},0.25,null,0.86591823582193683,16]
[null,null,null,null,9,9,2,559.27230658338101,"Oblique",{"$f":"IF(I708=\"Axial\",1,IF(I708=\"Tangential\",0.5,IF(I708=\"Oblique\",0.25,\"\")))","v":0.25},null,5.0348798676850492E-2,{"$f":"IF(H708<17.8,1,IF(H708<=22.4,2,IF(H708<=28.2,3,IF(H708<=35.5,4,IF(H708<=44.7,5,IF(H708<=56.2,6,IF(H708<=70.8,7,IF(H708<=89.1,8,IF(H708<=112,9,IF(H708<=141,10,IF(H708<=178,11,IF(H708<=224,12,IF(H708<=282,13,IF(H708<=355,14,IF(H708<=447,15,IF(H708<=562,16,IF(H708<=708,17,IF(H708<=891,18,IF(H708<=1122,19,IF(H708<=1413,20,IF(H708<=1778,21,IF(H708<=2239,22,IF(H708<=2818,23,IF(H708<=3548,24,IF(H708<=4467,25,IF(H708<=5623,26,IF(H708<=7079,27,IF(H708<=8913,28,IF(H708<=11220,29,IF(H708<=14130,30,IF(H708<=17780,31,IF(H708<=22390,32,))))))))))))))))))))))))))))))))","v":16}]
[null,null,null,null,7,9,4,559.47877135310978,"Oblique",0.25,null,{"$f":"H709-H708","v":0.20646476972876826},16]
[null,null,null,null,5,9,5,559.63356994336266,"Oblique",0.25,null,0.15479859025288079,16]
[null,null,null,null,2,2,8,560.24621863584673,"Oblique",0.25,null,0.61264869248407194,16]
[null,null,null,null,7,0,7,561.05800824523033,"Tangential",0.5,null,0.81178960938359523,16]
[null,null,null,null,3,0,8,561.31525631388047,"Tangential",0.5,null,0.25724806865014216,16]
[null,null,null,null,0,3,8,562.41212725121341,"Tangential",0.5,null,1.0968709373329375,17]
[null,null,null,null,7,1,7,562.73426137842603,"Oblique",0.25,null,0.32213412721262102,17]
[null,null,null,null,4,8,6,562.93511275237415,"Oblique",0.25,null,0.20085137394812591,17]
[null,null,null,null,3,1,8,562.99074351514435,"Oblique",0.25,null,5.5630762770192632E-2,17]
[null,null,null,null,9,2,6,563.39395438695135,"Oblique",0.25,null,0.40321087180700488,17]
[null,null,null,null,1,3,8,563.96294862751381,"Oblique",0.25,null,0.56899424056246062,17]
[null,null,null,null,5,5,7,565.64718628473429,"Oblique",0.25,null,1.6842376572204785,17]
[null,null,null,null,0,9,6,566.54299198238721,"Tangential",0.5,null,0.89580569765291784,17]
[null,null,null,null,8,7,5,566.59938039303086,"Oblique",0.25,null,5.6388410643648967E-2,17]
[null,null,null,null,0,7,7,567.00689874916532,"Tangential",0.5,null,0.40751835613446019,17]
[null,null,null,null,7,6,6,567.27001366490799,"Oblique",0.25,null,0.2631149157426762,17]
[null,null,null,null,6,4,7,567.64228924044085,"Oblique",0.25,null,0.37227557553285351,17]
[null,null,null,null,7,2,7,567.73332636738519,"Oblique",0.25,null,9.1037126944343072E-2,17]
[null,null,null,null,3,2,8,567.98755111603316,"Oblique",0.25,null,0.25422474864797096,17]
[null,null,null,null,1,9,6,568.0825365294728,"Oblique",0.25,null,9.4985413439644617E-2,17]
[null,null,null,null,7,8,5,568.40932819224815,"Oblique",0.25,null,0.32679166277534932,17]
[null,null,null,null,1,7,7,568.54518709997967,"Oblique",0.25,null,0.13585890773151732,17]
[null,null,null,null,2,3,8,568.59003426093716,"Oblique",0.25,null,4.4847160957488086E-2,17]
[null,null,null,null,6,7,6,568.83711849909639,"Oblique",0.25,null,0.24708423815923197,17]
[null,null,null,null,4,6,7,570.04986087744123,"Oblique",0.25,null,1.2127423783448421,17]
[null,null,null,null,9,6,5,571.17570419654157,"Oblique",0.25,null,1.1258433191003405,17]
[null,null,null,null,9,3,6,571.69183080122366,"Oblique",0.25,null,0.5161266046820856,17]
[null,null,null,null,8,5,6,572.08041667344264,"Oblique",0.25,null,0.38858587221898233,17]
[null,null,null,null,4,0,8,572.10354201713335,"Tangential",0.5,null,2.3125343690708178E-2,17]
[null,null,null,null,2,9,6,572.67633786107649,"Oblique",0.25,null,0.57279584394314043,17]
[null,null,null,null,2,7,7,573.13528020072613,"Oblique",0.25,null,0.4589423396496386,17]
[null,null,null,null,4,1,8,573.7475255733724,"Oblique",0.25,null,0.61224537264627088,17]
[null,null,null,null,0,4,8,574.01543800699244,"Tangential",0.5,null,0.26791243362004025,17]
[null,null,null,null,1,4,8,575.53499425818063,"Oblique",0.25,null,1.5195562511881917,17]
[null,null,null,null,7,3,7,575.96868962927556,"Oblique",0.25,null,0.4336953710949274,17]
[null,null,null,null,3,3,8,576.21928099281536,"Oblique",0.25,null,0.25059136353979738,17]
[null,null,null,null,6,9,5,576.54540550333411,"Oblique",0.25,null,0.32612451051875269,17]
[null,null,null,null,5,8,6,576.72974613606516,"Oblique",0.25,null,0.18434063273105039,17]
[null,null,null,null,4,2,8,578.65145298410937,"Oblique",0.25,null,1.9217068480442094,17]
[null,null,null,null,9,9,3,579.80385444967078,"Oblique",0.25,null,1.152401465561411,17]
[null,null,null,null,2,4,8,580.0697796403274,"Oblique",0.25,null,0.26592519065661691,17]
[null,null,null,null,3,9,6,580.25185968939149,"Oblique",0.25,null,0.18208004906409769,17]
[null,null,null,null,9,8,4,580.42258719525444,"Oblique",0.25,null,0.17072750586294205,17]
[null,null,null,null,3,7,7,580.70481497727246,"Oblique",0.25,null,0.28222778201802612,17]
[null,null,null,null,6,5,7,582.38441887750412,"Oblique",0.25,null,1.6796039002316547,17]
[null,null,null,null,8,9,4,582.42475374579953,"Oblique",0.25,null,4.0334868295417436E-2,17]
[null,null,null,null,9,4,6,583.11051405027774,"Oblique",0.25,null,0.68576030447820813,17]
[null,null,null,null,5,6,7,583.67636819990594,"Oblique",0.25,null,0.56585414962819414,17]
[null,null,null,null,8,0,7,583.94193786469475,"Tangential",0.5,null,0.2655696647888135,17]
[null,null,null,null,8,1,7,585.55268517033778,"Oblique",0.25,null,1.6107473056430308,17]
[null,null,null,null,5,0,8,585.68227026024272,"Tangential",0.5,null,0.12958508990493556,17]
[null,null,null,null,4,3,8,586.73358997564617,"Oblique",0.25,null,1.0513197154034515,17]
[null,null,null,null,5,1,8,587.28824439980883,"Oblique",0.25,null,0.55465442416266342,17]
[null,null,null,null,7,4,7,587.30422578454943,"Oblique",0.25,null,1.5981384740598514E-2,17]
[null,null,null,null,3,4,8,587.54998253680628,"Oblique",0.25,null,0.24575675225685245,17]
[null,null,null,null,7,7,6,588.45913407187061,"Oblique",0.25,null,0.90915153506432489,17]
[null,null,null,null,0,5,8,588.5979662617932,"Tangential",0.5,null,0.13883218992259572,17]
[null,null,null,null,8,6,6,589.9130161171687,"Oblique",0.25,null,1.3150498553754915,17]
[null,null,null,null,1,5,8,590.07997121824405,"Oblique",0.25,null,0.16695510107535938,17]
[null,null,null,null,8,2,7,590.3585588853997,"Oblique",0.25,null,0.27858766715564798,17]
[null,null,null,null,4,9,6,590.69439348179856,"Oblique",0.25,null,0.33583459639885405,17]
[null,null,null,null,8,8,5,591.00868230258072,"Oblique",0.25,null,0.31428882078216702,17]
[null,null,null,null,4,7,7,{"$f":"$D$5*SQRT((($E771/$D$2)^2)+(($F771/$D$3)^2)+(($G771/$D$4)^2))","v":591.13934732482574},{"$f":"+IF(+AND(E771=0,F771=0)+OR(+AND(E771=0,G771=0))+OR(+AND(F771=0,G771=0)),\"Axial\",(+IF(+OR(E771=0,F771=0,G771=0),\"Tangential\",\"Oblique\")))","v":"Oblique"},0.25,null,0.13066502224501164,17]
[null,null,null,null,0,8,7,591.39938106529382,"Tangential",{"$f":"IF(I772=\"Axial\",1,IF(I772=\"Tangential\",0.5,IF(I772=\"Oblique\",0.25,\"\")))","v":0.5},null,0.26003374046808858,{"$f":"IF(H772<17.8,1,IF(H772<=22.4,2,IF(H772<=28.2,3,IF(H772<=35.5,4,IF(H772<=44.7,5,IF(H772<=56.2,6,IF(H772<=70.8,7,IF(H772<=89.1,8,IF(H772<=112,9,IF(H772<=141,10,IF(H772<=178,11,IF(H772<=224,12,IF(H772<=282,13,IF(H772<=355,14,IF(H772<=447,15,IF(H772<=562,16,IF(H772<=708,17,IF(H772<=891,18,IF(H772<=1122,19,IF(H772<=1413,20,IF(H772<=1778,21,IF(H772<=2239,22,IF(H772<=2818,23,IF(H772<=3548,24,IF(H772<=4467,25,IF(H772<=5623,26,IF(H772<=7079,27,IF(H772<=8913,28,IF(H772<=11220,29,IF(H772<=14130,30,IF(H772<=17780,31,IF(H772<=22390,32,))))))))))))))))))))))))))))))))","v":17}]
[null,null,null,null,5,2,8,592.08003086513816,"Oblique",0.25,null,{"$f":"H773-H772","v":0.68064979984433194},17]
[null,null,null,null,9,7,5,592.22510005372601,"Oblique",0.25,null,0.14506918858785411,17]
[null,null,null,null,1,8,7,592.87438338135109,"Oblique",0.25,null,0.64928332762508489,17]
[null,null,null,null,6,8,6,593.15434085710058,"Oblique",0.25,null,0.27995747574948382,17]
[null,null,null,null,2,5,8,594.50382006269558,"Oblique",0.25,null,1.3494792055950029,17]
[null,null,null,null,7,9,5,595.91365959949644,"Oblique",0.25,null,1.4098395368008596,17]
[null,null,null,null,2,8,7,597.27753524306547,"Oblique",0.25,null,1.3638756435690311,17]
[null,null,null,null,9,5,6,597.47109922835511,"Oblique",0.25,null,0.19356398528964291,17]
[null,null,null,null,4,4,8,597.86505818356204,"Oblique",0.25,null,0.39395895520692648,17]
[null,null,null,null,8,3,7,598.28256669765551,"Oblique",0.25,null,0.41750851409346978,17]
[null,null,null,null,6,6,7,599.91080569905012,"Oblique",0.25,null,1.6282390013946042,17]
[null,null,null,null,5,3,8,599.98130347065955,"Oblique",0.25,null,7.0497771609439042E-2,17]
[null,null,null,null,7,5,7,601.56470677853827,"Oblique",0.25,null,1.5834033078787115,17]
[null,null,null,null,3,5,8,601.80464005868305,"Oblique",0.25,null,0.23993328014478266,17]
[null,null,null,null,6,0,8,601.86260367017599,"Tangential",0.5,null,5.7963611492937162E-2,17]
[null,null,null,null,6,1,8,603.42551653842168,"Oblique",0.25,null,1.5629128682456894,17]
[null,null,null,null,5,9,6,603.85521890555174,"Oblique",0.25,null,0.42970236713006216,17]
[null,null,null,null,5,7,7,604.29048218904029,"Oblique",0.25,null,0.43526328348855259,17]
[null,null,null,null,3,8,7,604.54485923962216,"Oblique",0.25,null,0.25437705058186566,17]
[null,null,null,null,0,6,8,605.94465863700327,"Tangential",0.5,null,1.3997993973811163,17]
[null,null,null,null,9,9,4,607.38316164323703,"Oblique",0.25,null,1.4385030062337592,17]
[null,null,null,null,1,6,8,607.38433950515969,"Oblique",0.25,null,1.1778619226561204E-3,17]
[null,null,null,null,6,2,8,608.09015363572053,"Oblique",0.25,null,0.70581413056083875,17]
[null,null,null,null,9,0,7,608.83815424877423,"Tangential",0.5,null,0.74800061305370491,17]
[null,null,null,null,8,4,7,609.20304645122962,"Oblique",0.25,null,0.364892202455394,17]
[null,null,null,null,8,7,6,610.31651677935577,"Oblique",0.25,null,1.1134703281261409,17]
[null,null,null,null,9,1,7,610.38320617631007,"Oblique",0.25,null,6.6689396954302538E-2,17]
[null,null,null,null,5,4,8,610.87141585236736,"Oblique",0.25,null,0.48820967605729493,17]
[null,null,null,null,2,6,8,611.68305151633308,"Oblique",0.25,null,0.81163566396571696,17]
[null,null,null,null,4,5,8,611.87945758457499,"Oblique",0.25,null,0.19640606824191309,17]
[null,null,null,null,7,8,6,611.99718722219791,"Oblique",0.25,null,0.11772963762291511,17]
[null,null,null,null,9,6,6,614.56739081758496,"Oblique",0.25,null,2.5702035953870563,17]
[null,null,null,null,4,8,7,614.57475757704788,"Oblique",0.25,null,7.3667594629114319E-3,17]
[null,null,null,null,9,2,7,614.9950725990617,"Oblique",0.25,null,0.42031502201382409,17]
[null,null,null,null,0,0,9,615.52363636363634,"Axial",1,null,0.52856376457464194,17]
[null,null,null,null,9,8,5,615.61917922439034,"Oblique",0.25,null,9.5542860753994319E-2,17]
[null,null,null,null,6,3,8,615.78603143770886,"Oblique",0.25,null,0.16685221331852063,17]
[null,null,null,null,1,0,9,616.9409643294232,"Tangential",0.5,null,1.1549328917143384,17]
[null,null,null,null,0,1,9,617.05194857105164,"Tangential",0.5,null,0.11098424162844367,17]
[null,null,null,null,8,9,5,617.5072371060395,"Oblique",0.25,null,0.45528853498785793,17]
[null,null,null,null,0,9,7,617.88118052398579,"Tangential",0.5,null,0.37394341794629327,17]
[null,null,null,null,1,1,9,618.46577413850184,"Oblique",0.25,null,0.58459361451605218,17]
[null,null,null,null,7,6,7,618.54786385917134,"Oblique",0.25,null,8.2089720669500821E-2,17]
[null,null,null,null,3,6,8,618.78121193145182,"Oblique",0.25,null,0.23334807228047794,17]
[null,null,null,null,1,9,7,619.29311298537698,"Oblique",0.25,null,0.51190105392515761,17]
[null,null,null,null,6,9,6,619.56113289886343,"Oblique",0.25,null,0.26801991348645515,17]
[null,null,null,null,6,7,7,619.98536987876912,"Oblique",0.25,null,0.42423697990568598,17]
[null,null,null,null,7,0,8,620.44103570516984,"Tangential",0.5,null,0.45566582640071829,17]
[null,null,null,null,2,0,9,621.17354507732591,"Tangential",0.5,null,0.73250937215607337,17]
[null,null,null,null,0,2,9,621.61434038669427,"Tangential",0.5,null,0.44079530936835454,17]
[null,null,null,null,7,1,8,621.95726468940097,"Oblique",0.25,null,0.34292430270670593,17]
[null,null,null,null,9,3,7,622.60560621168031,"Oblique",0.25,null,0.64834152227933828,17]
[null,null,null,null,2,1,9,622.68799042293278,"Oblique",0.25,null,8.2384211252474415E-2,17]
[null,null,null,null,8,5,7,622.96243435910219,"Oblique",0.25,null,0.27444393616940488,17]
[null,null,null,null,1,2,9,623.01781252207365,"Oblique",0.25,null,5.5378162971464917E-2,17]
[null,null,null,null,2,9,7,623.50972681052292,"Oblique",0.25,null,0.49191428844926577,17]
[null,null,null,null,5,5,8,624.59405178294469,"Oblique",0.25,null,1.0843249724217685,17]
[null,null,null,null,0,7,8,625.8257052885773,"Tangential",0.5,null,1.2316535056326074,17]
[null,null,null,null,6,4,8,626.40143574622118,"Oblique",0.25,null,0.57573045764388553,17]
[null,null,null,null,7,2,8,626.48393438217943,"Oblique",0.25,null,8.2498635958245359E-2,17]
[null,null,null,null,2,2,9,627.2093863742823,"Oblique",0.25,null,0.72545199210287592,17]
[null,null,null,null,1,7,8,627.2197541096341,"Oblique",0.25,null,1.0367735351792362E-2,17]
[null,null,null,null,5,8,7,{"$f":"$D$5*SQRT((($E835/$D$2)^2)+(($F835/$D$3)^2)+(($G835/$D$4)^2))","v":627.23471807572093},{"$f":"+IF(+AND(E835=0,F835=0)+OR(+AND(E835=0,G835=0))+OR(+AND(F835=0,G835=0)),\"Axial\",(+IF(+OR(E835=0,F835=0,G835=0),\"Tangential\",\"Oblique\")))","v":"Oblique"},0.25,null,1.4963966086838809E-2,17]
[null,null,null,null,3,0,9,628.16447355048342,"Tangential",{"$f":"IF(I836=\"Axial\",1,IF(I836=\"Tangential\",0.5,IF(I836=\"Oblique\",0.25,\"\")))","v":0.5},null,0.92975547476248721,{"$f":"IF(H836<17.8,1,IF(H836<=22.4,2,IF(H836<=28.2,3,IF(H836<=35.5,4,IF(H836<=44.7,5,IF(H836<=56.2,6,IF(H836<=70.8,7,IF(H836<=89.1,8,IF(H836<=112,9,IF(H836<=141,10,IF(H836<=178,11,IF(H836<=224,12,IF(H836<=282,13,IF(H836<=355,14,IF(H836<=447,15,IF(H836<=562,16,IF(H836<=708,17,IF(H836<=891,18,IF(H836<=1122,19,IF(H836<=1413,20,IF(H836<=1778,21,IF(H836<=2239,22,IF(H836<=2818,23,IF(H836<=3548,24,IF(H836<=4467,25,IF(H836<=5623,26,IF(H836<=7079,27,IF(H836<=8913,28,IF(H836<=11220,29,IF(H836<=14130,30,IF(H836<=17780,31,IF(H836<=22390,32,))))))))))))))))))))))))))))))))","v":17}]
[null,null,null,null,4,6,8,628.58399125112078,"Oblique",0.25,null,{"$f":"H837-H836","v":0.41951770063735694},17]
[null,null,null,null,0,3,9,629.14480824328018,"Tangential",0.5,null,0.56081699215940262,17]
[null,null,null,null,3,1,9,629.66210473870331,"Oblique",0.25,null,0.51729649542312472,17]
[null,null,null,null,3,9,7,630.47475140116148,"Oblique",0.25,null,0.81264666245817807,17]
[null,null,null,null,1,3,9,630.53151886712089,"Oblique",0.25,null,5.6767465959410401E-2,17]
[null,null,null,null,2,7,8,631.38343309083086,"Oblique",0.25,null,0.85191422370996861,17]
[null,null,null,null,8,8,6,633.04238037350399,"Oblique",0.25,null,1.6589472826731253,17]
[null,null,null,null,9,4,7,633.10667590646858,"Oblique",0.25,null,6.4295532964592894E-2,17]
[null,null,null,null,7,3,8,633.9565612911216,"Oblique",0.25,null,0.84988538465302099,17]
[null,null,null,null,3,2,9,634.13377696116061,"Oblique",0.25,null,0.17721567003900418,17]
[null,null,null,null,9,7,6,634.17817837384223,"Oblique",0.25,null,4.4401412681622787E-2,17]
[null,null,null,null,2,3,9,634.6734718901464,"Oblique",0.25,null,0.49529351630417295,17]
[null,null,null,null,7,9,6,637.62409183560794,"Oblique",0.25,null,2.9506199454615398,17]
[null,null,null,null,4,0,9,637.823056692676,"Tangential",0.5,null,0.19896485706806288,17]
[null,null,null,null,7,7,7,638.03631867941078,"Oblique",0.25,null,0.21326198673477847,17]
[null,null,null,null,3,7,8,638.26254183414767,"Oblique",0.25,null,0.22622315473688559,17]
[null,null,null,null,4,1,9,639.29806190994066,"Oblique",0.25,null,1.0355200757929879,17]
[null,null,null,null,8,6,7,639.37747697726581,"Oblique",0.25,null,7.9415067325157906E-2,17]
[null,null,null,null,0,4,9,639.53851481407912,"Tangential",0.5,null,0.16103783681330697,17]
[null,null,null,null,6,5,8,639.79106083321221,"Oblique",0.25,null,0.25254601913309216,17]
[null,null,null,null,4,9,7,640.09847521470397,"Oblique",0.25,null,0.30741438149175337,17]
[null,null,null,null,1,4,9,640.90273714191812,"Oblique",0.25,null,0.80426192721415646,17]
[null,null,null,null,5,6,8,640.96731037224595,"Oblique",0.25,null,6.4573230327823694E-2,17]
[null,null,null,null,9,9,5,641.10131738299674,"Oblique",0.25,null,0.13400701075079269,17]
[null,null,null,null,8,0,8,641.20915228026331,"Tangential",0.5,null,0.10783489726657081,17]
[null,null,null,null,3,3,9,641.5173019086202,"Oblique",0.25,null,0.30814962835688675,17]
[null,null,null,null,6,8,7,642.36925794980289,"Oblique",0.25,null,0.85195604118268875,17]
[null,null,null,null,8,1,8,642.67638612367864,"Oblique",0.25,null,0.30712817387575342,17]
[null,null,null,null,4,2,9,643.70279858088202,"Oblique",0.25,null,1.0264124572033779,17]
[null,null,null,null,7,4,8,644.2726470953022,"Oblique",0.25,null,0.5698485144201868,17]
[null,null,null,null,2,4,9,644.97809118776797,"Oblique",0.25,null,0.70544409246576834,17]
[null,null,null,null,9,5,7,646.35741342890003,"Oblique",0.25,null,1.3793222411320585,17]
[null,null,null,null,8,2,8,647.05812584345529,"Oblique",0.25,null,0.70071241455525524,17]
[null,null,null,null,4,7,8,647.77057522429948,"Oblique",0.25,null,0.71244938084419118,17]
[null,null,null,null,0,8,8,648.00788428476039,"Tangential",0.5,null,0.23730906046091604,17]
[null,null,null,null,1,8,8,649.35431363826035,"Oblique",0.25,null,1.346429353499957,17]
[null,null,null,null,5,0,9,650.03039202596563,"Tangential",0.5,null,0.67607838770527451,17]
[null,null,null,null,4,3,9,650.97779875042465,"Oblique",0.25,null,0.94740672445902874,17]
[null,null,null,null,5,1,9,651.47775930606281,"Oblique",0.25,null,0.49996055563815389,17]
[null,null,null,null,3,4,9,651.71371846788679,"Oblique",0.25,null,0.23595916182398469,17]
[null,null,null,null,5,9,7,652.2632266813996,"Oblique",0.25,null,0.54950821351280865,17]
[null,null,null,null,0,5,9,652.65868166121709,"Tangential",0.5,null,0.39545497981748667,17]
[null,null,null,null,2,8,8,653.37695419782767,"Oblique",0.25,null,0.71827253661058421,17]
[null,null,null,null,1,5,9,653.99553614161812,"Oblique",0.25,null,0.61858194379044562,17]
[null,null,null,null,8,3,8,654.29581978271381,"Oblique",0.25,null,0.30028364109568884,17]
[null,null,null,null,6,6,8,655.78499903953457,"Oblique",0.25,null,1.489179256820762,17]
[null,null,null,null,5,2,9,655.80069518833352,"Oblique",0.25,null,1.5696148798951981E-2,17]
[null,null,null,null,9,8,6,656.07801869962941,"Oblique",0.25,null,0.27732351129589006,17]
[null,null,null,null,7,5,8,657.298323908062,"Oblique",0.25,null,1.2203052084325918,17]
[null,null,null,null,8,9,6,657.84996820723018,"Oblique",0.25,null,0.55164429916817426,17]
[null,null,null,null,2,5,9,657.98980305881366,"Oblique",0.25,null,0.13983485158348685,17]
[null,null,null,null,8,7,7,658.24952877692579,"Oblique",0.25,null,0.25972571811212219,17]
[null,null,null,null,5,7,8,659.7938898133732,"Oblique",0.25,null,1.5443610364474125,17]
[null,null,null,null,7,8,7,659.80811502227004,"Oblique",0.25,null,1.4225208896846198E-2,17]
[null,null,null,null,3,8,8,660.02687597086026,"Oblique",0.25,null,0.21876094859021578,17]
[null,null,null,null,4,4,9,661.02830246296764,"Oblique",0.25,null,1.0014264921073845,17]
[null,null,null,null,9,6,7,662.19277354686778,"Oblique",0.25,null,1.1644710839001391,17]
[null,null,null,null,5,3,9,662.9429488082593,"Oblique",0.25,null,0.75017526139151869,17]
[null,null,null,null,9,0,8,663.96151111329721,"Tangential",0.5,null,1.0185623050379036,17]
[null,null,null,null,8,4,8,664.29612521544766,"Oblique",0.25,null,0.33461410215045362,17]
[null,null,null,null,3,5,9,664.59357027915928,"Oblique",0.25,null,0.29744506371162061,17]
[null,null,null,null,6,0,9,664.64605810678052,"Tangential",0.5,null,5.2487827621234828E-2,17]
[null,null,null,null,9,1,8,{"$f":"$D$5*SQRT((($E899/$D$2)^2)+(($F899/$D$3)^2)+(($G899/$D$4)^2))","v":665.37857536358274},{"$f":"+IF(+AND(E899=0,F899=0)+OR(+AND(E899=0,G899=0))+OR(+AND(F899=0,G899=0)),\"Axial\",(+IF(+OR(E899=0,F899=0,G899=0),\"Tangential\",\"Oblique\")))","v":"Oblique"},0.25,null,0.73251725680222535,17]
[null,null,null,null,6,1,9,666.06166596637263,"Oblique",{"$f":"IF(I900=\"Axial\",1,IF(I900=\"Tangential\",0.5,IF(I900=\"Oblique\",0.25,\"\")))","v":0.25},null,0.68309060278988909,{"$f":"IF(H900<17.8,1,IF(H900<=22.4,2,IF(H900<=28.2,3,IF(H900<=35.5,4,IF(H900<=44.7,5,IF(H900<=56.2,6,IF(H900<=70.8,7,IF(H900<=89.1,8,IF(H900<=112,9,IF(H900<=141,10,IF(H900<=178,11,IF(H900<=224,12,IF(H900<=282,13,IF(H900<=355,14,IF(H900<=447,15,IF(H900<=562,16,IF(H900<=708,17,IF(H900<=891,18,IF(H900<=1122,19,IF(H900<=1413,20,IF(H900<=1778,21,IF(H900<=2239,22,IF(H900<=2818,23,IF(H900<=3548,24,IF(H900<=4467,25,IF(H900<=5623,26,IF(H900<=7079,27,IF(H900<=8913,28,IF(H900<=11220,29,IF(H900<=14130,30,IF(H900<=17780,31,IF(H900<=22390,32,))))))))))))))))))))))))))))))))","v":17}]
[null,null,null,null,6,9,7,666.8299549962361,"Oblique",0.25,null,{"$f":"H901-H900","v":0.76828902986346748},17]
[null,null,null,null,0,6,9,668.34475997867526,"Tangential",0.5,null,1.5148049824391592,17]
[null,null,null,null,4,8,8,669.22576371631567,"Oblique",0.25,null,0.88100373764041251,17]
[null,null,null,null,9,2,8,669.61177520405374,"Oblique",0.25,null,0.38601148773807381,17]
[null,null,null,null,1,6,9,669.65030033320954,"Oblique",0.25,null,3.8525129155800641E-2,17]
[null,null,null,null,6,2,9,670.29055178254828,"Oblique",0.25,null,0.64025144933873435,17]
[null,null,null,null,0,9,8,672.26344792537486,"Tangential",0.5,null,1.9728961428265848,17]
[null,null,null,null,5,4,9,672.81474089508072,"Oblique",0.25,null,0.55129296970585528,17]
[null,null,null,null,7,6,8,672.87625166559633,"Oblique",0.25,null,6.1510770515610602E-2,17]
[null,null,null,null,2,6,9,673.55173845263869,"Oblique",0.25,null,0.67548678704235954,17]
[null,null,null,null,1,9,8,673.56139286773112,"Oblique",0.25,null,9.6544150924273708E-3,17]
[null,null,null,null,4,5,9,673.73010877816091,"Oblique",0.25,null,0.16871591042979617,17]
[null,null,null,null,6,7,8,674.19793016184281,"Oblique",0.25,null,0.46782138368189408,17]
[null,null,null,null,9,3,8,676.60825523859296,"Oblique",0.25,null,2.4103250767501549,17]
[null,null,null,null,8,5,8,676.93661800305767,"Oblique",0.25,null,0.32836276446471402,17]
[null,null,null,null,6,3,9,677.280019913508,"Oblique",0.25,null,0.34340191045032498,17]
[null,null,null,null,2,9,8,677.44030703681324,"Oblique",0.25,null,0.16028712330523831,17]
[null,null,null,null,8,8,7,679.37386381160627,"Oblique",0.25,null,1.9335567747930327,17]
[null,null,null,null,3,6,9,680.00439491197039,"Oblique",0.25,null,0.63053110036412363,17]
[null,null,null,null,9,9,6,680.04580135615356,"Oblique",0.25,null,4.1406444183166968E-2,17]
[null,null,null,null,9,7,7,680.43232830820432,"Oblique",0.25,null,0.38652695205075815,17]
[null,null,null,null,5,8,8,680.8703119760238,"Oblique",0.25,null,0.43798366781948062,17]
[null,null,null,null,7,0,9,681.51512649914275,"Tangential",0.5,null,0.64481452311895282,17]
[null,null,null,null,7,1,9,682.89576654139557,"Oblique",0.25,null,1.3806400422528213,17]
[null,null,null,null,7,9,7,683.64513745842066,"Oblique",0.25,null,0.74937091702508951,17]
[null,null,null,null,3,9,8,683.85627314893816,"Oblique",0.25,null,0.21113569051749437,17]
[null,null,null,null,5,5,9,685.29812372636354,"Oblique",0.25,null,1.4418505774253845,17]
[null,null,null,null,9,4,8,686.28350792375682,"Oblique",0.25,null,0.9853841973932731,17]
[null,null,null,null,0,7,9,686.42086380017895,"Tangential",0.5,null,0.13735587642213432,17]
[null,null,null,null,6,4,9,686.94581122907061,"Oblique",0.25,null,0.52494742889166446,17]
[null,null,null,null,7,2,9,687.02103963358616,"Oblique",0.25,null,7.5228404515542024E-2,17]
[null,null,null,null,1,7,9,687.69208866002566,"Oblique",0.25,null,0.67104902643950481,17]
[null,null,null,null,4,6,9,688.93658845892901,"Oblique",0.25,null,1.2444997989033482,17]
[null,null,null,null,7,7,8,690.83379631049729,"Oblique",0.25,null,1.8972078515682824,17]
[null,null,null,null,2,7,9,691.49174141258015,"Oblique",0.25,null,0.65794510208286283,17]
[null,null,null,null,8,6,8,692.07264664673244,"Oblique",0.25,null,0.5809052341522829,17]
[null,null,null,null,4,9,8,692.73880225016114,"Oblique",0.25,null,0.66615560342870594,17]
[null,null,null,null,7,3,9,693.84199243365367,"Oblique",0.25,null,1.1031901834925293,17]
[null,null,null,null,6,8,8,694.83757363126199,"Oblique",0.25,null,0.99558119760831687,17]
[null,null,null,null,3,7,9,697.77851870692166,"Oblique",0.25,null,2.9409450756596698,17]
[null,null,null,null,9,5,8,698.52623147974691,"Oblique",0.25,null,0.74771277282525261,17]
[null,null,null,null,6,5,9,699.17693782212643,"Oblique",0.25,null,0.65070634237952163,17]
[null,null,null,null,5,6,9,700.25344113832796,"Oblique",0.25,null,1.0765033162015243,17]
[null,null,null,null,8,0,9,700.47481455667798,"Tangential",0.5,null,0.22137341835002644,17]
[null,null,null,null,9,8,7,700.88840631172548,"Oblique",0.25,null,0.41359175504749146,17]
[null,null,null,null,8,1,9,701.81815746048517,"Oblique",0.25,null,0.92975114875969211,17]
[null,null,null,null,8,9,7,702.54734513170911,"Oblique",0.25,null,0.72918767122394001,17]
[null,null,null,null,7,4,9,703.28019498307117,"Oblique",0.25,null,0.7328498513620616,17]
[null,null,null,null,5,9,8,703.99453623705756,"Oblique",0.25,null,0.71434125398639026,17]
[null,null,null,null,8,2,9,705.83284641640444,"Oblique",0.25,null,1.8383101793468768,17]
[null,null,null,null,4,7,9,706.48602745323876,"Oblique",0.25,null,0.65318103683432582,17]
[null,null,null,null,0,8,9,706.70362030730394,"Tangential",0.5,null,0.21759285406517392,17]
[null,null,null,null,1,8,9,707.93842493599311,"Oblique",0.25,null,1.2348046286891758,17]
[null,null,null,null,8,7,8,709.54452454080968,"Oblique",0.25,null,1.6060996048165634,18]
[null,null,null,null,7,8,8,710.9906742145356,"Oblique",0.25,null,1.4461496737259267,18]
[null,null,null,null,2,8,9,711.62998330387177,"Oblique",0.25,null,0.63930908933616593,18]
[null,null,null,null,8,3,9,712.47372488069493,"Oblique",0.25,null,0.84374157682316309,18]
[null,null,null,null,9,6,8,713.20422005796638,"Oblique",0.25,null,0.7304951772714503,18]
[null,null,null,null,6,6,9,713.84154672134412,"Oblique",0.25,null,0.6373266633777348,18]
[null,null,null,null,7,5,9,715.23204309691425,"Oblique",0.25,null,1.3904963755701374,18]
[null,null,null,null,6,9,8,717.51179715115563,"Oblique",0.25,null,2.2797540542413799,18]
[null,null,null,null,5,7,9,717.5261430047691,"Oblique",0.25,null,1.4345853613463078E-2,18]
[null,null,null,null,3,8,9,{"$f":"$D$5*SQRT((($E963/$D$2)^2)+(($F963/$D$3)^2)+(($G963/$D$4)^2))","v":717.7403889040188},{"$f":"+IF(+AND(E963=0,F963=0)+OR(+AND(E963=0,G963=0))+OR(+AND(F963=0,G963=0)),\"Axial\",(+IF(+OR(E963=0,F963=0,G963=0),\"Tangential\",\"Oblique\")))","v":"Oblique"},0.25,null,0.21424589924970405,18]
[null,null,null,null,9,0,9,721.36029631529607,"Tangential",{"$f":"IF(I964=\"Axial\",1,IF(I964=\"Tangential\",0.5,IF(I964=\"Oblique\",0.25,\"\")))","v":0.5},null,3.6199074112772678,{"$f":"IF(H964<17.8,1,IF(H964<=22.4,2,IF(H964<=28.2,3,IF(H964<=35.5,4,IF(H964<=44.7,5,IF(H964<=56.2,6,IF(H964<=70.8,7,IF(H964<=89.1,8,IF(H964<=112,9,IF(H964<=141,10,IF(H964<=178,11,IF(H964<=224,12,IF(H964<=282,13,IF(H964<=355,14,IF(H964<=447,15,IF(H964<=562,16,IF(H964<=708,17,IF(H964<=891,18,IF(H964<=1122,19,IF(H964<=1413,20,IF(H964<=1778,21,IF(H964<=2239,22,IF(H964<=2818,23,IF(H964<=3548,24,IF(H964<=4467,25,IF(H964<=5623,26,IF(H964<=7079,27,IF(H964<=8913,28,IF(H964<=11220,29,IF(H964<=14130,30,IF(H964<=17780,31,IF(H964<=22390,32,))))))))))))))))))))))))))))))))","v":18}]
[null,null,null,null,8,4,9,721.66829695954948,"Oblique",0.25,null,{"$f":"H965-H964","v":0.30800064425341134},18]
[null,null,null,null,9,1,9,722.66481678099535,"Oblique",0.25,null,0.99651982144587237,18]
[null,null,null,null,9,9,7,723.37299052666617,"Oblique",0.25,null,0.7081737456708197,18]
[null,null,null,null,4,8,9,726.20858689630268,"Oblique",0.25,null,2.8355963696365052,18]
[null,null,null,null,9,2,9,726.56432499274479,"Oblique",0.25,null,0.35573809644210996,18]
[null,null,null,null,0,9,9,729.00886982035547,"Tangential",0.5,null,2.4445448276106845,18]
[null,null,null,null,8,8,8,729.18436420504111,"Oblique",0.25,null,0.17549438468563494,18]
[null,null,null,null,7,6,9,729.57401195203056,"Oblique",0.25,null,0.38964774698945348,18]
[null,null,null,null,9,7,8,730.17062634546107,"Oblique",0.25,null,0.5966143934305137,18]
[null,null,null,null,1,9,9,730.20595644116509,"Oblique",0.25,null,3.533009570401191E-2,18]
[null,null,null,null,6,7,9,730.79315671040035,"Oblique",0.25,null,0.58720026923526802,18]
[null,null,null,null,9,3,9,733.01740764953968,"Oblique",0.25,null,2.2242509391393241,18]
[null,null,null,null,7,9,8,733.16550937789054,"Oblique",0.25,null,0.14810172835086632,18]
[null,null,null,null,8,5,9,733.32051222753626,"Oblique",0.25,null,0.15500284964571165,18]
[null,null,null,null,2,9,9,733.78549894255241,"Oblique",0.25,null,0.46498671501615263,18]
[null,null,null,null,5,8,9,736.95330285613534,"Oblique",0.25,null,3.1678039135829295,18]
[null,null,null,null,3,9,9,739.71291132803265,"Oblique",0.25,null,2.7596084718973088,18]
[null,null,null,null,9,4,9,741.95743955322382,"Oblique",0.25,null,2.2445282251911749,18]
[null,null,null,null,7,7,9,746.16829400947631,"Oblique",0.25,null,4.2108544562524912,18]
[null,null,null,null,8,6,9,747.31542008502117,"Oblique",0.25,null,1.1471260755448611,18]
[null,null,null,null,4,9,9,747.93237461900696,"Oblique",0.25,null,0.61695453398579048,18]
[null,null,null,null,9,8,8,749.27001025864456,"Oblique",0.25,null,1.3376356396375968,18]
[null,null,null,null,6,8,9,749.87668492227317,"Oblique",0.25,null,0.60667466362860978,18]
[null,null,null,null,8,9,8,750.8220576957043,"Oblique",0.25,null,0.94537277343113146,18]
[null,null,null,null,9,5,9,753.29588139424709,"Oblique",0.25,null,2.4738236985427875,18]
[null,null,null,null,5,9,9,758.36936641182206,"Oblique",0.25,null,5.0734850175749671,18]
[null,null,null,null,8,7,9,763.52421125075159,"Oblique",0.25,null,5.1548448389295345,18]
[null,null,null,null,7,8,9,764.86830741002643,"Oblique",0.25,null,1.3440961592748408,18]
[null,null,null,null,9,6,9,766.92636437191993,"Oblique",0.25,null,2.0580569618934987,18]
[null,null,null,null,9,9,8,770.34373729802667,"Oblique",0.25,null,3.4173729261067365,18]
[null,null,null,null,6,9,9,770.93382849069462,"Oblique",0.25,null,0.59009119266795551,18]
[null,null,null,null,8,8,9,781.80920041999286,"Oblique",0.25,null,10.87537192929824,18]
[null,null,null,null,9,7,9,782.7291565017631,"Oblique",0.25,null,0.91995608177023769,18]
[null,null,null,null,7,9,9,785.52368073889431,"Oblique",0.25,null,2.7945242371312133,18]
[null,null,null,null,9,8,9,800.57562861557801,"Oblique",0.25,null,15.051947876683698,18]
[null,null,null,null,8,9,9,802.02839799015237,"Oblique",0.25,null,1.4527693745743591,18]
[null,null,null,null,9,9,9,820.3324097306712,"Oblique",0.25,null,18.304011740518831,18]

{"sheet":"Mode Strength","index":1,"n_rows":1000,"n_cols":16,"rows_kept":1000,"cut":false,"hidden":false,"merged":[[2,6,3,6],[38,15,40,18]]}
["f","Strength","Interval","Alerts","1% Near\nCo-Incidence",null,null,"NOTE:"]
[41.794814814814814,1,null,null,null,null,null,"IDEAL Interval should not be greater than 5.611807",5.6118069999999998,1,0]
[43.402307692307694,{"$f":"IF(A3=A2,B2+1,1)","v":1},{"$f":"((A3-A2)/A3)*100","v":3.7037037037037113},{"$f":"IF(C3>I2,J2,K2)","v":0},{"$f":"IF(C3<((A2*1.01)-(A2)),J2,K2)","v":0},"Note","Frequency (Hz)",null,5.6118069999999998,1,0]
[60.254185401699814,{"$f":"IF(A4=A3,B3+1,1)","v":1},{"$f":"((A4-A3)/A4)*100","v":27.967978650851887},1,{"$f":"IF(C4<((A3*1.01)-(A3)),J3,K3)","v":0},"name",null,null,5.6118069999999998,1,0]
[68.391515151515151,1,11.898156857305802,1,0,"A0 Double Pedal A",27.5,null,5.6118069999999998,1,0]
[80.151144035032914,1,14.671816634804113,1,0,"A♯0/B♭0",29.135200000000001,null,5.6118069999999998,1,0]
[81.000985535595049,1,1.0491742723163304,0,0,"B0",30.867699999999999,null,5.6118069999999998,1,0]
[83.589629629629627,1,3.0968483835906282,0,0,"C1 Pedal C",32.703200000000002,null,5.6118069999999998,1,0]
[86.804615384615389,1,3.7037037037037113,0,0,"C♯1/D♭1",34.647799999999997,null,5.6118069999999998,1,0]
[91.148045525630138,1,4.7652476978164167,0,0,"D1",36.708100000000002,null,5.6118069999999998,1,0]
[94.185914523544369,1,3.2253962954883573,0,0,"D♯1/E♭1",38.890900000000002,null,5.6118069999999998,1,0]
[96.342346854722578,1,2.2383016415719621,0,0,"E1",41.203400000000002,null,5.6118069999999998,1,0]
[108.00289591644561,1,10.796515188577899,1,0,"F1",43.653500000000001,null,5.6118069999999998,1,0]
[110.50991175813567,1,2.2685891263554447,0,0,"F♯1/G♭1",46.249299999999998,null,5.6118069999999998,1,0]
[116.39753364808179,1,5.0582015833315248,0,0,"G1",48.999400000000001,null,5.6118069999999998,1,0]
[118.14925789947053,1,1.482636694069821,0,0,"G♯1/A♭1",51.9131,null,5.6118069999999998,1,0]
[120.50837080339963,1,1.9576340533039134,0,0,"A1",55,null,5.6118069999999998,1,0]
[125.38444444444444,1,3.8888983897881459,0,0,"A♯1/B♭1",58.270499999999998,null,5.6118069999999998,1,0]
[130.20692307692309,1,3.7037037037037162,0,0,"B1",61.735399999999998,null,5.6118069999999998,1,0]
[132.6839071691052,1,1.8668308350501008,0,0,"C2 Deep C",65.406400000000005,null,5.6118069999999998,1,0]
[136.75031759584485,1,2.9736021811354161,0,0,"C♯2/D♭2",69.295699999999997,null,5.6118069999999998,1,0]
[136.7830303030303,1,2.3915764340782165E-2,0,1,"D2",73.416200000000003,null,5.6118069999999998,1,0]
[138.56286219044983,1,1.2844941705759629,0,1,"D♯2/E♭2",77.781700000000001,null,5.6118069999999998,1,0]
[142.8238714408831,1,2.9834013092110836,0,0,"E2",82.406899999999993,null,5.6118069999999998,1,0]
[143.02588550428334,1,0.14124300834634002,0,1,"F2",87.307100000000005,null,5.6118069999999998,1,0]
[143.50385950174811,1,0.33307396687749019,0,1,"F♯2/G♭2",92.498599999999996,null,5.6118069999999998,1,0]
[147.07563415426668,1,2.4285291530833439,0,0,"G2",97.998900000000006,null,5.6118069999999998,1,0]
[149.27296662952622,1,1.4720230493663347,0,0,"G♯2/A♭2",103.82599999999999,null,5.6118069999999998,1,0]
[149.46626454589051,1,0.12932544808794552,0,1,"A2",110,null,5.6118069999999998,1,0]
[152.50016446126537,1,1.9894404219776844,0,0,"A♯2/B♭2",116.541,null,5.6118069999999998,1,0]
[152.89881852808529,1,0.26073063916232192,0,1,"B2",123.471,null,5.6118069999999998,1,0]
[154.729017959717,1,1.1828417550663937,0,1,"C3 Low C",130.81299999999999,null,5.6118069999999998,1,0]
[160.30228807006583,1,3.4767252404487405,0,0,"C♯3/D♭3",138.59100000000001,null,5.6118069999999998,1,0]
[162.0019710711901,1,1.0491742723163304,0,1,"D3",146.83199999999999,null,5.6118069999999998,1,0]
[166.07403130386191,1,2.4519548304462244,0,0,"D♯3/E♭3",155.56299999999999,null,5.6118069999999998,1,0]
[167.13377727267735,1,0.63407049497030632,0,1,"E3",164.81399999999999,null,5.6118069999999998,1,0]
[167.17925925925925,1,2.7205519861391355E-2,0,1,"F3",174.614,null,5.6118069999999998,1,0]
[167.30644092907892,1,7.6017198808009598E-2,0,1,"F♯3/G♭3",184.99700000000001,null,5.6118069999999998,1,0]
[169.16993924305331,1,1.1015540481438761,0,1,"G3",195.99799999999999,null,5.6118069999999998,1,0,null,null,null,null,"If you found this spreadsheet helpful, please send a donation via PayPal to https://www.paypal.me/JHBrandt/"]
[172.72135085012616,1,2.0561508983069978,0,0,"G♯3/A♭3",207.65199999999999,null,5.6118069999999998,1,0]
[173.60923076923078,1,0.51142437252361883,0,1,"A3",220,null,5.6118069999999998,1,0]
[178.56923462256506,1,2.7776362842222264,0,0,"A♯3/B♭3",233.08199999999999,null,5.6118069999999998,1,0]
[180.62752855308227,1,1.1395239402350144,0,1,"B3",246.94200000000001,null,5.6118069999999998,1,0]
[180.76255620509946,1,7.4698906041126667E-2,0,1,"C4 Middle C",261.62599999999998,null,5.6118069999999998,1,0]
[182.29609105126028,1,0.84123298383265988,0,1,"C♯4/D♭4",277.18299999999999,null,5.6118069999999998,1,0]
[185.55553424115834,1,1.7565863520200424,0,1,"D4",293.66500000000002,null,5.6118069999999998,1,0]
[185.76884664607331,1,0.11482679080275257,0,1,"D♯4/E♭4",311.12700000000001,null,5.6118069999999998,1,0]
[186.59465253056948,1,0.44256674738354146,0,1,"E4",329.62799999999999,null,5.6118069999999998,1,0]
[188.37182904708874,1,0.94344070740801034,0,1,"F4",349.22800000000001,null,5.6118069999999998,1,0]
[188.84766399412908,1,0.25196761081203156,0,1,"F♯4/G♭4",369.99400000000003,null,5.6118069999999998,1,0]
[190.5639436004079,1,0.90063186868008538,0,1,"G4",391.995,null,5.6118069999999998,1,0]
[191.21812387534979,1,0.34211206641078484,0,1,"G♯4/A♭4",415.30500000000001,null,5.6118069999999998,1,0]
[192.68469370944516,1,0.76112420029940209,0,1,"A4 A440",440,null,5.6118069999999998,1,0]
[193.26795148322361,1,0.30178711436752881,0,1,"A♯4/B♭4",466.16399999999999,null,5.6118069999999998,1,0]
[193.41728656313049,1,7.7208755515311284E-2,0,1,"B4",493.88299999999998,null,5.6118069999999998,1,0]
[200.40295737155566,1,3.4858122355317525,0,0,"C5 Tenor C",523.25099999999998,null,5.6118069999999998,1,0]
[204.46219830233318,1,1.985325876607871,0,1,"C♯5/D♭5",554.36500000000001,null,5.6118069999999998,1,0]
[204.85579693919499,1,0.19213448813393241,0,1,"D5",587.33000000000004,null,5.6118069999999998,1,0]
[205.17454545454547,1,0.15535480517055361,0,1,"D♯5/E♭5",622.25400000000002,null,5.6118069999999998,1,0]
[206.52037763295448,1,0.65167040358648709,0,1,"E5",659.255,null,5.6118069999999998,1,0]
[208.97407407407408,1,1.1741630879292009,0,1,"F5",698.45600000000002,null,5.6118069999999998,1,0]
[209.38815785016118,1,0.19775892788713306,0,1,"F♯5/G♭5",739.98900000000003,null,5.6118069999999998,1,0]
[209.71493608109341,1,0.15582019909439082,0,1,"G5",783.99099999999999,null,5.6118069999999998,1,0]
[211.90268413503966,1,1.03243055314583,0,1,"G♯5/A♭5",830.60900000000004,null,5.6118069999999998,1,0]
[213.433652332837,1,0.71730403385961006,0,1,"A5",880,null,5.6118069999999998,1,0]
[213.83910063620672,1,0.18960438112742151,0,1,"A♯5/B♭5",932.32799999999997,null,5.6118069999999998,1,0]
[214.15280506434186,1,0.1464862568766668,{"$f":"IF(C67>I66,J66,K66)","v":0},1,"B5",987.76700000000005,null,5.6118069999999998,1,0]
[216.00579183289122,{"$f":"IF(A68=A67,B67+1,1)","v":1},{"$f":"((A68-A67)/A68)*100","v":0.85784124250838834},0,{"$f":"IF(C68<((A67*1.01)-(A67)),J67,K67)","v":1},"C6 Soprano C",1046.5,null,5.6118069999999998,1,0]
[217.01153846153849,1,0.46345306603387093,0,1,"C♯6/D♭6",1108.73,null,5.6118069999999998,1,0]
[219.88079265783202,1,1.3049135222822856,0,1,"D6",1174.6600000000001,null,5.6118069999999998,1,0]
[220.32308643982836,1,0.20074781501262878,0,1,"D♯6/E♭6",1244.51,null,5.6118069999999998,1,0]
[220.99958002414496,1,0.30610627596789713,0,1,"E6",1318.51,null,5.6118069999999998,1,0]
[221.01982351627134,1,9.1591296220959444E-3,0,1,"F6",1396.91,null,5.6118069999999998,1,0]
[221.54868603559353,1,0.23871164789360252,0,1,"F♯6/G♭6",1479.98,null,5.6118069999999998,1,0]
[222.66599850079112,1,0.50178854100780712,0,1,"G6",1567.98,null,5.6118069999999998,1,0]
[222.78158665955846,1,5.1884071974032879E-2,0,1,"G♯6/A♭6",1661.22,null,5.6118069999999998,1,0]
[224.1234554723228,1,0.59871859905803337,0,1,"A6",1760,null,5.6118069999999998,1,0]
[224.80841457037576,1,0.30468570287369384,0,1,"A♯6/B♭6",1864.66,null,5.6118069999999998,1,0]
[224.93681097714619,1,5.7081100337765443E-2,0,1,"B6",1975.53,null,5.6118069999999998,1,0]
[225.760006637836,1,0.36463307781983501,0,1,"C7 Double high C",2093,null,5.6118069999999998,1,0]
[226.28567097186601,1,0.23230120218056899,0,1,"C♯7/D♭7",2217.46,null,5.6118069999999998,1,0]
[226.66813163732351,1,0.16873155599546316,0,1,"D7",2349.3200000000002,null,5.6118069999999998,1,0]
[226.6819337853845,1,6.0887728591802063E-3,0,1,"D♯7/E♭7",2489.02,null,5.6118069999999998,1,0]
[227.53331002331004,1,0.37417652731299639,0,1,"E7",2637.02,null,5.6118069999999998,1,0]
[231.34003915355504,1,1.645512443143591,0,1,"F7",2793.83,null,5.6118069999999998,1,0]
[232.55372284068568,1,0.52189389716288981,0,1,"F♯7/G♭7",2959.96,null,5.6118069999999998,1,0]
[232.79506729616358,1,0.10367249541883992,0,1,"G7",3135.96,null,5.6118069999999998,1,0]
[236.29851579894105,1,1.482636694069821,0,1,"G♯7/A♭7",3322.44,null,5.6118069999999998,1,0]
[236.39501735846196,1,4.0822163089237418E-2,0,1,"A7",3520,null,5.6118069999999998,1,0]
[237.94718224044806,1,0.65231488239168256,0,1,"A♯7/B♭7",3729.31,null,5.6118069999999998,1,0]
[240.4534321050987,1,1.0423015561512949,0,1,"B7",3951.07,null,5.6118069999999998,1,0]
[241.01674160679926,1,0.23372214641402628,0,1,"C8 Eighth octave",4186.01,null,5.6118069999999998,1,0]
[242.40180146150396,1,0.57139008305788908,0,1,null,null,null,5.6118069999999998,1,0]
[243.00295660678515,1,0.24738593870441716,0,1,null,null,null,5.6118069999999998,1,0]
[244.33913588317995,1,0.5468543839958725,0,1,null,null,null,5.6118069999999998,1,0]
[246.21942744689414,1,0.76366498907554559,0,1,null,null,null,5.6118069999999998,1,0]
[246.57097044267755,1,0.14257274291140878,0,1,null,null,null,5.6118069999999998,1,0]
[249.75940625729453,1,1.2766028965220837,0,1,null,null,null,5.6118069999999998,1,0]
[250.53237132051134,1,0.30852901728533333,0,1,null,null,null,5.6118069999999998,1,0]
[250.62974032242414,1,3.8849739774511519E-2,0,1,null,null,null,5.6118069999999998,1,0]
[250.76888888888888,1,5.5488767797824669E-2,0,1,null,null,null,5.6118069999999998,1,0]
[252.21487847173904,1,0.57331652740390759,0,1,null,null,null,5.6118069999999998,1,0]
[253.50250753594935,1,0.50793543492965554,0,1,null,null,null,5.6118069999999998,1,0]
[254.10828655477906,1,0.23839404335958858,0,1,null,null,null,5.6118069999999998,1,0]
[254.49714329945957,1,0.1527941491362648,0,1,null,null,null,5.6118069999999998,1,0]
[255.54139742318912,1,0.40864381828523161,0,1,null,null,null,5.6118069999999998,1,0]
[255.64212145730664,1,3.9400406139385141E-2,0,1,null,null,null,5.6118069999999998,1,0]
[256.52213394622208,1,0.34305518801739282,0,1,null,null,null,5.6118069999999998,1,0]
[256.9779428302316,1,0.17737276553366946,0,1,null,null,null,5.6118069999999998,1,0]
[259.79350661401389,1,1.0837698834272622,0,1,null,null,null,5.6118069999999998,1,0]
[259.9046204855315,1,4.2751787678891262E-2,0,1,null,null,null,5.6118069999999998,1,0]
[259.92774953684307,1,8.8982616718622232E-3,0,1,null,null,null,5.6118069999999998,1,0]
[260.41384615384618,1,0.18666312263440066,0,1,null,null,null,5.6118069999999998,1,0]
[263.52646032667303,1,1.1811391421447355,0,1,null,null,null,5.6118069999999998,1,0]
[263.74642711142786,1,8.3400858606474865E-2,0,1,null,null,null,5.6118069999999998,1,0]
[264.41407350227655,1,0.25250032345307055,0,1,null,null,null,5.6118069999999998,1,0]
[264.66110184338379,1,9.3337607750692636E-2,0,1,null,null,null,5.6118069999999998,1,0]
[265.36781433821039,1,0.2663143217232446,0,1,null,null,null,5.6118069999999998,1,0]
[268.19630709980277,1,1.0546352379638908,0,1,null,null,null,5.6118069999999998,1,0]
[268.76896976913719,1,0.21306874444111484,0,1,null,null,null,5.6118069999999998,1,0]
[269.24481538807572,1,0.17673343802467506,0,1,null,null,null,5.6118069999999998,1,0]
[269.7977601573856,1,0.20494787243130413,0,1,null,null,null,5.6118069999999998,1,0]
[271.6805636099142,1,0.6930210345234642,0,1,null,null,null,5.6118069999999998,1,0]
[271.99920157266644,1,0.11714665370703595,0,1,null,null,null,5.6118069999999998,1,0]
[272.46940591333123,1,0.17257142653819954,0,1,null,null,null,5.6118069999999998,1,0]
[273.4441365768904,1,0.35646427667505842,0,1,null,null,null,5.6118069999999998,1,0]
[273.5006351916897,1,2.0657580835121994E-2,0,1,null,null,null,5.6118069999999998,1,0]
[273.5660606060606,1,2.3915764340782165E-2,0,1,null,null,null,5.6118069999999998,1,0]
[273.93961479114046,1,0.13636369656307745,0,1,null,null,null,5.6118069999999998,1,0]
[274.03918740092416,1,3.6335171888402198E-2,0,1,null,null,null,5.6118069999999998,1,0]
[276.74030436660922,1,0.97604755182562042,{"$f":"IF(C131>I130,J130,K130)","v":0},1,null,null,null,5.6118069999999998,1,0]
[276.98763479357086,{"$f":"IF(A132=A131,B131+1,1)","v":1},{"$f":"((A132-A131)/A132)*100","v":8.9292948815554843E-2},0,{"$f":"IF(C132<((A131*1.01)-(A131)),J131,K131)","v":1},null,null,null,5.6118069999999998,1,0]
[277.12572438089967,1,4.9829220162545249E-2,0,1,null,null,null,5.6118069999999998,1,0]
[278.53283483464742,1,0.50518656250459204,0,1,null,null,null,5.6118069999999998,1,0]
[280.12310931792337,1,0.56770556600922184,0,1,null,null,null,5.6118069999999998,1,0]
[280.15661332212119,1,1.1959026703146436E-2,0,1,null,null,null,5.6118069999999998,1,0]
[281.46755637618708,1,0.46575281035722133,0,1,null,null,null,5.6118069999999998,1,0]
[281.66221583868162,1,6.9110960415801947E-2,0,1,null,null,null,5.6118069999999998,1,0]
[281.92196933722221,1,9.2136664322844869E-2,0,1,null,null,null,5.6118069999999998,1,0]
[282.34785619274379,1,0.15083764448023734,0,1,null,null,null,5.6118069999999998,1,0]
[282.55774357063308,1,7.428123371774481E-2,0,1,null,null,null,5.6118069999999998,1,0]
[285.52559274601896,1,1.0394336797772954,0,1,null,null,null,5.6118069999999998,1,0]
[285.64774288176619,1,4.2762506895702365E-2,0,1,null,null,null,5.6118069999999998,1,0]
[286.05177100856667,1,0.14124300834634002,0,1,null,null,null,5.6118069999999998,1,0]
[287.00771900349622,1,0.33307396687749019,0,1,null,null,null,5.6118069999999998,1,0]
[288.92627662859837,1,0.66403016281152294,0,1,null,null,null,5.6118069999999998,1,0]
[289.02704056416775,1,3.486315168736074E-2,0,1,null,null,null,5.6118069999999998,1,0]
[289.32572649205468,1,0.10323517770381833,0,1,null,null,null,5.6118069999999998,1,0]
[290.0348898201637,1,0.24450966176818625,0,1,null,null,null,5.6118069999999998,1,0]
[290.71683438777256,1,0.23457347045106261,0,1,null,null,null,5.6118069999999998,1,0]
[292.56370370370371,1,0.63127082838737103,0,1,null,null,null,5.6118069999999998,1,0]
[292.85962121398018,1,0.10104414840455353,0,1,null,null,null,5.6118069999999998,1,0]
[294.15126830853336,1,0.43910981651739261,0,1,null,null,null,5.6118069999999998,1,0]
[294.95650805858435,1,0.27300287603454065,0,1,null,null,null,5.6118069999999998,1,0]
[295.7655846068746,1,0.27355331059415089,0,1,null,null,null,5.6118069999999998,1,0]
[296.05830177621044,1,9.8871461323556661E-2,0,1,null,null,null,5.6118069999999998,1,0]
[296.57717042855029,1,0.17495232407473868,0,1,null,null,null,5.6118069999999998,1,0]
[297.00846708806296,1,0.14521359062291944,0,1,null,null,null,5.6118069999999998,1,0]
[297.10566334710529,1,3.2714374390359978E-2,0,1,null,null,null,5.6118069999999998,1,0]
[298.54593325905245,1,0.48242824687798136,0,1,null,null,null,5.6118069999999998,1,0]
[298.64795651054288,1,3.4161710892816645E-2,0,1,null,null,null,5.6118069999999998,1,0]
[298.93252909178102,1,9.5196257865521675E-2,0,1,null,null,null,5.6118069999999998,1,0]
[300.45119415563732,1,0.50546148372757571,0,1,null,null,null,5.6118069999999998,1,0]
[300.93130183508799,1,0.15954062489443857,0,1,null,null,null,5.6118069999999998,1,0]
[301.27092700849909,1,0.11273081567592225,0,1,null,null,null,5.6118069999999998,1,0]
[301.5583002892273,1,9.5296093807597335E-2,0,1,null,null,null,5.6118069999999998,1,0]
[302.97232931850164,1,0.4667188691637329,0,1,null,null,null,5.6118069999999998,1,0]
[303.5698937354727,1,0.19684574435822624,0,1,null,null,null,5.6118069999999998,1,0]
[303.81615384615384,1,8.1055634324775194E-2,0,1,null,null,null,5.6118069999999998,1,0]
[304.04507681786026,1,7.5292444825068486E-2,0,1,null,null,null,5.6118069999999998,1,0]
[304.17088292977741,1,4.1360340182918585E-2,0,1,null,null,null,5.6118069999999998,1,0]
[305.00032892253074,1,0.27194921254134524,0,1,null,null,null,5.6118069999999998,1,0]
[305.16972650788864,1,5.5509302084563145E-2,0,1,null,null,null,5.6118069999999998,1,0]
[305.45343178570926,1,9.2880042683445463E-2,0,1,null,null,null,5.6118069999999998,1,0]
[305.79763705617057,1,0.11255982020491892,0,1,null,null,null,5.6118069999999998,1,0]
[305.84152575816654,1,1.4350144862496991E-2,0,1,null,null,null,5.6118069999999998,1,0]
[306.19031652029446,1,0.11391306103072044,0,1,null,null,null,5.6118069999999998,1,0]
[306.67745577931629,1,0.15884416993871694,0,1,null,null,null,5.6118069999999998,1,0]
[308.93619212594746,1,0.73113361406044752,0,1,null,null,null,5.6118069999999998,1,0]
[309.458035919434,1,0.16863152121291136,0,1,null,null,null,5.6118069999999998,1,0]
[310.12550380376945,1,0.21522508666613527,0,1,null,null,null,5.6118069999999998,1,0]
[311.41877702314252,1,0.41528427788956662,0,1,null,null,null,5.6118069999999998,1,0]
[312.57415118267841,1,0.3696320233660792,0,1,null,null,null,5.6118069999999998,1,0]
[312.73944637928145,1,5.2853964703440302E-2,0,1,null,null,null,5.6118069999999998,1,0]
[313.20071787311059,1,0.14727664002865509,0,1,null,null,null,5.6118069999999998,1,0]
[313.92431544977103,1,0.23050064650892466,0,1,null,null,null,5.6118069999999998,1,0]
[314.21085472655847,1,9.1193309358073335E-2,0,1,null,null,null,5.6118069999999998,1,0]
[314.29199562556039,1,2.5817042791822273E-2,0,1,null,null,null,5.6118069999999998,1,0]
[315.10550855148256,1,0.25817159771716752,0,1,null,null,null,5.6118069999999998,1,0]
[316.52119018675199,1,0.4472628307868311,0,1,null,null,null,5.6118069999999998,1,0]
[316.92534663518734,1,0.12752417966132848,0,1,null,null,null,5.6118069999999998,1,0]
[319.7596402865139,1,0.8863825493382943,0,1,null,null,null,5.6118069999999998,1,0]
[320.23017275389321,1,0.14693570669273973,0,1,null,null,null,5.6118069999999998,1,0]
[320.50054688682781,1,8.4359959931695122E-2,0,1,null,null,null,5.6118069999999998,1,0]
[320.60457614013166,1,3.2447837943017976E-2,{"$f":"IF(C195>I194,J194,K194)","v":0},1,null,null,null,5.6118069999999998,1,0]
[322.4420581503108,{"$f":"IF(A196=A195,B195+1,1)","v":1},{"$f":"((A196-A195)/A196)*100","v":0.56986424808223279},0,{"$f":"IF(C196<((A195*1.01)-(A195)),J195,K195)","v":1},null,null,null,5.6118069999999998,1,0]
[322.95993265993263,1,0.16035255685018374,0,1,null,null,null,5.6118069999999998,1,0]
[323.52906292172764,1,0.17591317968633358,0,1,null,null,null,5.6118069999999998,1,0]
[323.90100468594585,1,0.11483192668045009,0,1,null,null,null,5.6118069999999998,1,0]
[324.0039421423802,1,3.1770433332910575E-2,0,1,null,null,null,5.6118069999999998,1,0]
[324.00868774933679,1,1.464654231821402E-3,0,1,null,null,null,5.6118069999999998,1,0]
[325.86328178658914,1,0.56913255985279909,0,1,null,null,null,5.6118069999999998,1,0]
[326.68847709891384,1,0.25259394504901517,0,1,null,null,null,5.6118069999999998,1,0]
[326.90272261035847,1,6.5538001560174808E-2,0,1,null,null,null,5.6118069999999998,1,0]
[327.45192454268494,1,0.16771986699833166,0,1,null,null,null,5.6118069999999998,1,0]
[327.89249951976728,1,0.13436567708246361,0,1,null,null,null,5.6118069999999998,1,0]
[328.6723509005767,1,0.23727319279294151,0,1,null,null,null,5.6118069999999998,1,0]
[330.86820463658955,1,0.66366417360189545,0,1,null,null,null,5.6118069999999998,1,0]
[331.52973527440702,1,0.19953885502002258,0,1,null,null,null,5.6118069999999998,1,0]
[331.63088435791337,1,3.0500501695490911E-2,0,1,null,null,null,5.6118069999999998,1,0]
[332.14806260772383,1,0.1557071402885942,0,1,null,null,null,5.6118069999999998,1,0]
[333.18741380302697,1,0.31194191384359499,0,1,null,null,null,5.6118069999999998,1,0]
[333.89449666587149,1,0.21176834895607577,0,1,null,null,null,5.6118069999999998,1,0]
[334.15381475680192,1,7.7604408352832235E-2,0,1,null,null,null,5.6118069999999998,1,0]
[334.2675545453547,1,3.4026571531142996E-2,0,1,null,null,null,5.6118069999999998,1,0]
[334.35851851851851,1,2.7205519861391355E-2,0,1,null,null,null,5.6118069999999998,1,0]
[334.4221274912581,1,1.9020563386987526E-2,0,1,null,null,null,5.6118069999999998,1,0]
[334.61288185815783,1,5.700747856461777E-2,0,1,null,null,null,5.6118069999999998,1,0]
[335.43504734764713,1,0.24510422986218128,0,1,null,null,null,5.6118069999999998,1,0]
[335.71254607361897,1,8.2659623304928709E-2,0,1,null,null,null,5.6118069999999998,1,0]
[335.7985396962801,1,2.5608694647366245E-2,0,1,null,null,null,5.6118069999999998,1,0]
[337.16372761451703,1,0.40490355469013006,0,1,null,null,null,5.6118069999999998,1,0]
[338.33987848610661,1,0.34762407459984979,0,1,null,null,null,5.6118069999999998,1,0]
[338.60957281909742,1,7.9647580765501283E-2,0,1,null,null,null,5.6118069999999998,1,0]
[340.19653986058199,1,0.46648535641630412,0,1,null,null,null,5.6118069999999998,1,0]
[340.45105778346459,1,7.4759034246995482E-2,0,1,null,null,null,5.6118069999999998,1,0]
[340.82683909644726,1,0.11025578677397779,0,1,null,null,null,5.6118069999999998,1,0]
[341.28143554934019,1,0.13320280728460732,0,1,null,null,null,5.6118069999999998,1,0]
[341.90523767959024,1,0.18244883713499571,0,1,null,null,null,5.6118069999999998,1,0]
[341.9575757575758,1,1.5305430174957424E-2,0,1,null,null,null,5.6118069999999998,1,0]
[342.25649249414943,1,8.7337053680213356E-2,0,1,null,null,null,5.6118069999999998,1,0]
[343.51285114005299,1,0.36573846996813891,0,1,null,null,null,5.6118069999999998,1,0]
[344.03020007498782,1,0.15037893034450586,0,1,null,null,null,5.6118069999999998,1,0]
[344.25071263635084,1,6.405580388615241E-2,0,1,null,null,null,5.6118069999999998,1,0]
[344.50223535327433,1,7.3010474566460148E-2,0,1,null,null,null,5.6118069999999998,1,0]
[344.70094854963185,1,5.7647998125222692E-2,0,1,null,null,null,5.6118069999999998,1,0]
[345.44270170025231,1,0.21472537904827488,0,1,null,null,null,5.6118069999999998,1,0]
[346.03632332336622,1,0.17154893376877459,0,1,null,null,null,5.6118069999999998,1,0]
[346.77537407426212,1,0.21312088635729678,0,1,null,null,null,5.6118069999999998,1,0]
[346.97595516642531,1,5.7808355067999681E-2,0,1,null,null,null,5.6118069999999998,1,0]
[347.00300442191059,1,7.7951069992444298E-3,0,1,null,null,null,5.6118069999999998,1,0]
[347.21846153846155,1,6.2052321641053877E-2,0,1,null,null,null,5.6118069999999998,1,0]
[347.22550378164993,1,2.0281468704580904E-3,0,1,null,null,null,5.6118069999999998,1,0]
[347.41878681563099,1,5.5634019032952474E-2,0,1,null,null,null,5.6118069999999998,1,0]
[348.21970208600777,1,0.23000285899358919,0,1,null,null,null,5.6118069999999998,1,0]
[349.18819759688705,1,0.27735631316993664,0,1,null,null,null,5.6118069999999998,1,0]
[349.19260094424544,1,1.2610082076435359E-3,0,1,null,null,null,5.6118069999999998,1,0]
[349.72484409681385,1,0.15218911711661876,0,1,null,null,null,5.6118069999999998,1,0]
[351.68054237669628,1,0.55610079154951242,0,1,null,null,null,5.6118069999999998,1,0]
[352.02586524233817,1,9.8095878666235606E-2,0,1,null,null,null,5.6118069999999998,1,0]
[352.1477807720637,1,3.4620558862598606E-2,0,1,null,null,null,5.6118069999999998,1,0]
[352.80309645759803,1,0.18574544614664198,0,1,null,null,null,5.6118069999999998,1,0]
[353.45517312534048,1,0.18448638393848402,0,1,null,null,null,5.6118069999999998,1,0]
[353.88989725316554,1,0.12284163272230143,0,1,null,null,null,5.6118069999999998,1,0]
[354.44777369841159,1,0.1573931300019199,0,1,null,null,null,5.6118069999999998,1,0]
[354.69137304512299,1,6.8679242074602589E-2,0,1,null,null,null,5.6118069999999998,1,0]
[355.02618833363044,1,9.4307208738308432E-2,0,1,null,null,null,5.6118069999999998,1,0]
[355.27008235351576,1,6.8650311973814826E-2,0,1,null,null,null,5.6118069999999998,1,0]
[355.99875228066668,1,0.20468328118645765,{"$f":"IF(C259>I258,J258,K258)","v":0},1,null,null,null,5.6118069999999998,1,0]
[356.34935936979133,{"$f":"IF(A260=A259,B259+1,1)","v":1},{"$f":"((A260-A259)/A260)*100","v":9.8388584097556464E-2},0,{"$f":"IF(C260<((A259*1.01)-(A259)),J259,K259)","v":1},null,null,null,5.6118069999999998,1,0]
[357.13846924513012,1,0.22095347975442306,0,1,null,null,null,5.6118069999999998,1,0]
[357.33753626971219,1,5.570840014742013E-2,0,1,null,null,null,5.6118069999999998,1,0]
[358.73199026416842,1,0.38871749169327197,0,1,null,null,null,5.6118069999999998,1,0]
[358.81675228876685,1,2.3622649739112149E-2,0,1,null,null,null,5.6118069999999998,1,0]
[359.05378917730593,1,6.6017097071221303E-2,0,1,null,null,null,5.6118069999999998,1,0]
[359.96371364392496,1,0.25278227558212329,0,1,null,null,null,5.6118069999999998,1,0]
[360.82562586744774,1,0.23887223127533899,0,1,null,null,null,5.6118069999999998,1,0]
[361.25505710616454,1,0.11887203521987018,0,1,null,null,null,5.6118069999999998,1,0]
[361.52511241019891,1,7.4698906041126667E-2,0,1,null,null,null,5.6118069999999998,1,0]
[362.57033945386075,1,0.28828255649269691,0,1,null,null,null,5.6118069999999998,1,0]
[363.62794936510954,1,0.29084945563050502,0,1,null,null,null,5.6118069999999998,1,0]
[363.85296013334283,1,6.1841126193072304E-2,0,1,null,null,null,5.6118069999999998,1,0]
[364.22004684893466,1,0.10078707055465258,0,1,null,null,null,5.6118069999999998,1,0]
[364.26299366017446,1,1.17900560823554E-2,0,1,null,null,null,5.6118069999999998,1,0]
[364.50070721884714,1,6.5216213292545691E-2,0,1,null,null,null,5.6118069999999998,1,0]
[364.59218210252055,1,2.508964485905826E-2,0,1,null,null,null,5.6118069999999998,1,0]
[365.27641734415079,1,0.18731985125269407,0,1,null,null,null,5.6118069999999998,1,0]
[365.908221327641,1,0.17266733750824531,0,1,null,null,null,5.6118069999999998,1,0]
[366.60721411389216,1,0.1906653113580031,0,1,null,null,null,5.6118069999999998,1,0]
[366.66508302808478,1,1.578249930828354E-2,0,1,null,null,null,5.6118069999999998,1,0]
[366.79695042306162,1,3.5951060886613588E-2,0,1,null,null,null,5.6118069999999998,1,0]
[367.58916570722164,1,0.21551649451796084,0,1,null,null,null,5.6118069999999998,1,0]
[367.72973238423202,1,3.8225540289874828E-2,0,1,null,null,null,5.6118069999999998,1,0]
[367.937231396779,1,5.6395220391059299E-2,0,1,null,null,null,5.6118069999999998,1,0]
[368.05216473727631,1,3.1227459449765283E-2,0,1,null,null,null,5.6118069999999998,1,0]
[368.28743255854192,1,6.3881577394909142E-2,0,1,null,null,null,5.6118069999999998,1,0]
[368.74709351123892,1,0.12465480021010197,0,1,null,null,null,5.6118069999999998,1,0]
[368.9819182368613,1,6.364125557817904E-2,0,1,null,null,null,5.6118069999999998,1,0]
[369.1638104443312,1,4.9271408064341965E-2,0,1,null,null,null,5.6118069999999998,1,0]
[370.62774841475675,1,0.3949887661372038,0,1,null,null,null,5.6118069999999998,1,0]
[371.01705654808461,1,0.1049299827209975,0,1,null,null,null,5.6118069999999998,1,0]
[371.11106848231668,1,2.5332560038303184E-2,0,1,null,null,null,5.6118069999999998,1,0]
[371.29620264364814,1,4.9861582212071348E-2,0,1,null,null,null,5.6118069999999998,1,0]
[371.53769329214663,1,6.4997617431132526E-2,0,1,null,null,null,5.6118069999999998,1,0]
[372.77708814145774,1,0.33247613352266914,0,1,null,null,null,5.6118069999999998,1,0]
[373.18930506113895,1,0.11045785988258185,0,1,null,null,null,5.6118069999999998,1,0]
[373.64044944719848,1,0.12074291922274306,0,1,null,null,null,5.6118069999999998,1,0]
[374.42126512620933,1,0.20853935172396279,0,1,null,null,null,5.6118069999999998,1,0]
[375.03575605228144,1,0.16384862407264586,0,1,null,null,null,5.6118069999999998,1,0]
[375.33458755725752,1,7.9617364048681402E-2,0,1,null,null,null,5.6118069999999998,1,0]
[375.44549309653195,1,2.9539717832199792E-2,0,1,null,null,null,5.6118069999999998,1,0]
[375.5223880908041,1,2.0476806899075797E-2,0,1,null,null,null,5.6118069999999998,1,0]
[376.01605766505219,1,0.13128949261199882,0,1,null,null,null,5.6118069999999998,1,0]
[376.15333333333331,1,3.6494603693826996E-2,0,1,null,null,null,5.6118069999999998,1,0]
[376.74365809417748,1,0.15669135980428392,0,1,null,null,null,5.6118069999999998,1,0]
[377.69532798825816,1,0.25196761081203156,0,1,null,null,null,5.6118069999999998,1,0]
[378.64903339477246,1,0.25187055093310823,0,1,null,null,null,5.6118069999999998,1,0]
[380.00074648553334,1,0.35571327247704276,0,1,null,null,null,5.6118069999999998,1,0]
[380.32086143737587,1,8.4169706240328698E-2,0,1,null,null,null,5.6118069999999998,1,0]
[380.63616268619671,1,8.2835337188070762E-2,0,1,null,null,null,5.6118069999999998,1,0]
[381.12788720081579,1,0.12901824587818481,0,1,null,null,null,5.6118069999999998,1,0]
[382.32019240748679,1,0.31186038047402015,0,1,null,null,null,5.6118069999999998,1,0]
[382.43624775069958,1,3.0346324098558294E-2,0,1,null,null,null,5.6118069999999998,1,0]
[382.90100973868226,1,0.12137914922184943,0,1,null,null,null,5.6118069999999998,1,0]
[383.10266072880586,1,5.2636280244042169E-2,0,1,null,null,null,5.6118069999999998,1,0]
[383.50377915515014,1,0.1045930830793734,0,1,null,null,null,5.6118069999999998,1,0]
[384.00398318498981,1,0.13026011493185399,0,1,null,null,null,5.6118069999999998,1,0]
[384.77589560095299,1,0.20061350640418707,0,1,null,null,null,5.6118069999999998,1,0]
[385.36938741889031,1,0.15400595826056204,0,1,null,null,null,5.6118069999999998,1,0]
[385.5498906223674,1,4.681708071184075E-2,0,1,null,null,null,5.6118069999999998,1,0]
[385.77448745567256,1,5.8219721782655151E-2,0,1,null,null,null,5.6118069999999998,1,0]
[386.03933922574367,1,6.8607456069714481E-2,0,1,null,null,null,5.6118069999999998,1,0]
[386.53590296644722,1,0.12846510166137237,{"$f":"IF(C323>I322,J322,K322)","v":0},1,null,null,null,5.6118069999999998,1,0]
[386.79462941437015,{"$f":"IF(A324=A323,B323+1,1)","v":1},{"$f":"((A324-A323)/A324)*100","v":6.6889875982676344E-2},0,{"$f":"IF(C324<((A323*1.01)-(A323)),J323,K323)","v":1},null,null,null,5.6118069999999998,1,0]
[386.83457312626098,1,1.0325786438377805E-2,0,1,null,null,null,5.6118069999999998,1,0]
[387.14506592159643,1,8.0200633474773311E-2,0,1,null,null,null,5.6118069999999998,1,0]
[387.45594375230735,1,8.0235659233984999E-2,0,1,null,null,null,5.6118069999999998,1,0]
[389.09783593480967,1,0.42197412343804552,0,1,null,null,null,5.6118069999999998,1,0]
[389.96876485494454,1,0.22333299449222022,0,1,null,null,null,5.6118069999999998,1,0]
[390.4086699812695,1,0.11267811402499439,0,1,null,null,null,5.6118069999999998,1,0]
[390.62076923076921,1,5.429799596099108E-2,0,1,null,null,null,5.6118069999999998,1,0]
[391.391062882548,1,0.19680920818826733,0,1,null,null,null,5.6118069999999998,1,0]
[391.67447197062461,1,7.2358325180269939E-2,0,1,null,null,null,5.6118069999999998,1,0]
[391.89555879881442,1,5.6414731738082757E-2,0,1,null,null,null,5.6118069999999998,1,0]
[392.05072474689894,1,3.9578028630016797E-2,0,1,null,null,null,5.6118069999999998,1,0]
[392.29098002423893,1,6.1244150279762377E-2,0,1,null,null,null,5.6118069999999998,1,0]
[392.507802225511,1,5.5240227084070392E-2,0,1,null,null,null,5.6118069999999998,1,0]
[392.8503428786114,1,8.7193675482228922E-2,0,1,null,null,null,5.6118069999999998,1,0]
[393.29031003477127,1,0.11186829294649252,0,1,null,null,null,5.6118069999999998,1,0]
[393.29888933464605,1,2.1813689556296062E-3,0,1,null,null,null,5.6118069999999998,1,0]
[393.68961926961936,1,9.9248218862919929E-2,0,1,null,null,null,5.6118069999999998,1,0]
[393.94072012478949,1,6.3740771730983983E-2,0,1,null,null,null,5.6118069999999998,1,0]
[394.68465047604218,1,0.18848727721116271,0,1,null,null,null,5.6118069999999998,1,0]
[396.56271218958267,1,0.47358504867261808,0,1,null,null,null,5.6118069999999998,1,0]
[397.27859221910245,1,0.18019597419560099,0,1,null,null,null,5.6118069999999998,1,0]
[397.60066818126387,1,8.100488453268595E-2,0,1,null,null,null,5.6118069999999998,1,0]
[397.9635909135406,1,9.1194958675396981E-2,0,1,null,null,null,5.6118069999999998,1,0]
[398.05172150731562,1,2.2140488035397213E-2,0,1,null,null,null,5.6118069999999998,1,0]
[398.60961695792321,1,0.1399603589259312,0,1,null,null,null,5.6118069999999998,1,0]
[398.75906415348413,1,3.7478068587150998E-2,0,1,null,null,null,5.6118069999999998,1,0]
[399.46440584369532,1,0.17657184967993744,0,1,null,null,null,5.6118069999999998,1,0]
[399.83332817207429,1,9.2269028713934595E-2,0,1,null,null,null,5.6118069999999998,1,0]
[400.25108064395965,1,0.10437260312033318,0,1,null,null,null,5.6118069999999998,1,0]
[400.53952394282811,1,7.2013691939582375E-2,0,1,null,null,null,5.6118069999999998,1,0]
[400.75572017516453,1,5.3947135736931918E-2,0,1,null,null,null,5.6118069999999998,1,0]
[400.80591474311132,1,1.2523409984845326E-2,0,1,null,null,null,5.6118069999999998,1,0]
[401.78010685006399,1,0.24246897502972178,0,1,null,null,null,5.6118069999999998,1,0]
[402.29060536089156,1,0.12689794492456768,0,1,null,null,null,5.6118069999999998,1,0]
[402.5974265562005,1,7.6210421396250796E-2,0,1,null,null,null,5.6118069999999998,1,0]
[402.88419000174866,1,7.1177636815908815E-2,0,1,null,null,null,5.6118069999999998,1,0]
[402.92648729864334,1,1.0497522061219969E-2,0,1,null,null,null,5.6118069999999998,1,0]
[403.09912870922028,1,4.2828524866765527E-2,0,1,null,null,null,5.6118069999999998,1,0]
[403.30788999921077,1,5.1762262818835419E-2,0,1,null,null,null,5.6118069999999998,1,0]
[403.48036821501512,1,4.2747610389914419E-2,0,1,null,null,null,5.6118069999999998,1,0]
[403.88435515585087,1,0.10002539976569777,0,1,null,null,null,5.6118069999999998,1,0]
[404.43420487894218,1,0.13595529667326176,0,1,null,null,null,5.6118069999999998,1,0]
[405.00492767797527,1,0.14091749507968487,0,1,null,null,null,5.6118069999999998,1,0]
[405.254023629936,1,6.1466620301391932E-2,0,1,null,null,null,5.6118069999999998,1,0]
[405.27670902825946,1,5.5975085214873968E-3,0,1,null,null,null,5.6118069999999998,1,0]
[405.46770608893149,1,4.7105369380549537E-2,0,1,null,null,null,5.6118069999999998,1,0]
[406.94294560304058,1,0.36251752980333979,0,1,null,null,null,5.6118069999999998,1,0]
[407.15574168719104,1,5.2264050917877322E-2,0,1,null,null,null,5.6118069999999998,1,0]
[408.83082669166305,1,0.40972570929328317,0,1,null,null,null,5.6118069999999998,1,0]
[408.92439660466636,1,2.2881959056545914E-2,0,1,null,null,null,5.6118069999999998,1,0]
[409.55581891694385,1,0.15417246761314923,0,1,null,null,null,5.6118069999999998,1,0]
[409.71159387838998,1,3.8020637876399498E-2,0,1,null,null,null,5.6118069999999998,1,0]
[409.83771360432212,1,3.0773089382863467E-2,0,1,null,null,null,5.6118069999999998,1,0]
[410.04900744323936,1,5.1528923392526654E-2,0,1,null,null,null,5.6118069999999998,1,0]
[410.25095278753452,1,4.9224832489235003E-2,0,1,null,null,null,5.6118069999999998,1,0]
[410.34909090909093,1,2.3915764340796015E-2,0,1,null,null,null,5.6118069999999998,1,0]
[410.961617914366,1,0.14904725370307076,0,1,null,null,null,5.6118069999999998,1,0]
[410.98445592622193,1,5.5569040450581314E-3,0,1,null,null,null,5.6118069999999998,1,0]
[411.87920597820198,1,0.21723603401027419,0,1,null,null,null,5.6118069999999998,1,0]
[412.4720389981872,1,0.14372683816946599,0,1,null,null,null,5.6118069999999998,1,0]
[412.63802142184517,1,4.0224704230122137E-2,0,1,null,null,null,5.6118069999999998,1,0]
[413.04075526590896,1,9.7504626100278061E-2,0,1,null,null,null,5.6118069999999998,1,0]
[413.33528258005947,1,7.1256272223377548E-2,{"$f":"IF(C387>I386,J386,K386)","v":0},1,null,null,null,5.6118069999999998,1,0]
[413.54107126748681,{"$f":"IF(A388=A387,B387+1,1)","v":1},{"$f":"((A388-A387)/A388)*100","v":4.9762575406744849E-2},0,{"$f":"IF(C388<((A387*1.01)-(A387)),J387,K387)","v":1},null,null,null,5.6118069999999998,1,0]
[413.87701401904116,1,8.1169705051289939E-2,0,1,null,null,null,5.6118069999999998,1,0]
[414.28431684781623,1,9.831480753945418E-2,0,1,null,null,null,5.6118069999999998,1,0]
[414.74925348738094,1,0.11210065736233041,0,1,null,null,null,5.6118069999999998,1,0]
[414.8716540959955,1,2.9503246945435622E-2,0,1,null,null,null,5.6118069999999998,1,0]
[415.68858657134945,1,0.1965251156140973,0,1,null,null,null,5.6118069999999998,1,0]
[415.91254322008581,1,5.3847053277701236E-2,0,1,null,null,null,5.6118069999999998,1,0]
[415.98195787644715,1,1.6686939192195206E-2,0,1,null,null,null,5.6118069999999998,1,0]
[417.01185636779854,1,0.24697103346697971,0,1,null,null,null,5.6118069999999998,1,0]
[417.28871424351667,1,6.6346840033770019E-2,0,1,null,null,null,5.6118069999999998,1,0]
[418.07191086313327,1,0.18733538400119959,0,1,null,null,null,5.6118069999999998,1,0]
[418.35876153459105,1,6.8565713887664609E-2,0,1,null,null,null,5.6118069999999998,1,0]
[418.77631570032236,1,9.97081616311144E-2,0,1,null,null,null,5.6118069999999998,1,0]
[419.42987216218683,1,0.15582019909439082,0,1,null,null,null,5.6118069999999998,1,0]
[419.89152710049024,1,0.1099462381371001,0,1,null,null,null,5.6118069999999998,1,0]
[420.8975770586203,1,0.23902488704275579,0,1,null,null,null,5.6118069999999998,1,0]
[421.01943292982781,1,2.894305147853473E-2,0,1,null,null,null,5.6118069999999998,1,0]
[421.17188065860609,1,3.6196084254219579E-2,0,1,null,null,null,5.6118069999999998,1,0]
[421.37749117658683,1,4.8794850765908448E-2,0,1,null,null,null,5.6118069999999998,1,0]
[421.42522956062089,1,1.1327841971833138E-2,0,1,null,null,null,5.6118069999999998,1,0]
[421.50708678193422,1,1.9420129312244898E-2,0,1,null,null,null,5.6118069999999998,1,0]
[421.77929781189869,1,6.4538736580159295E-2,0,1,null,null,null,5.6118069999999998,1,0]
[421.98461236811198,1,4.8654512557010574E-2,0,1,null,null,null,5.6118069999999998,1,0]
[422.23383203497116,1,5.902408759100445E-2,0,1,null,null,null,5.6118069999999998,1,0]
[422.34880495185189,1,2.7222266414093015E-2,0,1,null,null,null,5.6118069999999998,1,0]
[423.80536827007933,1,0.3436868495019183,0,1,null,null,null,5.6118069999999998,1,0]
[423.96963376176359,1,3.8744636078480436E-2,0,1,null,null,null,5.6118069999999998,1,0]
[424.05190631875018,1,1.940152980346533E-2,0,1,null,null,null,5.6118069999999998,1,0]
[424.89232763243973,1,0.19779630250621213,0,1,null,null,null,5.6118069999999998,1,0]
[426.26726307046357,1,0.32255243532425765,0,1,null,null,null,5.6118069999999998,1,0]
[427.28816436617836,1,0.23892571357064296,0,1,null,null,null,5.6118069999999998,1,0]
[427.62589229609404,1,7.8977427700244379E-2,0,1,null,null,null,5.6118069999999998,1,0]
[427.67820127241345,1,1.2230919453874776E-2,0,1,null,null,null,5.6118069999999998,1,0]
[427.71535049274587,1,8.685500833586237E-3,0,1,null,null,null,5.6118069999999998,1,0]
[428.30561012868372,1,0.13781272576852596,0,1,null,null,null,5.6118069999999998,1,0]
[428.47161432264932,1,3.8743335244744145E-2,0,1,null,null,null,5.6118069999999998,1,0]
[428.98995095067414,1,0.12082721911694047,0,1,null,null,null,5.6118069999999998,1,0]
[429.07765651285007,1,2.0440486901302964E-2,0,1,null,null,null,5.6118069999999998,1,0]
[429.28823594323831,1,4.9053156540744255E-2,0,1,null,null,null,5.6118069999999998,1,0]
[429.82595883291793,1,0.12510246964601129,0,1,null,null,null,5.6118069999999998,1,0]
[429.90398111151575,1,1.8148768568294608E-2,0,1,null,null,null,5.6118069999999998,1,0]
[430.36134750420183,1,0.1062749699382837,0,1,null,null,null,5.6118069999999998,1,0]
[430.51157850524436,1,3.4895925810900709E-2,0,1,null,null,null,5.6118069999999998,1,0]
[430.66423649204364,1,3.5447100981208117E-2,0,1,null,null,null,5.6118069999999998,1,0]
[431.26719749080974,1,0.13981146775693332,0,1,null,null,null,5.6118069999999998,1,0]
[431.65255057658868,1,8.9273904501248016E-2,0,1,null,null,null,5.6118069999999998,1,0]
[431.85317114968825,1,4.6455736926852738E-2,0,1,null,null,null,5.6118069999999998,1,0]
[432.01158366578244,1,3.6668580677859997E-2,0,1,null,null,null,5.6118069999999998,1,0]
[432.45282013412697,1,0.10203112288819768,0,1,null,null,null,5.6118069999999998,1,0]
[432.53557746442294,1,1.9133068956109927E-2,0,1,null,null,null,5.6118069999999998,1,0]
[432.84530782328812,1,7.1556824867241159E-2,0,1,null,null,null,5.6118069999999998,1,0]
[433.73159328370804,1,0.20433961328710148,0,1,null,null,null,5.6118069999999998,1,0]
[434.18632951123078,1,0.10473296753369613,0,1,null,null,null,5.6118069999999998,1,0]
[434.2641339130156,1,1.7916377547403408E-2,0,1,null,null,null,5.6118069999999998,1,0]
[436.28097891718994,1,0.46228121362979657,0,1,null,null,null,5.6118069999999998,1,0]
[436.54561645792694,1,6.0620821916443128E-2,0,1,null,null,null,5.6118069999999998,1,0]
[436.58465257277436,1,8.9412476177029455E-3,0,1,null,null,null,5.6118069999999998,1,0]
[436.74398938210794,1,3.6482885444858906E-2,0,1,null,null,null,5.6118069999999998,1,0]
[437.17612644371167,1,9.8847360472087725E-2,0,1,null,null,null,5.6118069999999998,1,0]
[437.77011840762992,1,0.13568581749683523,0,1,null,null,null,5.6118069999999998,1,0]
[437.87850034941874,1,2.4751601574942373E-2,0,1,null,null,null,5.6118069999999998,1,0]
[438.15282284828044,1,6.2608862606069043E-2,0,1,null,null,null,5.6118069999999998,1,0]
[438.5515310755348,1,9.0914795412192509E-2,0,1,null,null,null,5.6118069999999998,1,0]
[439.61657992839793,1,0.24226767175992253,{"$f":"IF(C451>I450,J450,K450)","v":0},1,null,null,null,5.6118069999999998,1,0]
[440.64617287965672,{"$f":"IF(A452=A451,B451+1,1)","v":1},{"$f":"((A452-A451)/A452)*100","v":0.23365525780703425},0,{"$f":"IF(C452<((A451*1.01)-(A451)),J451,K451)","v":1},null,null,null,5.6118069999999998,1,0]
[441.22690246280001,1,0.13161699341128838,0,1,null,null,null,5.6118069999999998,1,0]
[441.69169063936818,1,0.10522909677004831,0,1,null,null,null,5.6118069999999998,1,0]
[442.03964703254269,1,7.8716105107399334E-2,0,1,null,null,null,5.6118069999999998,1,0]
[442.16002317706983,1,2.7224565364864752E-2,0,1,null,null,null,5.6118069999999998,1,0]
[443.00648865400882,1,0.19107292976922591,0,1,null,null,null,5.6118069999999998,1,0]
[443.09737207118707,1,2.0510935723547057E-2,0,1,null,null,null,5.6118069999999998,1,0]
[443.20196976358517,1,2.3600457474026244E-2,0,1,null,null,null,5.6118069999999998,1,0]
[443.40430020645721,1,4.5631141325835269E-2,0,1,null,null,null,5.6118069999999998,1,0]
[443.59199955558921,1,4.2313510910938296E-2,0,1,null,null,null,5.6118069999999998,1,0]
[444.0110990662954,1,9.4389422153524499E-2,0,1,null,null,null,5.6118069999999998,1,0]
[444.16875742775636,1,3.5495148820007524E-2,0,1,null,null,null,5.6118069999999998,1,0]
[445.21797071705197,1,0.23566283445517325,0,1,null,null,null,5.6118069999999998,1,0]
[445.33199700158224,1,2.5604781443508879E-2,0,1,null,null,null,5.6118069999999998,1,0]
[445.56317331911691,1,5.1884071974032879E-2,0,1,null,null,null,5.6118069999999998,1,0]
[446.36653935951801,1,0.17997900146230375,0,1,null,null,null,5.6118069999999998,1,0]
[447.51910346219415,1,0.25754522963587961,0,1,null,null,null,5.6118069999999998,1,0]
[447.74056527779476,1,4.9462084245862854E-2,0,1,null,null,null,5.6118069999999998,1,0]
[447.81889988857876,1,1.7492475374194308E-2,0,1,null,null,null,5.6118069999999998,1,0]
[448.25455751645671,1,9.7189782138905362E-2,0,1,null,null,null,5.6118069999999998,1,0]
[448.31486795980976,1,1.3452697571130479E-2,0,1,null,null,null,5.6118069999999998,1,0]
[448.39879363767147,1,1.8716749253685602E-2,0,1,null,null,null,5.6118069999999998,1,0]
[449.0750556850557,1,0.15058998241454369,0,1,null,null,null,5.6118069999999998,1,0]
[449.61682914075152,1,0.12049670309965579,0,1,null,null,null,5.6118069999999998,1,0]
[449.87362195429239,1,5.7081100337765443E-2,0,1,null,null,null,5.6118069999999998,1,0]
[450.031670377571,1,3.5119400184883458E-2,0,1,null,null,null,5.6118069999999998,1,0]
[451.20710459674399,1,0.26050880121302655,0,1,null,null,null,5.6118069999999998,1,0]
[451.520013275672,1,6.9301175967357825E-2,0,1,null,null,null,5.6118069999999998,1,0]
[451.77414074265948,1,5.6250998910590676E-2,0,1,null,null,null,5.6118069999999998,1,0]
[452.119745925617,1,7.6441072541514749E-2,0,1,null,null,null,5.6118069999999998,1,0]
[453.33626327464702,1,0.26834768086774891,0,1,null,null,null,5.6118069999999998,1,0]
[453.363867570769,1,6.0887728591802063E-3,0,1,null,null,null,5.6118069999999998,1,0]
[454.04204734579884,1,0.14936497159112888,0,1,null,null,null,5.6118069999999998,1,0]
[454.23277927812745,1,4.1989909365795011E-2,0,1,null,null,null,5.6118069999999998,1,0]
[455.29653565791739,1,0.2336403412893919,0,1,null,null,null,5.6118069999999998,1,0]
[455.5501268420316,1,5.5667020855017797E-2,0,1,null,null,null,5.6118069999999998,1,0]
[455.74022762815071,1,4.1712531524474301E-2,0,1,null,null,null,5.6118069999999998,1,0]
[456.92151797490146,1,0.25853243944086796,0,1,null,null,null,5.6118069999999998,1,0]
[457.42675802347634,1,0.1104526658558409,0,1,null,null,null,5.6118069999999998,1,0]
[457.50049338379608,1,1.6117001267993911E-2,0,1,null,null,null,5.6118069999999998,1,0]
[458.21412490324889,1,0.15574192951897453,0,1,null,null,null,5.6118069999999998,1,0]
[458.326898179561,1,2.4605423936504358E-2,0,1,null,null,null,5.6118069999999998,1,0]
[458.69645558425583,1,8.0566876023516296E-2,0,1,null,null,null,5.6118069999999998,1,0]
[459.14355978114867,1,9.7377865238042385E-2,0,1,null,null,null,5.6118069999999998,1,0]
[459.16400131400167,1,4.4519023256398404E-3,0,1,null,null,null,5.6118069999999998,1,0]
[459.3321733792144,1,3.6612298236268014E-2,0,1,null,null,null,5.6118069999999998,1,0]
[459.47830031166529,1,3.1802792939683841E-2,0,1,null,null,null,5.6118069999999998,1,0]
[460.49597180109402,1,0.22099465614181163,0,1,null,null,null,5.6118069999999998,1,0]
[461.19329961862184,1,0.15120076941804395,0,1,null,null,null,5.6118069999999998,1,0]
[461.83235481454926,1,0.13837384697398292,0,1,null,null,null,5.6118069999999998,1,0]
[462.30735370372508,1,0.10274525926754574,0,1,null,null,null,5.6118069999999998,1,0]
[462.53680973307598,1,4.9608166209153273E-2,0,1,null,null,null,5.6118069999999998,1,0]
[462.58415536109402,1,1.0235030203548086E-2,0,1,null,null,null,5.6118069999999998,1,0]
[462.86909631864967,1,6.1559728187057017E-2,0,1,null,null,null,5.6118069999999998,1,0]
[463.64247688109225,1,0.16680537289100178,0,1,null,null,null,5.6118069999999998,1,0]
[464.18705387915094,1,0.11731843736436165,0,1,null,null,null,5.6118069999999998,1,0]
[464.19864738639762,1,2.4975314581294843E-3,0,1,null,null,null,5.6118069999999998,1,0]
[465.00157541398357,1,0.1726721090936337,0,1,null,null,null,5.6118069999999998,1,0]
[465.1125881905333,1,2.3867936359583505E-2,0,1,null,null,null,5.6118069999999998,1,0]
[465.59013459232716,1,0.10256798121635474,0,1,null,null,null,5.6118069999999998,1,0]
[466.07637869856251,1,0.10432712929865685,0,1,null,null,null,5.6118069999999998,1,0]
[467.13325722572392,1,0.22624775924500717,0,1,null,null,null,5.6118069999999998,1,0]
[468.48943121482097,1,0.2894780327446031,0,1,null,null,null,5.6118069999999998,1,0]
[468.60599793120974,1,2.4875207936601446E-2,{"$f":"IF(C515>I514,J514,K514)","v":0},1,null,null,null,5.6118069999999998,1,0]
[469.03557451986268,{"$f":"IF(A516=A515,B515+1,1)","v":1},{"$f":"((A516-A515)/A516)*100","v":9.1587208303480952E-2},0,{"$f":"IF(C516<((A515*1.01)-(A515)),J515,K515)","v":1},null,null,null,5.6118069999999998,1,0]
[469.19827400974702,1,3.4676063169185159E-2,0,1,null,null,null,5.6118069999999998,1,0]
[470.85834842021961,1,0.35256344419554569,0,1,null,null,null,5.6118069999999998,1,0]
[471.66472246393397,1,0.17096339948892747,0,1,null,null,null,5.6118069999999998,1,0]
[471.83692541321079,1,3.6496285051454226E-2,0,1,null,null,null,5.6118069999999998,1,0]
[472.02698187990057,1,4.0263898884097878E-2,0,1,null,null,null,5.6118069999999998,1,0]
[472.59703159788211,1,0.12062067255356149,0,1,null,null,null,5.6118069999999998,1,0]
[473.14348874878073,1,0.11549501660557859,0,1,null,null,null,5.6118069999999998,1,0]
[474.19803683360431,1,0.222385586381839,0,1,null,null,null,5.6118069999999998,1,0]
[474.30000829064932,1,2.1499358056625374E-2,0,1,null,null,null,5.6118069999999998,1,0]
[474.9129286197454,1,0.12905951642071201,0,1,null,null,null,5.6118069999999998,1,0]
[475.89436448089612,1,0.20622977164717243,0,1,null,null,null,5.6118069999999998,1,0]
[476.35493812703345,1,9.6687072868027885E-2,0,1,null,null,null,5.6118069999999998,1,0]
[476.88884959700692,1,0.11195721401845626,0,1,null,null,null,5.6118069999999998,1,0]
[477.51052221421941,1,0.13019034938325175,0,1,null,null,null,5.6118069999999998,1,0]
[477.75232234808283,1,5.0612026891885938E-2,0,1,null,null,null,5.6118069999999998,1,0]
[477.93359216710621,1,3.7927825537738061E-2,0,1,null,null,null,5.6118069999999998,1,0]
[478.25788286644752,1,6.7806660581873124E-2,0,1,null,null,null,5.6118069999999998,1,0]
[478.55029292875133,1,6.1103308601955245E-2,0,1,null,null,null,5.6118069999999998,1,0]
[478.71680711602482,1,3.4783442903673668E-2,0,1,null,null,null,5.6118069999999998,1,0]
[478.74060606060607,1,4.9711564634297425E-3,0,1,null,null,null,5.6118069999999998,1,0]
[479.61201036666768,1,0.18168942545775907,0,1,null,null,null,5.6118069999999998,1,0]
[480.22324270792478,1,0.12728087416394859,0,1,null,null,null,5.6118069999999998,1,0]
[480.29358949053329,1,1.4646621180834395E-2,0,1,null,null,null,5.6118069999999998,1,0]
[480.56151992921895,1,5.5753618959153428E-2,0,1,null,null,null,5.6118069999999998,1,0]
[480.70399229077998,1,2.9638273000830644E-2,0,1,null,null,null,5.6118069999999998,1,0]
[480.83431984832691,1,2.7104462424405236E-2,0,1,null,null,null,5.6118069999999998,1,0]
[480.9068642101974,1,1.5084908798219259E-2,0,1,null,null,null,5.6118069999999998,1,0]
[482.03348321359852,1,0.23372214641402628,0,1,null,null,null,5.6118069999999998,1,0]
[482.35740830955501,1,6.7154580892974824E-2,0,1,null,null,null,5.6118069999999998,1,0]
[482.51749683270435,1,3.3177765407509295E-2,0,1,null,null,null,5.6118069999999998,1,0]
[482.86144219382749,1,7.1230653572266031E-2,0,1,null,null,null,5.6118069999999998,1,0]
[482.99437109603707,1,2.7521832585322991E-2,0,1,null,null,null,5.6118069999999998,1,0]
[483.45425455451431,1,9.5124503330930921E-2,0,1,null,null,null,5.6118069999999998,1,0]
[483.52413126507713,1,1.4451545650886197E-2,0,1,null,null,null,5.6118069999999998,1,0]
[483.92067363141808,1,8.1943671338782678E-2,0,1,null,null,null,5.6118069999999998,1,0]
[484.15927240070016,1,4.9281049209072766E-2,0,1,null,null,null,5.6118069999999998,1,0]
[485.98332694949022,1,0.3753327424295852,0,1,null,null,null,5.6118069999999998,1,0]
[486.0059132135703,1,4.6473228958739598E-3,0,1,null,null,null,5.6118069999999998,1,0]
[486.07164469445007,1,1.3523002544428599E-2,0,1,null,null,null,5.6118069999999998,1,0]
[486.5466155912992,1,9.7620840764023775E-2,0,1,null,null,null,5.6118069999999998,1,0]
[486.86104617616979,1,6.4583229104103856E-2,0,1,null,null,null,5.6118069999999998,1,0]
[487.01965430806035,1,3.2567090565555207E-2,0,1,null,null,null,5.6118069999999998,1,0]
[487.33524770032204,1,6.4758991628645346E-2,0,1,null,null,null,5.6118069999999998,1,0]
[487.79970707654292,1,9.521518145315172E-2,0,1,null,null,null,5.6118069999999998,1,0]
[487.91756925316065,1,2.4156165722448178E-2,0,1,null,null,null,5.6118069999999998,1,0]
[488.0349435022726,1,2.4050378087609289E-2,0,1,null,null,null,5.6118069999999998,1,0]
[488.21239547151384,1,3.6347288779889408E-2,0,1,null,null,null,5.6118069999999998,1,0]
[488.33695831911746,1,2.5507561015321322E-2,0,1,null,null,null,5.6118069999999998,1,0]
[488.33842331804294,1,2.9999665304460138E-4,0,1,null,null,null,5.6118069999999998,1,0]
[488.6782717663599,1,6.9544415610817353E-2,0,1,null,null,null,5.6118069999999998,1,0]
[488.94704537789318,1,5.4969881518672319E-2,0,1,null,null,null,5.6118069999999998,1,0]
[489.12416644093446,1,3.6211881398150583E-2,0,1,null,null,null,5.6118069999999998,1,0]
[492.1348443803974,1,0.61175874332844893,0,1,null,null,null,5.6118069999999998,1,0]
[492.80371896322612,1,0.13572839592929972,0,1,null,null,null,5.6118069999999998,1,0]
[493.09657652289451,1,5.9391521582546195E-2,0,1,null,null,null,5.6118069999999998,1,0]
[493.1419408853551,1,9.1990477182177198E-3,0,1,null,null,null,5.6118069999999998,1,0]
[493.38553785233285,1,4.9372538975930587E-2,0,1,null,null,null,5.6118069999999998,1,0]
[493.67482751803954,1,5.8599233661780915E-2,0,1,null,null,null,5.6118069999999998,1,0]
[494.45209053330223,1,0.15719683062202369,0,1,null,null,null,5.6118069999999998,1,0]
[494.88769109760494,1,8.8020084584565977E-2,0,1,null,null,null,5.6118069999999998,1,0]
[495.66565882765815,1,0.15695413151946913,0,1,null,null,null,5.6118069999999998,1,0]
[496.13144499057529,1,9.3883620484081387E-2,0,1,null,null,null,5.6118069999999998,1,0]
[496.18189038521717,1,1.0166714186751061E-2,{"$f":"IF(C579>I578,J578,K578)","v":0},1,null,null,null,5.6118069999999998,1,0]
[496.45733422075728,{"$f":"IF(A580=A579,B579+1,1)","v":1},{"$f":"((A580-A579)/A580)*100","v":5.5481874584941034E-2},0,{"$f":"IF(C580<((A579*1.01)-(A579)),J579,K579)","v":1},null,null,null,5.6118069999999998,1,0]
[496.78726544964513,1,6.6412980330571775E-2,0,1,null,null,null,5.6118069999999998,1,0]
[497.62977254300728,1,0.16930399663523571,0,1,null,null,null,5.6118069999999998,1,0]
[497.88875991916194,1,5.2017116473308971E-2,0,1,null,null,null,5.6118069999999998,1,0]
[498.22209391158583,1,6.6904699028269454E-2,0,1,null,null,null,5.6118069999999998,1,0]
[498.24770432029487,1,5.1400956767035325E-3,0,1,null,null,null,5.6118069999999998,1,0]
[499.62236956352393,1,0.27514085176570141,0,1,null,null,null,5.6118069999999998,1,0]
[501.06474264102269,1,0.28786161842006025,0,1,null,null,null,5.6118069999999998,1,0]
[501.40133181803191,1,6.7129693451107711E-2,0,1,null,null,null,5.6118069999999998,1,0]
[501.91932278723681,1,0.10320203779532078,0,1,null,null,null,5.6118069999999998,1,0]
[502.44290029016179,1,0.10420636904663443,0,1,null,null,null,5.6118069999999998,1,0]
[502.49893820238793,1,1.1151846892773968E-2,0,1,null,null,null,5.6118069999999998,1,0]
[502.72871966719509,1,4.5706850597132267E-2,0,1,null,null,null,5.6118069999999998,1,0]
[502.90098686618677,1,3.4254694957978581E-2,0,1,null,null,null,5.6118069999999998,1,0]
[503.12387827458053,1,4.4301496712529434E-2,0,1,null,null,null,5.6118069999999998,1,0]
[503.20662014700906,1,1.6442922075300886E-2,0,1,null,null,null,5.6118069999999998,1,0]
[503.96418239270326,1,0.15032065217362783,0,1,null,null,null,5.6118069999999998,1,0]
[504.42975694347808,1,9.2297201813767313E-2,0,1,null,null,null,5.6118069999999998,1,0]
[505.34332843763883,1,0.180782339995508,0,1,null,null,null,5.6118069999999998,1,0]
[505.82967236784719,1,9.6147766091247908E-2,0,1,null,null,null,5.6118069999999998,1,0]
[506.84090547048993,1,0.19951686845481173,0,1,null,null,null,5.6118069999999998,1,0]
[507.09118767510745,1,4.9356449234506342E-2,0,1,null,null,null,5.6118069999999998,1,0]
[507.50981772915992,1,8.248708486579058E-2,0,1,null,null,null,5.6118069999999998,1,0]
[508.21657310955811,1,0.13906578765699451,0,1,null,null,null,5.6118069999999998,1,0]
[508.3564829878498,1,2.7522001385597242E-2,0,1,null,null,null,5.6118069999999998,1,0]
[508.79344289424631,1,8.5881591537596266E-2,0,1,null,null,null,5.6118069999999998,1,0]
[508.94521604075311,1,2.9821116639525531E-2,0,1,null,null,null,5.6118069999999998,1,0]
[509.06831355966142,1,2.4180943034452482E-2,0,1,null,null,null,5.6118069999999998,1,0]
[509.24722178875015,1,3.5131900859529816E-2,0,1,null,null,null,5.6118069999999998,1,0]
[510.20591343965594,1,0.18790288894195259,0,1,null,null,null,5.6118069999999998,1,0]
[510.57872238058172,1,7.3016936386920167E-2,0,1,null,null,null,5.6118069999999998,1,0]
[510.9594303317682,1,7.4508449905559937E-2,0,1,null,null,null,5.6118069999999998,1,0]
[511.28424291461329,1,6.3528768458317023E-2,0,1,null,null,null,5.6118069999999998,1,0]
[511.3853130339362,1,1.9763985540234959E-2,0,1,null,null,null,5.6118069999999998,1,0]
[511.73007495854512,1,6.7371831651060657E-2,0,1,null,null,null,5.6118069999999998,1,0]
[511.91013880456978,1,3.5174893477428922E-2,0,1,null,null,null,5.6118069999999998,1,0]
[512.28648068555538,1,7.3463168593081232E-2,0,1,null,null,null,5.6118069999999998,1,0]
[513.2482123872818,1,0.18738140309405057,0,1,null,null,null,5.6118069999999998,1,0]
[513.9558856604632,1,0.13769144257818894,0,1,null,null,null,5.6118069999999998,1,0]
[514.17915580110434,1,4.3422635500127829E-2,0,1,null,null,null,5.6118069999999998,1,0]
[514.4672136004607,1,5.599147851238194E-2,0,1,null,null,null,5.6118069999999998,1,0]
[515.21310967172496,1,0.14477428024677538,0,1,null,null,null,5.6118069999999998,1,0]
[515.714412294098,1,9.7205470784313242E-2,0,1,null,null,null,5.6118069999999998,1,0]
[516.06197213239727,1,6.7348469189298876E-2,0,1,null,null,null,5.6118069999999998,1,0]
[516.4585070996834,1,7.6779637054094033E-2,0,1,null,null,null,5.6118069999999998,1,0]
[517.37593481858607,1,0.17732323000766581,0,1,null,null,null,5.6118069999999998,1,0]
[518.70762825030465,1,0.25673295690881232,0,1,null,null,null,5.6118069999999998,1,0]
[519.15274146674415,1,8.5738392747755118E-2,0,1,null,null,null,5.6118069999999998,1,0]
[519.94603144121197,1,0.15257159906941592,0,1,null,null,null,5.6118069999999998,1,0]
[520.51295848605503,1,0.10891698959656999,0,1,null,null,null,5.6118069999999998,1,0]
[520.66605276806104,1,2.9403545937381734E-2,0,1,null,null,null,5.6118069999999998,1,0]
[520.83238716293431,1,3.1936261832588256E-2,0,1,null,null,null,5.6118069999999998,1,0]
[521.65532163530736,1,0.15775444785903439,0,1,null,null,null,5.6118069999999998,1,0]
[522.3626436934336,1,0.1354082392119437,0,1,null,null,null,5.6118069999999998,1,0]
[523.54113060476038,1,0.22509920280102447,0,1,null,null,null,5.6118069999999998,1,0]
[523.88249927012635,1,6.5161303506331592E-2,0,1,null,null,null,5.6118069999999998,1,0]
[524.16265780710739,1,5.344877831494569E-2,0,1,null,null,null,5.6118069999999998,1,0]
[524.45590072779476,1,5.5913742276600342E-2,0,1,null,null,null,5.6118069999999998,1,0]
[524.76676401324778,1,5.9238371553038453E-2,0,1,null,null,null,5.6118069999999998,1,0]
[525.19007068807048,1,8.0600662207514343E-2,0,1,null,null,null,5.6118069999999998,1,0]
[525.25439514403581,1,1.2246343211977286E-2,0,1,null,null,null,5.6118069999999998,1,0]
[525.62969447770001,1,7.1399948976840821E-2,0,1,null,null,null,5.6118069999999998,1,0]
[525.74888554939344,1,2.2670722652863112E-2,0,1,null,null,null,5.6118069999999998,1,0]
[525.83913429304096,1,1.7162804698599547E-2,{"$f":"IF(C643>I642,J642,K642)","v":0},1,null,null,null,5.6118069999999998,1,0]
[527.28870864273676,{"$f":"IF(A644=A643,B643+1,1)","v":1},{"$f":"((A644-A643)/A644)*100","v":0.2749109408064272},0,{"$f":"IF(C644<((A643*1.01)-(A643)),J643,K643)","v":1},null,null,null,5.6118069999999998,1,0]
[527.6034684021032,1,5.9658394650004526E-2,0,1,null,null,null,5.6118069999999998,1,0]
[528.14606290238237,1,0.10273568968731538,0,1,null,null,null,5.6118069999999998,1,0]
[529.02921593582425,1,0.16693842359530853,0,1,null,null,null,5.6118069999999998,1,0]
[529.32220368676758,1,5.535149459112889E-2,0,1,null,null,null,5.6118069999999998,1,0]
[529.40976585414978,1,1.6539582952522541E-2,0,1,null,null,null,5.6118069999999998,1,0]
[529.52598876586217,1,2.1948481128047901E-2,0,1,null,null,null,5.6118069999999998,1,0]
[529.86940616513573,1,6.4811705540616743E-2,0,1,null,null,null,5.6118069999999998,1,0]
[530.08732325295557,1,4.1109658401669198E-2,0,1,null,null,null,5.6118069999999998,1,0]
[530.25070229680125,1,3.0811660057779713E-2,0,1,null,null,null,5.6118069999999998,1,0]
[531.0986307917143,1,0.15965556033330999,0,1,null,null,null,5.6118069999999998,1,0]
[532.0618400517144,1,0.18103332873984695,0,1,null,null,null,5.6118069999999998,1,0]
[532.23472443870003,1,3.2482733472145156E-2,0,1,null,null,null,5.6118069999999998,1,0]
[533.02913817448098,1,0.14903758141659179,0,1,null,null,null,5.6118069999999998,1,0]
[533.05261556617063,1,4.4043291420147873E-3,0,1,null,null,null,5.6118069999999998,1,0]
[534.07942094886789,1,0.19225705811188087,0,1,null,null,null,5.6118069999999998,1,0]
[535.9866020956448,1,0.35582627239562559,0,1,null,null,null,5.6118069999999998,1,0]
[536.39261419960553,1,7.5693082494541264E-2,0,1,null,null,null,5.6118069999999998,1,0]
[537.18384078829104,1,0.14729158411102194,0,1,null,null,null,5.6118069999999998,1,0]
[537.25183710645592,1,1.2656321201450608E-2,0,1,null,null,null,5.6118069999999998,1,0]
[537.53793953827437,1,5.3224602539534357E-2,0,1,null,null,null,5.6118069999999998,1,0]
[538.34614732860564,1,0.15012790457250877,0,1,null,null,null,5.6118069999999998,1,0]
[538.80238539238542,1,8.467632589405133E-2,0,1,null,null,null,5.6118069999999998,1,0]
[539.16031288333727,1,6.638609749254662E-2,0,1,null,null,null,5.6118069999999998,1,0]
[540.37749270797929,1,0.22524621048563587,0,1,null,null,null,5.6118069999999998,1,0]
[540.4420445578271,1,1.1944268677436289E-2,0,1,null,null,null,5.6118069999999998,1,0]
[542.18203939162549,1,0.32092446952887155,0,1,null,null,null,5.6118069999999998,1,0]
[542.28766861529834,1,1.9478448393002914E-2,0,1,null,null,null,5.6118069999999998,1,0]
[542.98504554057149,1,0.12843391010499564,0,1,null,null,null,5.6118069999999998,1,0]
[543.99840314533287,1,0.18627951826738287,0,1,null,null,null,5.6118069999999998,1,0]
[544.56034908220761,1,0.10319259156892885,0,1,null,null,null,5.6118069999999998,1,0]
[544.98434762836587,1,7.7800132793426763E-2,0,1,null,null,null,5.6118069999999998,1,0]
[545.10167687595276,1,2.1524286672410121E-2,0,1,null,null,null,5.6118069999999998,1,0]
[545.40670485327792,1,5.5926701049120765E-2,0,1,null,null,null,5.6118069999999998,1,0]
[546.58331009731319,1,0.21526549060303188,0,1,null,null,null,5.6118069999999998,1,0]
[546.58461897982477,1,2.3946566846741723E-4,0,1,null,null,null,5.6118069999999998,1,0]
[546.8882731537808,1,5.5523987048566363E-2,0,1,null,null,null,5.6118069999999998,1,0]
[547.13212121212121,1,4.4568404757553123E-2,0,1,null,null,null,5.6118069999999998,1,0]
[547.36883796752204,1,4.3246297374144677E-2,0,1,null,null,null,5.6118069999999998,1,0]
[548.06995838642911,1,0.12792535116707235,0,1,null,null,null,5.6118069999999998,1,0]
[548.70201836715501,1,0.11519184540395951,0,1,null,null,null,5.6118069999999998,1,0]
[548.72612896369355,1,4.3939217153889012E-3,0,1,null,null,null,5.6118069999999998,1,0]
[548.850907237196,1,2.2734457000454178E-2,0,1,null,null,null,5.6118069999999998,1,0]
[550.43993761399406,1,0.28868369974861818,0,1,null,null,null,5.6118069999999998,1,0]
[550.45698881445503,1,3.0976444676800372E-3,0,1,null,null,null,5.6118069999999998,1,0]
[551.35756577880943,1,0.16333809858622461,0,1,null,null,null,5.6118069999999998,1,0]
[551.49667661137653,1,2.5224237691123155E-2,0,1,null,null,null,5.6118069999999998,1,0]
[551.57545308252691,1,1.4282084293296195E-2,0,1,null,null,null,5.6118069999999998,1,0]
[551.68903866481139,1,2.0588696588821839E-2,0,1,null,null,null,5.6118069999999998,1,0]
[551.96765788558253,1,5.0477454030266537E-2,0,1,null,null,null,5.6118069999999998,1,0]
[552.73892718101536,1,0.13953591062716106,0,1,null,null,null,5.6118069999999998,1,0]
[553.48060873321845,1,0.13400316840378881,0,1,null,null,null,5.6118069999999998,1,0]
[553.60346671856712,1,2.2192416184982147E-2,0,1,null,null,null,5.6118069999999998,1,0]
[553.97526958714172,1,6.7115427165493596E-2,0,1,null,null,null,5.6118069999999998,1,0]
[554.25144876179934,1,4.9829220162545249E-2,0,1,null,null,null,5.6118069999999998,1,0]
[555.17974076573773,1,0.16720566976346046,0,1,null,null,null,5.6118069999999998,1,0]
[555.54835525916769,1,6.6351468767826258E-2,0,1,null,null,null,5.6118069999999998,1,0]
[555.5496430199114,1,2.317994008073672E-4,0,1,null,null,null,5.6118069999999998,1,0]
[555.90596897587284,1,6.409824248116737E-2,0,1,null,null,null,5.6118069999999998,1,0]
[556.66660272347497,1,0.13664080867807588,0,1,null,null,null,5.6118069999999998,1,0]
[557.06566966929483,1,7.1637325282812067E-2,0,1,null,null,null,5.6118069999999998,1,0]
[558.35603954888222,1,0.23110162480375934,0,1,null,null,null,5.6118069999999998,1,0]
[559.22195778470416,1,0.15484338977893072,0,1,null,null,null,5.6118069999999998,1,0]
[559.27230658338101,1,9.0025552998383752E-3,{"$f":"IF(C707>I706,J706,K706)","v":0},1,null,null,null,5.6118069999999998,1,0]
[559.47877135310978,{"$f":"IF(A708=A707,B707+1,1)","v":1},{"$f":"((A708-A707)/A708)*100","v":3.6903056970227735E-2},0,{"$f":"IF(C708<((A707*1.01)-(A707)),J707,K707)","v":1},null,null,null,5.6118069999999998,1,0]
[559.63356994336266,1,2.766070489097841E-2,0,1,null,null,null,5.6118069999999998,1,0]
[560.24621863584673,1,0.10935347211728103,0,1,null,null,null,5.6118069999999998,1,0]
[561.05800824523033,1,0.14468906912541096,0,1,null,null,null,5.6118069999999998,1,0]
[561.31525631388047,1,4.5829516614152431E-2,0,1,null,null,null,5.6118069999999998,1,0]
[562.41212725121341,1,0.19502974494769323,0,1,null,null,null,5.6118069999999998,1,0]
[562.73426137842603,1,5.7244448991527301E-2,0,1,null,null,null,5.6118069999999998,1,0]
[562.93511275237415,1,3.5679311771137839E-2,0,1,null,null,null,5.6118069999999998,1,0]
[562.99074351514435,1,9.8812926164382267E-3,0,1,null,null,null,5.6118069999999998,1,0]
[563.39395438695135,1,7.1568192854634505E-2,0,1,null,null,null,5.6118069999999998,1,0]
[563.96294862751381,1,0.10089213164573864,0,1,null,null,null,5.6118069999999998,1,0]
[565.64718628473429,1,0.29775409443523165,0,1,null,null,null,5.6118069999999998,1,0]
[566.54299198238721,1,0.15811786754583432,0,1,null,null,null,5.6118069999999998,1,0]
[566.59938039303086,1,9.9520777104511182E-3,0,1,null,null,null,5.6118069999999998,1,0]
[567.00689874916532,1,7.187185147719688E-2,0,1,null,null,null,5.6118069999999998,1,0]
[567.27001366490799,1,4.6382658946274004E-2,0,1,null,null,null,5.6118069999999998,1,0]
[567.64228924044085,1,6.5582776792580677E-2,0,1,null,null,null,5.6118069999999998,1,0]
[567.73332636738519,1,1.6035191650072722E-2,0,1,null,null,null,5.6118069999999998,1,0]
[567.98755111603316,1,4.4758859265215806E-2,0,1,null,null,null,5.6118069999999998,1,0]
[568.0825365294728,1,1.6720354408345142E-2,0,1,null,null,null,5.6118069999999998,1,0]
[568.40932819224815,1,5.7492311713931168E-2,0,1,null,null,null,5.6118069999999998,1,0]
[568.54518709997967,1,2.3895885641826091E-2,0,1,null,null,null,5.6118069999999998,1,0]
[568.59003426093716,1,7.8874335206703325E-3,0,1,null,null,null,5.6118069999999998,1,0]
[568.83711849909639,1,4.3436729095874656E-2,0,1,null,null,null,5.6118069999999998,1,0]
[570.04986087744123,1,0.21274321100230523,0,1,null,null,null,5.6118069999999998,1,0]
[571.17570419654157,1,0.19710980541163525,0,1,null,null,null,5.6118069999999998,1,0]
[571.69183080122366,1,9.028056321160588E-2,0,1,null,null,null,5.6118069999999998,1,0]
[572.08041667344264,1,6.79250435591814E-2,0,1,null,null,null,5.6118069999999998,1,0]
[572.10354201713335,1,4.0421605517722212E-3,0,1,null,null,null,5.6118069999999998,1,0]
[572.67633786107649,1,0.10002086799718499,0,1,null,null,null,5.6118069999999998,1,0]
[573.13528020072613,1,8.007574398297479E-2,0,1,null,null,null,5.6118069999999998,1,0]
[573.7475255733724,1,0.10670989335150957,0,1,null,null,null,5.6118069999999998,1,0]
[574.01543800699244,1,4.6673384700286868E-2,0,1,null,null,null,5.6118069999999998,1,0]
[575.53499425818063,1,0.26402499697638371,0,1,null,null,null,5.6118069999999998,1,0]
[575.96868962927556,1,7.5298428352776794E-2,0,1,null,null,null,5.6118069999999998,1,0]
[576.21928099281536,1,4.3488889005594014E-2,0,1,null,null,null,5.6118069999999998,1,0]
[576.54540550333411,1,5.6565277843822266E-2,0,1,null,null,null,5.6118069999999998,1,0]
[576.72974613606516,1,3.1963087384703708E-2,0,1,null,null,null,5.6118069999999998,1,0]
[578.65145298410937,1,0.33210092848362421,0,1,null,null,null,5.6118069999999998,1,0]
[579.80385444967078,1,0.19875712393378786,0,1,null,null,null,5.6118069999999998,1,0]
[580.0697796403274,1,4.5843655365308635E-2,0,1,null,null,null,5.6118069999999998,1,0]
[580.25185968939149,1,3.1379485653275641E-2,0,1,null,null,null,5.6118069999999998,1,0]
[580.42258719525444,1,2.9414345621513387E-2,0,1,null,null,null,5.6118069999999998,1,0]
[580.70481497727246,1,4.8600902685656547E-2,0,1,null,null,null,5.6118069999999998,1,0]
[582.38441887750412,1,0.28840124251073662,0,1,null,null,null,5.6118069999999998,1,0]
[582.42475374579953,1,6.9253355108978894E-3,0,1,null,null,null,5.6118069999999998,1,0]
[583.11051405027774,1,0.11760383117000006,0,1,null,null,null,5.6118069999999998,1,0]
[583.67636819990594,1,9.6946558136887295E-2,0,1,null,null,null,5.6118069999999998,1,0]
[583.94193786469475,1,4.5478779236155613E-2,0,1,null,null,null,5.6118069999999998,1,0]
[585.55268517033778,1,0.27508153347029107,0,1,null,null,null,5.6118069999999998,1,0]
[585.68227026024272,1,2.2125493033510399E-2,0,1,null,null,null,5.6118069999999998,1,0]
[586.73358997564617,1,0.17918178426551121,0,1,null,null,null,5.6118069999999998,1,0]
[587.28824439980883,1,9.4443304365729952E-2,0,1,null,null,null,5.6118069999999998,1,0]
[587.30422578454943,1,2.7211424742006251E-3,0,1,null,null,null,5.6118069999999998,1,0]
[587.54998253680628,1,4.1827378020806487E-2,0,1,null,null,null,5.6118069999999998,1,0]
[588.45913407187061,1,0.15449697054974884,0,1,null,null,null,5.6118069999999998,1,0]
[588.5979662617932,1,2.3586929938668313E-2,0,1,null,null,null,5.6118069999999998,1,0]
[589.9130161171687,1,0.22292267155439335,0,1,null,null,null,5.6118069999999998,1,0]
[590.07997121824405,1,2.8293639713050048E-2,0,1,null,null,null,5.6118069999999998,1,0]
[590.3585588853997,1,4.7189570298027533E-2,0,1,null,null,null,5.6118069999999998,1,0]
[590.69439348179856,1,5.6854204154419885E-2,0,1,null,null,null,5.6118069999999998,1,0]
[591.00868230258072,1,5.3178376256283064E-2,0,1,null,null,null,5.6118069999999998,1,0]
[591.13934732482574,1,2.2103929105096835E-2,0,1,null,null,null,5.6118069999999998,1,0]
[591.39938106529382,1,4.39692276984949E-2,{"$f":"IF(C771>I770,J770,K770)","v":0},1,null,null,null,5.6118069999999998,1,0]
[592.08003086513816,{"$f":"IF(A772=A771,B771+1,1)","v":1},{"$f":"((A772-A771)/A772)*100","v":0.11495908734665092},0,{"$f":"IF(C772<((A771*1.01)-(A771)),J771,K771)","v":1},null,null,null,5.6118069999999998,1,0]
[592.22510005372601,1,2.4495616375377133E-2,0,1,null,null,null,5.6118069999999998,1,0]
[592.87438338135109,1,0.10951448499461482,0,1,null,null,null,5.6118069999999998,1,0]
[593.15434085710058,1,4.7198082601056041E-2,0,1,null,null,null,5.6118069999999998,1,0]
[594.50382006269558,1,0.22699252049426505,0,1,null,null,null,5.6118069999999998,1,0]
[595.91365959949644,1,0.23658453101215857,0,1,null,null,null,5.6118069999999998,1,0]
[597.27753524306547,1,0.22834872619376087,0,1,null,null,null,5.6118069999999998,1,0]
[597.47109922835511,1,3.2397213110330246E-2,0,1,null,null,null,5.6118069999999998,1,0]
[597.86505818356204,1,6.5894293338342166E-2,0,1,null,null,null,5.6118069999999998,1,0]
[598.28256669765551,1,6.9784502730539932E-2,0,1,null,null,null,5.6118069999999998,1,0]
[599.91080569905012,1,0.27141351446358558,0,1,null,null,null,5.6118069999999998,1,0]
[599.98130347065955,1,1.1749994741775573E-2,0,1,null,null,null,5.6118069999999998,1,0]
[601.56470677853827,1,0.26321412975805281,0,1,null,null,null,5.6118069999999998,1,0]
[601.80464005868305,1,3.9868964805819099E-2,0,1,null,null,null,5.6118069999999998,1,0]
[601.86260367017599,1,9.6307049382156895E-3,0,1,null,null,null,5.6118069999999998,1,0]
[603.42551653842168,1,0.25900675815159607,0,1,null,null,null,5.6118069999999998,1,0]
[603.85521890555174,1,7.1159833297271102E-2,0,1,null,null,null,5.6118069999999998,1,0]
[604.29048218904029,1,7.2028816656488248E-2,0,1,null,null,null,5.6118069999999998,1,0]
[604.54485923962216,1,4.2077448297519762E-2,0,1,null,null,null,5.6118069999999998,1,0]
[605.94465863700327,1,0.23101109605121201,0,1,null,null,null,5.6118069999999998,1,0]
[607.38316164323703,1,0.23683616818450803,0,1,null,null,null,5.6118069999999998,1,0]
[607.38433950515969,1,1.9392365690819966E-4,0,1,null,null,null,5.6118069999999998,1,0]
[608.09015363572053,1,0.11607063958211372,0,1,null,null,null,5.6118069999999998,1,0]
[608.83815424877423,1,0.12285705286927012,0,1,null,null,null,5.6118069999999998,1,0]
[609.20304645122962,1,5.98966476909445E-2,0,1,null,null,null,5.6118069999999998,1,0]
[610.31651677935577,1,0.18244145414938645,0,1,null,null,null,5.6118069999999998,1,0]
[610.38320617631007,1,1.092582434763764E-2,0,1,null,null,null,5.6118069999999998,1,0]
[610.87141585236736,1,7.9920203071882356E-2,0,1,null,null,null,5.6118069999999998,1,0]
[611.68305151633308,1,0.13268892475501992,0,1,null,null,null,5.6118069999999998,1,0]
[611.87945758457499,1,3.2098817145657405E-2,0,1,null,null,null,5.6118069999999998,1,0]
[611.99718722219791,1,1.9236957306500005E-2,0,1,null,null,null,5.6118069999999998,1,0]
[614.56739081758496,1,0.41821346752026756,0,1,null,null,null,5.6118069999999998,1,0]
[614.57475757704788,1,1.1986758928978429E-3,0,1,null,null,null,5.6118069999999998,1,0]
[614.9950725990617,1,6.8344453596597063E-2,0,1,null,null,null,5.6118069999999998,1,0]
[615.52363636363634,1,8.587221242993491E-2,0,1,null,null,null,5.6118069999999998,1,0]
[615.61917922439034,1,1.5519799249004453E-2,0,1,null,null,null,5.6118069999999998,1,0]
[615.78603143770886,1,2.7095810037938303E-2,0,1,null,null,null,5.6118069999999998,1,0]
[616.9409643294232,1,0.18720314559913837,0,1,null,null,null,5.6118069999999998,1,0]
[617.05194857105164,1,1.7986207139521607E-2,0,1,null,null,null,5.6118069999999998,1,0]
[617.5072371060395,1,7.3730072722965501E-2,0,1,null,null,null,5.6118069999999998,1,0]
[617.88118052398579,1,6.0520279583394267E-2,0,1,null,null,null,5.6118069999999998,1,0]
[618.46577413850184,1,9.4523195779163002E-2,0,1,null,null,null,5.6118069999999998,1,0]
[618.54786385917134,1,1.3271361113000417E-2,0,1,null,null,null,5.6118069999999998,1,0]
[618.78121193145182,1,3.7710917490870438E-2,0,1,null,null,null,5.6118069999999998,1,0]
[619.29311298537698,1,8.2658928896766987E-2,0,1,null,null,null,5.6118069999999998,1,0]
[619.56113289886343,1,4.3259639647247931E-2,0,1,null,null,null,5.6118069999999998,1,0]
[619.98536987876912,1,6.8426934007917078E-2,0,1,null,null,null,5.6118069999999998,1,0]
[620.44103570516984,1,7.344224514144615E-2,0,1,null,null,null,5.6118069999999998,1,0]
[621.17354507732591,1,0.11792346566608661,0,1,null,null,null,5.6118069999999998,1,0]
[621.61434038669427,1,7.091138037358409E-2,0,1,null,null,null,5.6118069999999998,1,0]
[621.95726468940097,1,5.5136312762253656E-2,0,1,null,null,null,5.6118069999999998,1,0]
[622.60560621168031,1,0.10413358244945002,0,1,null,null,null,5.6118069999999998,1,0]
[622.68799042293278,1,1.3230415957840884E-2,0,1,null,null,null,5.6118069999999998,1,0]
[622.96243435910219,1,4.4054652581379194E-2,0,1,null,null,null,5.6118069999999998,1,0]
[623.01781252207365,1,8.8886965763122303E-3,0,1,null,null,null,5.6118069999999998,1,0]
[623.50972681052292,1,7.8894404898153664E-2,0,1,null,null,null,5.6118069999999998,1,0]
[624.59405178294469,1,0.17360475485261054,0,1,null,null,null,5.6118069999999998,1,0]
[625.8257052885773,1,0.196804556799832,0,1,null,null,null,5.6118069999999998,1,0]
[626.40143574622118,1,9.1910781934595634E-2,0,1,null,null,null,5.6118069999999998,1,0]
[626.48393438217943,1,1.3168515811918332E-2,0,1,null,null,null,5.6118069999999998,1,0]
[627.2093863742823,1,0.11566344634867567,0,1,null,null,null,5.6118069999999998,1,0]
[627.2197541096341,1,1.6529669679345184E-3,0,1,null,null,null,5.6118069999999998,1,0]
[627.23471807572093,1,2.3857043712035616E-3,0,1,null,null,null,5.6118069999999998,1,0]
[628.16447355048342,1,0.14801147054805003,{"$f":"IF(C835>I834,J834,K834)","v":0},1,null,null,null,5.6118069999999998,1,0]
[628.58399125112078,{"$f":"IF(A836=A835,B835+1,1)","v":1},{"$f":"((A836-A835)/A836)*100","v":6.6740118500688742E-2},0,{"$f":"IF(C836<((A835*1.01)-(A835)),J835,K835)","v":1},null,null,null,5.6118069999999998,1,0]
[629.14480824328018,1,8.9139572449995277E-2,0,1,null,null,null,5.6118069999999998,1,0]
[629.66210473870331,1,8.2154617775162447E-2,0,1,null,null,null,5.6118069999999998,1,0]
[630.47475140116148,1,0.12889440229797616,0,1,null,null,null,5.6118069999999998,1,0]
[630.53151886712089,1,9.0031131292857159E-3,0,1,null,null,null,5.6118069999999998,1,0]
[631.38343309083086,1,0.13492818770039094,0,1,null,null,null,5.6118069999999998,1,0]
[633.04238037350399,1,0.26205943458229808,0,1,null,null,null,5.6118069999999998,1,0]
[633.10667590646858,1,1.0155560731141546E-2,0,1,null,null,null,5.6118069999999998,1,0]
[633.9565612911216,1,0.13406050769821465,0,1,null,null,null,5.6118069999999998,1,0]
[634.13377696116061,1,2.7946101670887381E-2,0,1,null,null,null,5.6118069999999998,1,0]
[634.17817837384223,1,7.0014097292777806E-3,0,1,null,null,null,5.6118069999999998,1,0]
[634.6734718901464,1,7.803910802024222E-2,0,1,null,null,null,5.6118069999999998,1,0]
[637.62409183560794,1,0.46275226787106216,0,1,null,null,null,5.6118069999999998,1,0]
[637.823056692676,1,3.1194365738322731E-2,0,1,null,null,null,5.6118069999999998,1,0]
[638.03631867941078,1,3.3424740957721966E-2,0,1,null,null,null,5.6118069999999998,1,0]
[638.26254183414767,1,3.5443589418046977E-2,0,1,null,null,null,5.6118069999999998,1,0]
[639.29806190994066,1,0.16197766542562489,0,1,null,null,null,5.6118069999999998,1,0]
[639.37747697726581,1,1.2420685774012908E-2,0,1,null,null,null,5.6118069999999998,1,0]
[639.53851481407912,1,2.5180318789732693E-2,0,1,null,null,null,5.6118069999999998,1,0]
[639.79106083321221,1,3.9473202205138128E-2,0,1,null,null,null,5.6118069999999998,1,0]
[640.09847521470397,1,4.8026107449895022E-2,0,1,null,null,null,5.6118069999999998,1,0]
[640.90273714191812,1,0.12548892064351802,0,1,null,null,null,5.6118069999999998,1,0]
[640.96731037224595,1,1.007434065402218E-2,0,1,null,null,null,5.6118069999999998,1,0]
[641.10131738299674,1,2.0902626015153906E-2,0,1,null,null,null,5.6118069999999998,1,0]
[641.20915228026331,1,1.6817429520943224E-2,0,1,null,null,null,5.6118069999999998,1,0]
[641.5173019086202,1,4.8034499995571529E-2,0,1,null,null,null,5.6118069999999998,1,0]
[642.36925794980289,1,0.13262715029386785,0,1,null,null,null,5.6118069999999998,1,0]
[642.67638612367864,1,4.7788930868956601E-2,0,1,null,null,null,5.6118069999999998,1,0]
[643.70279858088202,1,0.15945440340887504,0,1,null,null,null,5.6118069999999998,1,0]
[644.2726470953022,1,8.8448348224830595E-2,0,1,null,null,null,5.6118069999999998,1,0]
[644.97809118776797,1,0.10937489227992976,0,1,null,null,null,5.6118069999999998,1,0]
[646.35741342890003,1,0.21339930702036969,0,1,null,null,null,5.6118069999999998,1,0]
[647.05812584345529,1,0.10829203537809844,0,1,null,null,null,5.6118069999999998,1,0]
[647.77057522429948,1,0.10998483229922812,0,1,null,null,null,5.6118069999999998,1,0]
[648.00788428476039,1,3.662132301412447E-2,0,1,null,null,null,5.6118069999999998,1,0]
[649.35431363826035,1,0.20734895036826079,0,1,null,null,null,5.6118069999999998,1,0]
[650.03039202596563,1,0.10400719658632028,0,1,null,null,null,5.6118069999999998,1,0]
[650.97779875042465,1,0.14553595011651857,0,1,null,null,null,5.6118069999999998,1,0]
[651.47775930606281,1,7.6742536256448557E-2,0,1,null,null,null,5.6118069999999998,1,0]
[651.71371846788679,1,3.6205952880461204E-2,0,1,null,null,null,5.6118069999999998,1,0]
[652.2632266813996,1,8.4246388733059452E-2,0,1,null,null,null,5.6118069999999998,1,0]
[652.65868166121709,1,6.0591391937196343E-2,0,1,null,null,null,5.6118069999999998,1,0]
[653.37695419782767,1,0.10993233415960178,0,1,null,null,null,5.6118069999999998,1,0]
[653.99553614161812,1,9.4585040662494083E-2,0,1,null,null,null,5.6118069999999998,1,0]
[654.29581978271381,1,4.5894170804180061E-2,0,1,null,null,null,5.6118069999999998,1,0]
[655.78499903953457,1,0.22708345860332582,0,1,null,null,null,5.6118069999999998,1,0]
[655.80069518833352,1,2.3934327782992584E-3,0,1,null,null,null,5.6118069999999998,1,0]
[656.07801869962941,1,4.2269898303490698E-2,0,1,null,null,null,5.6118069999999998,1,0]
[657.298323908062,1,0.18565469651239808,0,1,null,null,null,5.6118069999999998,1,0]
[657.84996820723018,1,8.3855639709387364E-2,0,1,null,null,null,5.6118069999999998,1,0]
[657.98980305881366,1,2.1251826537954401E-2,0,1,null,null,null,5.6118069999999998,1,0]
[658.24952877692579,1,3.9457030617965037E-2,0,1,null,null,null,5.6118069999999998,1,0]
[659.7938898133732,1,0.23406719284476013,0,1,null,null,null,5.6118069999999998,1,0]
[659.80811502227004,1,2.1559614944060006E-3,0,1,null,null,null,5.6118069999999998,1,0]
[660.02687597086026,1,3.3144248598730386E-2,0,1,null,null,null,5.6118069999999998,1,0]
[661.02830246296764,1,0.15149525192432844,0,1,null,null,null,5.6118069999999998,1,0]
[662.19277354686778,1,0.17585076890267842,0,1,null,null,null,5.6118069999999998,1,0]
[662.9429488082593,1,0.11315834382733428,0,1,null,null,null,5.6118069999999998,1,0]
[663.96151111329721,1,0.15340682976186823,0,1,null,null,null,5.6118069999999998,1,0]
[664.29612521544766,1,5.0371225941131297E-2,0,1,null,null,null,5.6118069999999998,1,0]
[664.59357027915928,1,4.4755934606270753E-2,0,1,null,null,null,5.6118069999999998,1,0]
[664.64605810678052,1,7.8971095940513734E-3,0,1,null,null,null,5.6118069999999998,1,0]
[665.37857536358274,1,0.11009029805354885,0,1,null,null,null,5.6118069999999998,1,0]
[666.06166596637263,1,0.10255666069579451,{"$f":"IF(C899>I898,J898,K898)","v":0},1,null,null,null,5.6118069999999998,1,0]
[666.8299549962361,{"$f":"IF(A900=A899,B899+1,1)","v":1},{"$f":"((A900-A899)/A900)*100","v":0.11521513454922765},0,{"$f":"IF(C900<((A899*1.01)-(A899)),J899,K899)","v":1},null,null,null,5.6118069999999998,1,0]
[668.34475997867526,1,0.22665023699557271,0,1,null,null,null,5.6118069999999998,1,0]
[669.22576371631567,1,0.13164522129991837,0,1,null,null,null,5.6118069999999998,1,0]
[669.61177520405374,1,5.7647057897158814E-2,0,1,null,null,null,5.6118069999999998,1,0]
[669.65030033320954,1,5.7530220081482867E-3,0,1,null,null,null,5.6118069999999998,1,0]
[670.29055178254828,1,9.5518495320584637E-2,0,1,null,null,null,5.6118069999999998,1,0]
[672.26344792537486,1,0.29347068458280773,0,1,null,null,null,5.6118069999999998,1,0]
[672.81474089508072,1,8.1938301317899392E-2,0,1,null,null,null,5.6118069999999998,1,0]
[672.87625166559633,1,9.1414684889458715E-3,0,1,null,null,null,5.6118069999999998,1,0]
[673.55173845263869,1,0.10028729026728761,0,1,null,null,null,5.6118069999999998,1,0]
[673.56139286773112,1,1.4333385485951139E-3,0,1,null,null,null,5.6118069999999998,1,0]
[673.73010877816091,1,2.5042061833301453E-2,0,1,null,null,null,5.6118069999999998,1,0]
[674.19793016184281,1,6.9389323632244385E-2,0,1,null,null,null,5.6118069999999998,1,0]
[676.60825523859296,1,0.35623642751745616,0,1,null,null,null,5.6118069999999998,1,0]
[676.93661800305767,1,4.8507165328620296E-2,0,1,null,null,null,5.6118069999999998,1,0]
[677.280019913508,1,5.0703091831083263E-2,0,1,null,null,null,5.6118069999999998,1,0]
[677.44030703681324,1,2.3660700675805529E-2,0,1,null,null,null,5.6118069999999998,1,0]
[679.37386381160627,1,0.28460864890281051,0,1,null,null,null,5.6118069999999998,1,0]
[680.00439491197039,1,9.2724562529591992E-2,0,1,null,null,null,5.6118069999999998,1,0]
[680.04580135615356,1,6.0887728592094615E-3,0,1,null,null,null,5.6118069999999998,1,0]
[680.43232830820432,1,5.6806082834394575E-2,0,1,null,null,null,5.6118069999999998,1,0]
[680.8703119760238,1,6.4327032639793502E-2,0,1,null,null,null,5.6118069999999998,1,0]
[681.51512649914275,1,9.46148512405416E-2,0,1,null,null,null,5.6118069999999998,1,0]
[682.89576654139557,1,0.20217434488505209,0,1,null,null,null,5.6118069999999998,1,0]
[683.64513745842066,1,0.10961401990088261,0,1,null,null,null,5.6118069999999998,1,0]
[683.85627314893816,1,3.0874278530089727E-2,0,1,null,null,null,5.6118069999999998,1,0]
[685.29812372636354,1,0.21039756676776034,0,1,null,null,null,5.6118069999999998,1,0]
[686.28350792375682,1,0.14358267188649171,0,1,null,null,null,5.6118069999999998,1,0]
[686.42086380017895,1,2.0010446020201304E-2,0,1,null,null,null,5.6118069999999998,1,0]
[686.94581122907061,1,7.6417589322284152E-2,0,1,null,null,null,5.6118069999999998,1,0]
[687.02103963358616,1,1.0949941875967021E-2,0,1,null,null,null,5.6118069999999998,1,0]
[687.69208866002566,1,9.7579867138947313E-2,0,1,null,null,null,5.6118069999999998,1,0]
[688.93658845892901,1,0.18064068881682557,0,1,null,null,null,5.6118069999999998,1,0]
[690.83379631049729,1,0.27462580170521605,0,1,null,null,null,5.6118069999999998,1,0]
[691.49174141258015,1,9.5148656546325747E-2,0,1,null,null,null,5.6118069999999998,1,0]
[692.07264664673244,1,8.3937031317003516E-2,0,1,null,null,null,5.6118069999999998,1,0]
[692.73880225016114,1,9.6162594222366726E-2,0,1,null,null,null,5.6118069999999998,1,0]
[693.84199243365367,1,0.15899732151164345,0,1,null,null,null,5.6118069999999998,1,0]
[694.83757363126199,1,0.1432825793235894,0,1,null,null,null,5.6118069999999998,1,0]
[697.77851870692166,1,0.42147257286017353,0,1,null,null,null,5.6118069999999998,1,0]
[698.52623147974691,1,0.10704147376703517,0,1,null,null,null,5.6118069999999998,1,0]
[699.17693782212643,1,9.306747794147982E-2,0,1,null,null,null,5.6118069999999998,1,0]
[700.25344113832796,1,0.15373052854286109,0,1,null,null,null,5.6118069999999998,1,0]
[700.47481455667798,1,3.1603337300589597E-2,0,1,null,null,null,5.6118069999999998,1,0]
[700.88840631172548,1,5.9009644234797543E-2,0,1,null,null,null,5.6118069999999998,1,0]
[701.81815746048517,1,0.13247749988743207,0,1,null,null,null,5.6118069999999998,1,0]
[702.54734513170911,1,0.10379196167729259,0,1,null,null,null,5.6118069999999998,1,0]
[703.28019498307117,1,0.10420453420840355,0,1,null,null,null,5.6118069999999998,1,0]
[703.99453623705756,1,0.10146971563226004,0,1,null,null,null,5.6118069999999998,1,0]
[705.83284641640444,1,0.26044554155848537,0,1,null,null,null,5.6118069999999998,1,0]
[706.48602745323876,1,9.2454912263294386E-2,0,1,null,null,null,5.6118069999999998,1,0]
[706.70362030730394,1,3.078983152379431E-2,0,1,null,null,null,5.6118069999999998,1,0]
[707.93842493599311,1,0.17442260303935589,0,1,null,null,null,5.6118069999999998,1,0]
[709.54452454080968,1,0.22635642292581573,0,1,null,null,null,5.6118069999999998,1,0]
[710.9906742145356,1,0.20339924645615859,0,1,null,null,null,5.6118069999999998,1,0]
[711.62998330387177,1,8.9837289649890392E-2,0,1,null,null,null,5.6118069999999998,1,0]
[712.47372488069493,1,0.11842423760461472,0,1,null,null,null,5.6118069999999998,1,0]
[713.20422005796638,1,0.10242440478157554,0,1,null,null,null,5.6118069999999998,1,0]
[713.84154672134412,1,8.928125104303046E-2,0,1,null,null,null,5.6118069999999998,1,0]
[715.23204309691425,1,0.19441192393301715,0,1,null,null,null,5.6118069999999998,1,0]
[717.51179715115563,1,0.31773053255612355,0,1,null,null,null,5.6118069999999998,1,0]
[717.5261430047691,1,1.99934925762945E-3,0,1,null,null,null,5.6118069999999998,1,0]
[717.7403889040188,1,2.9850054777724722E-2,0,1,null,null,null,5.6118069999999998,1,0]
[721.36029631529607,1,0.50181683546595679,{"$f":"IF(C963>I962,J962,K962)","v":0},1,null,null,null,5.6118069999999998,1,0]
[721.66829695954948,{"$f":"IF(A964=A963,B963+1,1)","v":1},{"$f":"((A964-A963)/A964)*100","v":4.267897669206816E-2},0,{"$f":"IF(C964<((A963*1.01)-(A963)),J963,K963)","v":1},null,null,null,5.6118069999999998,1,0]
[722.66481678099535,1,0.13789516222537634,0,1,null,null,null,5.6118069999999998,1,0]
[723.37299052666617,1,9.7898837106873401E-2,0,1,null,null,null,5.6118069999999998,1,0]
[726.20858689630268,1,0.39046582769771182,0,1,null,null,null,5.6118069999999998,1,0]
[726.56432499274479,1,4.8961679538238032E-2,0,1,null,null,null,5.6118069999999998,1,0]
[729.00886982035547,1,0.33532442866066592,0,1,null,null,null,5.6118069999999998,1,0]
[729.18436420504111,1,2.4067217195058676E-2,0,1,null,null,null,5.6118069999999998,1,0]
[729.57401195203056,1,5.3407569431773133E-2,0,1,null,null,null,5.6118069999999998,1,0]
[730.17062634546107,1,8.1708900893014177E-2,0,1,null,null,null,5.6118069999999998,1,0]
[730.20595644116509,1,4.8383740768428753E-3,0,1,null,null,null,5.6118069999999998,1,0]
[730.79315671040035,1,8.0351090297355432E-2,0,1,null,null,null,5.6118069999999998,1,0]
[733.01740764953968,1,0.30343766954614437,0,1,null,null,null,5.6118069999999998,1,0]
[733.16550937789054,1,2.0200313088450435E-2,0,1,null,null,null,5.6118069999999998,1,0]
[733.32051222753626,1,2.1137121771607696E-2,0,1,null,null,null,5.6118069999999998,1,0]
[733.78549894255241,1,6.3368207151304867E-2,0,1,null,null,null,5.6118069999999998,1,0]
[736.95330285613534,1,0.42985137610562191,0,1,null,null,null,5.6118069999999998,1,0]
[739.71291132803265,1,0.37306479711742307,0,1,null,null,null,5.6118069999999998,1,0]
[741.95743955322382,1,0.30251441734215068,0,1,null,null,null,5.6118069999999998,1,0]
[746.16829400947631,1,0.56433039169029786,0,1,null,null,null,5.6118069999999998,1,0]
[747.31542008502117,1,0.15349958594650087,0,1,null,null,null,5.6118069999999998,1,0]
[747.93237461900696,1,8.2488010269653605E-2,0,1,null,null,null,5.6118069999999998,1,0]
[749.27001025864456,1,0.1785251806856451,0,1,null,null,null,5.6118069999999998,1,0]
[749.87668492227317,1,8.0903257272426504E-2,0,1,null,null,null,5.6118069999999998,1,0]
[750.8220576957043,1,0.12591169422119924,0,1,null,null,null,5.6118069999999998,1,0]
[753.29588139424709,1,0.32840000319185075,0,1,null,null,null,5.6118069999999998,1,0]
[758.36936641182206,1,0.66899920306378524,0,1,null,null,null,5.6118069999999998,1,0]
[763.52421125075159,1,0.67513836011633876,0,1,null,null,null,5.6118069999999998,1,0]
[764.86830741002643,1,0.17572909561728056,0,1,null,null,null,5.6118069999999998,1,0]
[766.92636437191993,1,0.26835131213398306,0,1,null,null,null,5.6118069999999998,1,0]
[770.34373729802667,1,0.44361662990772655,0,1,null,null,null,5.6118069999999998,1,0]
[770.93382849069462,1,7.654239194863377E-2,0,1,null,null,null,5.6118069999999998,1,0]
[781.80920041999286,1,1.3910519246199611,0,1,null,null,null,5.6118069999999998,1,0]
[782.7291565017631,1,0.11753185302075375,0,1,null,null,null,5.6118069999999998,1,0]
[785.52368073889431,1,0.35575302255720342,0,1,null,null,null,5.6118069999999998,1,0]
[800.57562861557801,1,1.880140656131736,0,1,null,null,null,5.6118069999999998,1,0]
[802.02839799015237,1,0.18113689966775925,0,1,null,null,null,5.6118069999999998,1,0]
[820.3324097306712,1,2.2312920376421972,0,1,null,null,null,5.6118069999999998,1,0]

{"sheet":"Axial","index":2,"n_rows":29,"n_cols":9,"rows_kept":29,"cut":false,"hidden":false,"merged":[[1,8,3,11]]}
[null,null,"Axial Modes"]
["Lx =",{"$f":"+AllModes!D2","v":13.5},"nx","ny","nz","f","Type",null,"If you found this spreadsheet helpful, please send a donation via PayPal to https://www.paypal.me/JHBrandt/"]
["Ly =",{"$f":"+AllModes!D3","v":13},1,0,0,{"$f":"$B$5*SQRT((($C3/$B$2)^2)+(($D3/$B$3)^2)+(($E3/$B$4)^2))","v":41.851851851851848},{"$f":"+IF(+AND(C3=0,D3=0)+OR(+AND(C3=0,E3=0))+OR(+AND(D3=0,E3=0)),\"Axial\",(+IF(+OR(C3=0,D3=0,E3=0),\"Tangential\",\"Oblique\")))","v":"Axial"}]
["Lz =",{"$f":"+AllModes!D4","v":8.25},0,1,0,43.461538461538467,"Axial"]
["c/2 =",{"$f":"1130/2","v":565},0,0,1,68.484848484848484,"Axial"]
[null,null,2,0,0,83.703703703703695,"Axial"]
["V =",{"$f":"B2*B3*B4","v":1447.875},0,2,0,86.923076923076934,"Axial"]
[null,null,3,0,0,125.55555555555554,"Axial"]
[null,null,0,3,0,130.38461538461539,"Axial"]
[null,null,0,0,2,136.96969696969697,"Axial"]
[null,null,4,0,0,167.40740740740739,"Axial"]
[null,null,0,4,0,173.84615384615387,"Axial"]
[null,null,0,0,3,205.45454545454547,"Axial"]
[null,null,5,0,0,209.25925925925924,"Axial"]
[null,null,0,5,0,217.30769230769232,"Axial"]
[null,null,6,0,0,251.11111111111109,"Axial"]
[null,null,0,6,0,260.76923076923077,"Axial"]
[null,null,0,0,4,273.93939393939394,"Axial"]
[null,null,7,0,0,292.96296296296293,"Axial"]
[null,null,0,7,0,304.23076923076923,"Axial"]
[null,null,8,0,0,334.81481481481478,"Axial"]
[null,null,0,0,5,342.42424242424244,"Axial"]
[null,null,0,8,0,347.69230769230774,"Axial"]
[null,null,9,0,0,376.66666666666663,"Axial"]
[null,null,0,9,0,391.15384615384613,"Axial"]
[null,null,0,0,6,410.90909090909093,"Axial"]
[null,null,0,0,7,479.39393939393943,"Axial"]
[null,null,0,0,8,547.87878787878788,"Axial"]
[null,null,0,0,9,616.36363636363637,"Axial"]

{"sheet":"Tangential","index":3,"n_rows":245,"n_cols":9,"rows_kept":245,"cut":false,"hidden":false,"merged":[[1,8,3,11]]}
[null,null,"Tangential Modes"]
["Lx =",{"$f":"+AllModes!D2","v":13.5},"nx","ny","nz","f","Type",null,"If you found this spreadsheet helpful, please send a donation via PayPal to https://www.paypal.me/JHBrandt/"]
["Ly =",{"$f":"+AllModes!D3","v":13},1,1,0,{"$f":"$B$5*SQRT((($C3/$B$2)^2)+(($D3/$B$3)^2)+(($E3/$B$4)^2))","v":60.336413788632996},{"$f":"+IF(+AND(C3=0,D3=0)+OR(+AND(C3=0,E3=0))+OR(+AND(D3=0,E3=0)),\"Axial\",(+IF(+OR(C3=0,D3=0,E3=0),\"Tangential\",\"Oblique\")))","v":"Tangential"}]
["Lz =",{"$f":"+AllModes!D4","v":8.25},1,0,1,80.260525636342621,"Tangential"]
["c/2 =",{"$f":"1130/2","v":565},0,1,1,81.111526908550061,"Tangential"]
[null,null,2,1,0,94.314449259703622,"Tangential"]
["V =",{"$f":"B2*B3*B4","v":1447.875},1,2,0,96.473824456193839,"Tangential"]
[null,null,2,0,1,108.15028657248244,"Tangential"]
[null,null,0,2,1,110.66072371789279,"Tangential"]
[null,null,2,2,0,120.67282757726599,"Tangential"]
[null,null,3,1,0,132.8649797964384,"Tangential"]
[null,null,1,3,0,136.9369396197514,"Tangential"]
[null,null,3,0,1,143.01878199333419,"Tangential"]
[null,null,1,0,2,143.22107174365081,"Tangential"]
[null,null,0,1,2,143.69969802826449,"Tangential"]
[null,null,0,3,1,147.27634705201899,"Tangential"]
[null,null,3,2,0,152.70828017052432,"Tangential"]
[null,null,2,3,0,154.94017536685413,"Tangential"]
[null,null,2,0,2,160.52105127268524,"Tangential"]
[null,null,0,2,2,162.22305381710012,"Tangential"]
[null,null,4,1,0,172.95706224468972,"Tangential"]
[null,null,1,4,0,178.81292657559729,"Tangential"]
[null,null,4,0,1,180.87402944276533,"Tangential"]
[null,null,3,3,0,181.00924136589899,"Tangential"]
[null,null,3,0,2,185.80876033931989,"Tangential"]
[null,null,0,4,1,186.84929670483979,"Tangential"]
[null,null,4,2,0,188.62889851940724,"Tangential"]
[null,null,0,3,2,189.10538283445212,"Tangential"]
[null,null,2,4,0,192.94764891238768,"Tangential"]
[null,null,1,0,3,209.67390813204022,"Tangential"]
[null,null,0,1,3,210.00113231451317,"Tangential"]
[null,null,4,3,0,212.19186597007854,"Tangential"]
[null,null,5,1,0,213.7249234674741,"Tangential"]
[null,null,3,4,0,214.44505762074533,"Tangential"]
[null,null,4,0,2,216.30057314496489,"Tangential"]
[null,null,5,0,1,220.18086215138345,"Tangential"]
[null,null,1,5,0,221.30117631753345,"Tangential"]
[null,null,0,4,2,221.32144743578559,"Tangential"]
[null,null,2,0,3,221.85103168940032,"Tangential"]
[null,null,0,2,3,223.0856148426183,"Tangential"]
[null,null,5,2,0,226.59448114971605,"Tangential"]
[null,null,0,5,1,227.84382284382284,"Tangential"]
[null,null,2,5,0,232.87108697691971,"Tangential"]
[null,null,3,0,3,240.78157690902782,"Tangential"]
[null,null,4,4,0,241.34565515453198,"Tangential"]
[null,null,0,3,3,243.3345807256502,"Tangential"]
[null,null,5,3,0,246.55544105682998,"Tangential"]
[null,null,5,0,2,250.10025084694433,"Tangential"]
[null,null,3,5,0,250.97177264975213,"Tangential"]
[null,null,6,1,0,254.8444534395453,"Tangential"]
[null,null,0,5,2,256.87220757424359,"Tangential"]
[null,null,6,0,1,260.28247078020723,"Tangential"]
[null,null,1,6,0,264.10635967239733,"Tangential"]
[null,null,4,0,3,265.02228265337158,"Tangential"]
[null,null,6,2,0,265.72995959287681,"Tangential"]
[null,null,0,4,3,269.13575655240328,"Tangential"]
[null,null,0,6,1,269.61225155391026,"Tangential"]
[null,null,5,4,0,272.05132382113942,"Tangential"]
[null,null,2,6,0,273.8738792395028,"Tangential"]
[null,null,4,5,0,274.31345791077104,"Tangential"]
[null,null,1,0,4,277.11796956406818,"Tangential"]
[null,null,0,1,4,277.36563752081162,"Tangential"]
[null,null,6,3,0,282.94334777911081,"Tangential"]
[null,null,6,0,2,286.03756398666837,"Tangential"]
[null,null,2,0,4,286.44214348730162,"Tangential"]
[null,null,0,2,4,287.39939605652899,"Tangential"]
[null,null,3,6,0,{"$f":"$B$5*SQRT((($C67/$B$2)^2)+(($D67/$B$3)^2)+(($E67/$B$4)^2))","v":289.42147336858153},{"$f":"+IF(+AND(C67=0,D67=0)+OR(+AND(C67=0,E67=0))+OR(+AND(D67=0,E67=0)),\"Axial\",(+IF(+OR(C67=0,D67=0,E67=0),\"Tangential\",\"Oblique\")))","v":"Tangential"}]
[null,null,5,0,3,293.2592843094107,"Tangential"]
[null,null,0,6,2,294.55269410403798,"Tangential"]
[null,null,7,1,0,296.16921344643873,"Tangential"]
[null,null,0,5,3,299.05551889913107,"Tangential"]
[null,null,7,0,1,300.86121740767965,"Tangential"]
[null,null,3,0,4,301.34198028609734,"Tangential"]
[null,null,5,5,0,301.68206894316495,"Tangential"]
[null,null,0,3,4,303.38579314278468,"Tangential"]
[null,null,6,4,0,305.41656034104864,"Tangential"]
[null,null,7,2,0,305.58618910188591,"Tangential"]
[null,null,1,7,0,307.09597595894172,"Tangential"]
[null,null,4,6,0,309.88035073370827,"Tangential"]
[null,null,0,7,1,311.84376764453418,"Tangential"]
[null,null,2,7,0,315.53553042480485,"Tangential"]
[null,null,7,3,0,320.66718821393698,"Tangential"]
[null,null,4,0,4,321.04210254537048,"Tangential"]
[null,null,7,0,2,323.40067340067338,"Tangential"]
[null,null,0,4,4,324.44610763420025,"Tangential"]
[null,null,6,0,3,324.45085971744726,"Tangential"]
[null,null,3,7,0,329.12088733109869,"Tangential"]
[null,null,0,6,3,331.98217115367839,"Tangential"]
[null,null,6,5,0,332.08345827449983,"Tangential"]
[null,null,0,7,2,333.64211190243384,"Tangential"]
[null,null,5,6,0,334.35015971539508,"Tangential"]
[null,null,8,1,0,337.62385215639387,"Tangential"]
[null,null,7,4,0,340.66080325617003,"Tangential"]
[null,null,8,0,1,341.7471794930741,"Tangential"]
[null,null,5,0,4,344.72050872789151,"Tangential"]
[null,null,1,0,5,344.9723746957801,"Tangential"]
[null,null,0,1,5,345.17135907438808,"Tangential"]
[null,null,8,2,0,345.91412448937945,"Tangential"]
[null,null,4,7,0,347.24861555032186,"Tangential"]
[null,null,0,5,4,349.66473183319073,"Tangential"]
[null,null,1,8,0,350.2021106901438,"Tangential"]
[null,null,2,0,5,352.5062720201355,"Tangential"]
[null,null,0,2,5,353.28456391638673,"Tangential"]
[null,null,0,8,1,354.37284785998355,"Tangential"]
[null,null,2,8,0,357.62585315119458,"Tangential"]
[null,null,7,0,3,357.82519184089358,"Tangential"]
[null,null,8,3,0,359.30642653377748,"Tangential"]
[null,null,8,0,2,361.74805888553067,"Tangential"]
[null,null,6,6,0,362.01848273179797,"Tangential"]
[null,null,3,0,5,364.71709492520444,"Tangential"]
[null,null,7,5,0,364.76010034560119,"Tangential"]
[null,null,0,3,5,366.40757324161632,"Tangential"]
[null,null,0,7,3,367.10751993752382,"Tangential"]
[null,null,5,7,0,369.25031961053116,"Tangential"]
[null,null,3,8,0,369.66760523376485,"Tangential"]
[null,null,6,0,4,371.61752067863978,"Tangential"]
[null,null,0,8,2,373.69859340967957,"Tangential"]
[null,null,8,4,0,377.25779703881449,"Tangential"]
[null,null,0,6,4,378.21076566890423,"Tangential"]
[null,null,9,1,0,379.16577258927464,"Tangential"]
[null,null,4,0,5,381.15561369955719,"Tangential"]
[null,null,9,0,1,382.84194160223677,"Tangential"]
[null,null,0,4,5,384.02714358091526,"Tangential"]
[null,null,4,8,0,385.89529782477535,"Tangential"]
[null,null,9,2,0,386.56616390930145,"Tangential"]
[null,null,7,6,0,392.2089868730888,"Tangential"]
[null,null,8,0,3,392.82633627012922,"Tangential"]
[null,null,1,9,0,393.38646248234835,"Tangential"]
[null,null,6,7,0,394.47832775730831,"Tangential"]
[null,null,0,9,1,397.10389803291957,"Tangential"]
[null,null,9,3,0,{"$f":"$B$5*SQRT((($C131/$B$2)^2)+(($D131/$B$3)^2)+(($E131/$B$4)^2))","v":398.59493938931519},{"$f":"+IF(+AND(C131=0,D131=0)+OR(+AND(C131=0,E131=0))+OR(+AND(D131=0,E131=0)),\"Axial\",(+IF(+OR(C131=0,D131=0,E131=0),\"Tangential\",\"Oblique\")))","v":"Tangential"}]
[null,null,8,5,0,399.15359619521581,"Tangential"]
[null,null,2,9,0,400.00955160428879,"Tangential"]
[null,null,9,0,2,400.79729997312654,"Tangential"]
[null,null,7,0,4,401.08613690817197,"Tangential"]
[null,null,5,0,5,401.30262818171303,"Tangential"]
[null,null,0,8,3,403.85828093074468,"Tangential"]
[null,null,0,5,5,405.55763454275029,"Tangential"]
[null,null,5,8,0,405.80707043389015,"Tangential"]
[null,null,0,7,4,409.38875472908148,"Tangential"]
[null,null,3,9,0,410.8108188592542,"Tangential"]
[null,null,1,0,6,413.03493616783186,"Tangential"]
[null,null,0,1,6,413.20114510632629,"Tangential"]
[null,null,0,9,2,414.44182854644072,"Tangential"]
[null,null,9,4,0,414.84968721800715,"Tangential"]
[null,null,2,0,6,419.34781626408045,"Tangential"]
[null,null,0,2,6,420.00226462902634,"Tangential"]
[null,null,7,7,0,422.35489652043094,"Tangential"]
[null,null,8,6,0,424.38373194015708,"Tangential"]
[null,null,6,0,5,424.6306064372576,"Tangential"]
[null,null,4,9,0,425.47217466694156,"Tangential"]
[null,null,6,8,0,428.89011524149066,"Tangential"]
[null,null,9,0,3,429.05634598000256,"Tangential"]
[null,null,3,0,6,429.6632152309524,"Tangential"]
[null,null,0,6,5,430.41253875298838,"Tangential"]
[null,null,0,3,6,431.09909408479353,"Tangential"]
[null,null,8,0,4,432.60114628992977,"Tangential"]
[null,null,9,5,0,434.85677057379758,"Tangential"]
[null,null,0,9,3,441.82904115605692,"Tangential"]
[null,null,0,8,4,442.64289487157117,"Tangential"]
[null,null,5,9,0,443.61105593377698,"Tangential"]
[null,null,4,0,6,443.70206337880063,"Tangential"]
[null,null,0,4,6,446.1712296852366,"Tangential"]
[null,null,7,0,5,450.64582486455453,"Tangential"]
[null,null,8,7,0,452.39067316449427,"Tangential"]
[null,null,7,8,0,454.66167476095978,"Tangential"]
[null,null,0,7,5,458.05100452521867,"Tangential"]
[null,null,9,6,0,458.12484051157287,"Tangential"]
[null,null,5,0,6,461.12440683341566,"Tangential"]
[null,null,6,9,0,464.82052610056229,"Tangential"]
[null,null,0,5,6,464.83213542937216,"Tangential"]
[null,null,9,0,4,465.74732348094096,"Tangential"]
[null,null,0,9,4,477.539655853657,"Tangential"]
[null,null,8,0,5,478.91055743144261,"Tangential"]
[null,null,1,0,7,481.217338248602,"Tangential"]
[null,null,0,1,7,481.36000504101281,"Tangential"]
[null,null,6,0,6,481.56315381805564,"Tangential"]
[null,null,8,8,0,482.69131030906397,"Tangential"]
[null,null,9,7,0,484.18399263557166,"Tangential"]
[null,null,2,0,7,486.64654436393312,"Tangential"]
[null,null,0,6,6,486.6691614513004,"Tangential"]
[null,null,0,2,7,487.21060172107838,"Tangential"]
[null,null,0,8,5,488.00031006979771,"Tangential"]
[null,null,7,9,0,488.70096074080431,"Tangential"]
[null,null,3,0,7,495.56306022392778,"Tangential"]
[null,null,0,3,7,496.80851145751734,"Tangential"]
[null,null,7,0,6,504.65193813139564,"Tangential"]
[null,null,4,0,7,507.78321081196623,"Tangential"]
[null,null,9,0,5,509.05023286272461,"Tangential"]
[null,null,0,4,7,509.94218724747674,"Tangential"]
[null,null,0,7,6,511.27550492711958,"Tangential"]
[null,null,9,8,0,512.60873832405571,"Tangential"]
[null,null,8,9,0,514.88085182926102,"Tangential"]
[null,null,0,9,5,519.86122490599655,"Tangential"]
[null,null,5,0,7,{"$f":"$B$5*SQRT((($C195/$B$2)^2)+(($D195/$B$3)^2)+(($E195/$B$4)^2))","v":523.07550765962458},{"$f":"+IF(+AND(C195=0,D195=0)+OR(+AND(C195=0,E195=0))+OR(+AND(D195=0,E195=0)),\"Axial\",(+IF(+OR(C195=0,D195=0,E195=0),\"Tangential\",\"Oblique\")))","v":"Tangential"}]
[null,null,0,5,7,526.34701696099194,"Tangential"]
[null,null,8,0,6,530.04456530674315,"Tangential"]
[null,null,0,8,6,538.27151310480656,"Tangential"]
[null,null,6,0,7,541.17958133238619,"Tangential"]
[null,null,9,9,0,543.02772409769705,"Tangential"]
[null,null,0,6,7,545.72808324624123,"Tangential"]
[null,null,1,0,8,549.47497095951439,"Tangential"]
[null,null,0,1,8,549.59991951689153,"Tangential"]
[null,null,2,0,8,554.23593912813635,"Tangential"]
[null,null,0,2,8,554.73127504162323,"Tangential"]
[null,null,9,0,6,557.42628101795958,"Tangential"]
[null,null,7,0,7,561.8236794543983,"Tangential"]
[null,null,3,0,8,562.08127858735349,"Tangential"]
[null,null,0,3,8,563.17964641535468,"Tangential"]
[null,null,0,9,6,567.31614850335632,"Tangential"]
[null,null,0,7,7,567.78068835985039,"Tangential"]
[null,null,4,0,8,572.88428697460324,"Tangential"]
[null,null,0,4,8,574.79879211305797,"Tangential"]
[null,null,8,0,7,584.73883858276326,"Tangential"]
[null,null,5,0,8,586.48154599549309,"Tangential"]
[null,null,0,5,8,589.40122102318765,"Tangential"]
[null,null,0,8,7,592.20645889422929,"Tangential"]
[null,null,6,0,8,602.68396057219468,"Tangential"]
[null,null,0,6,8,606.77158628556936,"Tangential"]
[null,null,9,0,7,609.6690306267966,"Tangential"]
[null,null,1,0,9,617.78289854513957,"Tangential"]
[null,null,0,1,9,617.89403424604177,"Tangential"]
[null,null,0,9,7,618.72439784494259,"Tangential"]
[null,null,7,0,8,621.28774643925522,"Tangential"]
[null,null,2,0,9,622.02125546087427,"Tangential"]
[null,null,0,2,9,622.46265231994448,"Tangential"]
[null,null,0,7,8,626.67976443657051,"Tangential"]
[null,null,3,0,9,629.02172439612059,"Tangential"]
[null,null,0,3,9,630.00339694353954,"Tangential"]
[null,null,4,0,9,638.69348852659721,"Tangential"]
[null,null,0,4,9,640.41128771946671,"Tangential"]
[null,null,8,0,8,642.08420509074097,"Tangential"]
[null,null,0,8,8,648.89221526840049,"Tangential"]
[null,null,5,0,9,650.9174831091409,"Tangential"]
[null,null,0,5,9,653.54935954945256,"Tangential"]
[null,null,9,0,8,664.86761387911474,"Tangential"]
[null,null,6,0,9,665.55309506820083,"Tangential"]
[null,null,0,6,9,669.2568445278547,"Tangential"]
[null,null,0,9,8,673.18088027548481,"Tangential"]
[null,null,7,0,9,682.44518453824799,"Tangential"]
[null,null,0,7,9,687.35761665827954,"Tangential"]
[null,null,8,0,9,701.43074672478076,"Tangential"]
[null,null,0,8,9,707.66805287493878,"Tangential"]
[null,null,9,0,9,722.3447307270834,"Tangential"]
[null,null,0,9,9,730.0037421769506,"Tangential"]

{"sheet":"Oblique","index":4,"n_rows":731,"n_cols":9,"rows_kept":731,"cut":false,"hidden":false,"merged":[[1,8,3,11]]}
[null,null,"Oblique Modes"]
["Lx =",{"$f":"+AllModes!D2","v":13.5},"nx","ny","nz","f","Type",null,"If you found this spreadsheet helpful, please send a donation via PayPal to https://www.paypal.me/JHBrandt/"]
["Ly =",{"$f":"+AllModes!D3","v":13},1,1,1,{"$f":"$B$5*SQRT((($C3/$B$2)^2)+(($D3/$B$3)^2)+(($E3/$B$4)^2))","v":91.272434507170871},{"$f":"+IF(+AND(C3=0,D3=0)+OR(+AND(C3=0,E3=0))+OR(+AND(D3=0,E3=0)),\"Axial\",(+IF(+OR(C3=0,D3=0,E3=0),\"Tangential\",\"Oblique\")))","v":"Oblique"}]
["Lz =",{"$f":"+AllModes!D4","v":8.25},2,1,1,116.55638039658686,"Oblique"]
["c/2 =",{"$f":"1130/2","v":565},1,2,1,118.31049521152872,"Oblique"]
[null,null,2,2,1,138.75195777892731,"Oblique"]
["V =",{"$f":"B2*B3*B4","v":1447.875},3,1,1,149.47667820867787,"Oblique"]
[null,null,1,1,2,149.67023991710496,"Oblique"]
[null,null,1,3,1,153.10747827724188,"Oblique"]
[null,null,2,1,2,166.30067115658861,"Oblique"]
[null,null,3,2,1,167.36186335193571,"Oblique"]
[null,null,1,2,2,167.53476264099675,"Oblique"]
[null,null,2,3,1,169.40080405566013,"Oblique"]
[null,null,2,2,2,182.54486901434174,"Oblique"]
[null,null,4,1,1,186.02236384990417,"Oblique"]
[null,null,3,1,2,190.82400463327093,"Oblique"]
[null,null,1,4,1,191.47907766260681,"Oblique"]
[null,null,3,3,1,193.53170265321117,"Oblique"]
[null,null,1,3,2,193.68124152946265,"Oblique"]
[null,null,4,2,1,200.67644562488513,"Oblique"]
[null,null,2,4,1,204.74122616808435,"Oblique"]
[null,null,3,2,2,205.1353619457405,"Oblique"]
[null,null,2,3,2,206.80221427896299,"Oblique"]
[null,null,1,1,3,214.13092508277973,"Oblique"]
[null,null,4,1,2,220.6237595280347,"Oblique"]
[null,null,4,3,1,222.96986894164962,"Oblique"]
[null,null,5,1,1,224.42931489261895,"Oblique"]
[null,null,3,4,1,225.1152087486704,"Oblique"]
[null,null,1,4,2,225.24378037695195,"Oblique"]
[null,null,2,1,3,226.06809944593044,"Oblique"]
[null,null,1,2,3,226.9774637560707,"Oblique"]
[null,null,3,3,2,226.99128473980866,"Oblique"]
[null,null,1,5,1,231.65574698573027,"Oblique"]
[null,null,4,2,2,233.11276079317372,"Oblique"]
[null,null,2,4,2,236.62099042305744,"Oblique"]
[null,null,5,2,1,236.717623677456,"Oblique"]
[null,null,2,2,3,238.27190678597938,"Oblique"]
[null,null,2,5,1,242.73260518892957,"Oblique"]
[null,null,3,1,3,244.6725834748182,"Oblique"]
[null,null,1,3,3,246.90746380042327,"Oblique"]
[null,null,4,4,1,250.87427076917021,"Oblique"]
[null,null,4,3,2,252.55907402394868,"Oblique"]
[null,null,5,1,2,253.8484603048604,"Oblique"]
[null,null,3,4,2,254.45506602529139,"Oblique"]
[null,null,5,3,1,255.89013264821412,"Oblique"]
[null,null,3,2,3,255.99099413958538,"Oblique"]
[null,null,2,3,3,257.3286384968556,"Oblique"]
[null,null,3,5,1,260.14804465717498,"Oblique"]
[null,null,1,5,2,260.25931016487124,"Oblique"]
[null,null,6,1,1,263.88609270079627,"Oblique"]
[null,null,5,2,2,264.77491719473664,"Oblique"]
[null,null,4,1,3,268.56231237507495,"Oblique"]
[null,null,2,5,2,270.1659509223594,"Oblique"]
[null,null,1,4,3,272.37039662647595,"Oblique"]
[null,null,1,6,1,272.84124265110353,"Oblique"]
[null,null,3,3,3,273.8173035215126,"Oblique"]
[null,null,6,2,1,274.41316640646926,"Oblique"]
[null,null,4,4,2,277.50391555785461,"Oblique"]
[null,null,4,2,3,278.91294628356485,"Oblique"]
[null,null,1,1,4,280.50539100123478,"Oblique"]
[null,null,5,4,1,280.53894072806918,"Oblique"]
[null,null,2,4,3,281.85167281524497,"Oblique"]
[null,null,5,3,2,282.04659792789306,"Oblique"]
[null,null,2,6,1,282.30670590987813,"Oblique"]
[null,null,4,5,1,282.7331739696582,"Oblique"]
[null,null,3,5,2,285.91524715364426,"Oblique"]
[null,null,6,1,2,{"$f":"$B$5*SQRT((($C67/$B$2)^2)+(($D67/$B$3)^2)+(($E67/$B$4)^2))","v":289.32057192130526},{"$f":"+IF(+AND(C67=0,D67=0)+OR(+AND(C67=0,E67=0))+OR(+AND(D67=0,E67=0)),\"Axial\",(+IF(+OR(C67=0,D67=0,E67=0),\"Tangential\",\"Oblique\")))","v":"Oblique"}]
[null,null,2,1,4,289.72056691067633,"Oblique"]
[null,null,1,2,4,290.43069802809578,"Oblique"]
[null,null,6,3,1,291.11357323979848,"Oblique"]
[null,null,4,3,3,295.35903275809534,"Oblique"]
[null,null,5,1,3,296.46233008446711,"Oblique"]
[null,null,3,4,3,296.98190683255217,"Oblique"]
[null,null,3,6,1,297.41379207903793,"Oblique"]
[null,null,1,6,2,297.51112098100862,"Oblique"]
[null,null,6,2,2,298.95335641735574,"Oblique"]
[null,null,2,2,4,299.34047983420993,"Oblique"]
[null,null,1,5,3,301.96983439982529,"Oblique"]
[null,null,7,1,1,303.98417305095808,"Oblique"]
[null,null,3,1,4,304.46000461175595,"Oblique"]
[null,null,5,4,2,304.58598241023026,"Oblique"]
[null,null,5,2,3,305.87028154994545,"Oblique"]
[null,null,2,6,2,306.21495655448376,"Oblique"]
[null,null,1,3,4,306.25890515102725,"Oblique"]
[null,null,4,5,2,306.60817190501456,"Oblique"]
[null,null,5,5,1,309.35779478432607,"Oblique"]
[null,null,2,5,3,310.54872950592795,"Oblique"]
[null,null,6,4,1,313.00071853360026,"Oblique"]
[null,null,7,2,1,313.1662393071868,"Oblique"]
[null,null,3,2,4,313.62814029439676,"Oblique"]
[null,null,6,3,2,314.35272535866693,"Oblique"]
[null,null,1,7,1,314.63965567322816,"Oblique"]
[null,null,2,3,4,314.72090730454181,"Oblique"]
[null,null,4,4,3,316.95314402905706,"Oblique"]
[null,null,4,6,1,317.35785202644456,"Oblique"]
[null,null,3,6,2,320.19601361480306,"Oblique"]
[null,null,5,3,3,320.93793132420774,"Oblique"]
[null,null,2,7,1,322.8820921520047,"Oblique"]
[null,null,4,1,4,323.97058034981495,"Oblique"]
[null,null,3,5,3,324.34302969987306,"Oblique"]
[null,null,7,1,2,326.30798470379608,"Oblique"]
[null,null,1,4,4,327.13430615331748,"Oblique"]
[null,null,6,1,3,327.34884404383416,"Oblique"]
[null,null,7,3,1,327.89879546748131,"Oblique"]
[null,null,3,3,4,328.33997169357974,"Oblique"]
[null,null,5,5,2,331.3197377304877,"Oblique"]
[null,null,4,2,4,332.60134231317721,"Oblique"]
[null,null,1,6,3,334.60983169557284,"Oblique"]
[null,null,6,4,2,334.72372670387142,"Oblique"]
[null,null,7,2,2,334.87851059419177,"Oblique"]
[null,null,2,4,4,335.06952528199349,"Oblique"]
[null,null,6,2,3,335.89281277390535,"Oblique"]
[null,null,3,7,1,336.17069020008631,"Oblique"]
[null,null,1,7,2,336.25680117753086,"Oblique"]
[null,null,4,6,2,338.80160811132026,"Oblique"]
[null,null,6,5,1,339.07167049392984,"Oblique"]
[null,null,5,4,3,340.91566851755044,"Oblique"]
[null,null,5,6,1,341.29196265617338,"Oblique"]
[null,null,2,6,3,342.37183292091606,"Oblique"]
[null,null,4,5,3,342.72356709000655,"Oblique"]
[null,null,2,7,2,343.98164027813112,"Oblique"]
[null,null,8,1,1,344.49969523486544,"Oblique"]
[null,null,4,3,4,346.50855622299753,"Oblique"]
[null,null,5,1,4,347.44947037383741,"Oblique"]
[null,null,7,4,1,347.47655654321727,"Oblique"]
[null,null,1,1,5,347.69935954598697,"Oblique"]
[null,null,3,4,4,347.89290635172091,"Oblique"]
[null,null,7,3,2,348.6949146245226,"Oblique"]
[null,null,6,3,3,349.66914118976064,"Oblique"]
[null,null,1,5,4,352.16047789524379,"Oblique"]
[null,null,8,2,1,{"$f":"$B$5*SQRT((($C131/$B$2)^2)+(($D131/$B$3)^2)+(($E131/$B$4)^2))","v":352.62835392697303},{"$f":"+IF(+AND(C131=0,D131=0)+OR(+AND(C131=0,E131=0))+OR(+AND(D131=0,E131=0)),\"Axial\",(+IF(+OR(C131=0,D131=0,E131=0),\"Tangential\",\"Oblique\")))","v":"Oblique"}]
[null,null,4,7,1,353.93753046774782,"Oblique"]
[null,null,3,6,3,354.93148563458618,"Oblique"]
[null,null,2,1,5,355.17541741930506,"Oblique"]
[null,null,5,2,4,355.51068962745899,"Oblique"]
[null,null,1,2,5,355.75491648748982,"Oblique"]
[null,null,3,7,2,356.48458082444512,"Oblique"]
[null,null,1,8,1,356.83566638415556,"Oblique"]
[null,null,6,5,2,359.22154883514725,"Oblique"]
[null,null,2,5,4,359.54378690459185,"Oblique"]
[null,null,7,1,3,360.45495313758147,"Oblique"]
[null,null,5,6,2,361.31804160556504,"Oblique"]
[null,null,2,2,5,363.06513618813483,"Oblique"]
[null,null,2,8,1,364.12418941085531,"Oblique"]
[null,null,8,1,2,364.34950724941723,"Oblique"]
[null,null,5,5,3,364.99813830999528,"Oblique"]
[null,null,4,4,4,365.08973802868348,"Oblique"]
[null,null,8,3,1,365.77490704047142,"Oblique"]
[null,null,7,4,2,367.16546782494351,"Oblique"]
[null,null,3,1,5,367.29751517826031,"Oblique"]
[null,null,6,4,3,368.09081159204624,"Oblique"]
[null,null,7,2,3,368.23157009923449,"Oblique"]
[null,null,6,6,1,368.43935228396242,"Oblique"]
[null,null,5,3,4,368.55444247303603,"Oblique"]
[null,null,1,3,5,368.79003136234547,"Oblique"]
[null,null,1,7,3,369.48546479950841,"Oblique"]
[null,null,7,5,1,371.13354102819341,"Oblique"]
[null,null,3,5,4,371.52338044710098,"Oblique"]
[null,null,4,6,3,371.80290749102528,"Oblique"]
[null,null,8,2,2,372.04472769980833,"Oblique"]
[null,null,4,7,2,373.28581394098791,"Oblique"]
[null,null,6,1,4,374.15035346873998,"Oblique"]
[null,null,3,2,5,374.93223472043007,"Oblique"]
[null,null,5,7,1,375.547564237171,"Oblique"]
[null,null,2,3,5,375.84680355502275,"Oblique"]
[null,null,3,8,1,375.95786044616653,"Oblique"]
[null,null,1,8,2,376.03486037839946,"Oblique"]
[null,null,2,7,3,376.52920365941986,"Oblique"]
[null,null,1,6,4,380.51933035167633,"Oblique"]
[null,null,7,3,3,380.83988216173782,"Oblique"]
[null,null,6,2,4,381.64800926654186,"Oblique"]
[null,null,2,8,2,382.95815532521362,"Oblique"]
[null,null,8,4,1,383.42355157002544,"Oblique"]
[null,null,4,1,5,383.62547775158237,"Oblique"]
[null,null,8,3,2,384.52803023504464,"Oblique"]
[null,null,9,1,1,385.3009960734779,"Oblique"]
[null,null,5,4,4,386.07604735947677,"Oblique"]
[null,null,1,4,5,386.30095069821704,"Oblique"]
[null,null,6,6,2,387.06340530642234,"Oblique"]
[null,null,3,3,5,387.32248483618224,"Oblique"]
[null,null,2,6,4,387.36248305892531,"Oblique"]
[null,null,4,5,4,387.67339958120266,"Oblique"]
[null,null,3,7,3,387.98470166431002,"Oblique"]
[null,null,7,5,2,389.62883452345221,"Oblique"]
[null,null,6,5,3,390.50095199305895,"Oblique"]
[null,null,4,2,5,390.94145745426022,"Oblique"]
[null,null,4,8,1,391.92519101898097,"Oblique"]
[null,null,5,6,3,392.43037541663887,"Oblique"]
[null,null,9,2,1,392.58575311840542,"Oblique"]
[null,null,2,4,5,393.04345436686049,"Oblique"]
[null,null,6,3,4,393.8270300580362,"Oblique"]
[null,null,5,7,2,393.83562106601033,"Oblique"]
[null,null,3,8,2,394.22688422688429,"Oblique"]
[null,null,8,1,3,395.2232733441395,"Oblique"]
[null,null,7,4,3,{"$f":"$B$5*SQRT((($C195/$B$2)^2)+(($D195/$B$3)^2)+(($E195/$B$4)^2))","v":397.82075501797647},{"$f":"+IF(+AND(C195=0,D195=0)+OR(+AND(C195=0,E195=0))+OR(+AND(D195=0,E195=0)),\"Axial\",(+IF(+OR(C195=0,D195=0,E195=0),\"Tangential\",\"Oblique\")))","v":"Oblique"}]
[null,null,7,6,1,398.14327051453148,"Oblique"]
[null,null,3,6,4,398.50668852445,"Oblique"]
[null,null,1,9,1,399.30324734012464,"Oblique"]
[null,null,6,7,1,400.37897739790861,"Oblique"]
[null,null,8,4,2,401.35289124977027,"Oblique"]
[null,null,8,2,3,402.32841282860915,"Oblique"]
[null,null,4,3,5,402.83960801251919,"Oblique"]
[null,null,9,1,2,403.14684792416796,"Oblique"]
[null,null,7,1,4,403.43400271341113,"Oblique"]
[null,null,4,7,3,403.47635773307604,"Oblique"]
[null,null,5,1,5,403.64923474595366,"Oblique"]
[null,null,3,4,5,404.03099452613924,"Oblique"]
[null,null,9,3,1,404.43553278460155,"Oblique"]
[null,null,8,5,1,404.9861328830483,"Oblique"]
[null,null,2,9,1,405.82978679078849,"Oblique"]
[null,null,1,8,3,406.02104450356467,"Oblique"]
[null,null,5,5,4,407.49829726479965,"Oblique"]
[null,null,1,5,5,407.71138375000078,"Oblique"]
[null,null,4,8,2,409.48245233616871,"Oblique"]
[null,null,9,2,2,410.11473634523736,"Oblique"]
[null,null,6,4,4,410.270723891481,"Oblique"]
[null,null,7,2,4,410.3970157319568,"Oblique"]
[null,null,5,2,5,410.6085979218231,"Oblique"]
[null,null,1,7,4,411.52245382488837,"Oblique"]
[null,null,5,8,1,411.5453230035896,"Oblique"]
[null,null,2,8,3,412.44129411354254,"Oblique"]
[null,null,4,6,4,413.60442855792598,"Oblique"]
[null,null,8,3,3,413.89935781105862,"Oblique"]
[null,null,2,5,5,414.10542733660037,"Oblique"]
[null,null,1,1,6,415.31525835274664,"Oblique"]
[null,null,7,6,2,415.43782600045625,"Oblique"]
[null,null,6,6,3,416.25587333678186,"Oblique"]
[null,null,3,9,1,416.48013561729874,"Oblique"]
[null,null,1,9,2,416.54964500326577,"Oblique"]
[null,null,6,7,2,417.58094898854398,"Oblique"]
[null,null,2,7,4,417.85818468990817,"Oblique"]
[null,null,7,5,3,418.64245013145398,"Oblique"]
[null,null,4,4,5,418.92969226564333,"Oblique"]
[null,null,9,4,1,420.46454958399408,"Oblique"]
[null,null,9,3,2,421.47197249015557,"Oblique"]
[null,null,2,1,6,421.59399465705957,"Oblique"]
[null,null,7,3,4,421.74665042998856,"Oblique"]
[null,null,5,3,5,421.95254154293741,"Oblique"]
[null,null,8,5,2,422.00034507514806,"Oblique"]
[null,null,1,2,6,422.08231400633224,"Oblique"]
[null,null,5,7,3,422.56049126771575,"Oblique"]
[null,null,2,9,2,422.81005104258668,"Oblique"]
[null,null,3,8,3,422.92518086205325,"Oblique"]
[null,null,3,5,5,424.54822160359504,"Oblique"]
[null,null,6,1,5,426.84898646795085,"Oblique"]
[null,null,7,7,1,427.87128097919424,"Oblique"]
[null,null,3,7,4,428.20946980361401,"Oblique"]
[null,null,2,2,6,428.26185016555945,"Oblique"]
[null,null,5,8,2,428.2990500831246,"Oblique"]
[null,null,8,4,3,429.57538997772343,"Oblique"]
[null,null,8,6,1,429.8740820373423,"Oblique"]
[null,null,6,5,4,430.49066750794248,"Oblique"]
[null,null,4,9,1,430.94865806475025,"Oblique"]
[null,null,9,1,3,431.25196040268094,"Oblique"]
[null,null,3,1,6,431.85574425731971,"Oblique"]
[null,null,5,6,4,432.24162323125785,"Oblique"]
[null,null,1,6,5,432.4425175895891,"Oblique"]
[null,null,3,9,2,433.04298491002203,"Oblique"]
[null,null,1,3,6,{"$f":"$B$5*SQRT((($C259/$B$2)^2)+(($D259/$B$3)^2)+(($E259/$B$4)^2))","v":433.12585517856007},{"$f":"+IF(+AND(C259=0,D259=0)+OR(+AND(C259=0,E259=0))+OR(+AND(D259=0,E259=0)),\"Axial\",(+IF(+OR(C259=0,D259=0,E259=0),\"Tangential\",\"Oblique\")))","v":"Oblique"}]
[null,null,6,2,5,433.43600822387646,"Oblique"]
[null,null,6,8,1,434.32350319071128,"Oblique"]
[null,null,8,1,4,434.7788599929911,"Oblique"]
[null,null,9,4,2,436.87636794961685,"Oblique"]
[null,null,7,4,4,437.14136663901013,"Oblique"]
[null,null,4,8,3,437.18045602611971,"Oblique"]
[null,null,5,4,5,437.34001028107502,"Oblique"]
[null,null,9,2,3,437.7727370765416,"Oblique"]
[null,null,3,2,6,438.36753965636512,"Oblique"]
[null,null,2,6,5,438.47606950609071,"Oblique"]
[null,null,4,5,5,438.75076637059078,"Oblique"]
[null,null,2,3,6,439.15001871165509,"Oblique"]
[null,null,9,5,1,440.2165210278518,"Oblique"]
[null,null,8,2,4,441.24751905606939,"Oblique"]
[null,null,4,7,4,442.29446362519366,"Oblique"]
[null,null,7,6,3,442.76343529242411,"Oblique"]
[null,null,1,9,3,443.80680381480175,"Oblique"]
[null,null,7,7,2,444.00941037635067,"Oblique"]
[null,null,6,3,5,444.19736587722718,"Oblique"]
[null,null,1,8,4,444.61703732955868,"Oblique"]
[null,null,6,7,3,444.77491084607755,"Oblique"]
[null,null,4,1,6,445.82555598804453,"Oblique"]
[null,null,8,6,2,445.93973788329924,"Oblique"]
[null,null,4,9,2,446.97569207260813,"Oblique"]
[null,null,1,4,6,448.12982906995319,"Oblique"]
[null,null,3,6,5,448.35159311265625,"Oblique"]
[null,null,9,3,3,448.43003462603366,"Oblique"]
[null,null,5,9,1,448.86628679226209,"Oblique"]
[null,null,8,5,3,448.92667954077683,"Oblique"]
[null,null,3,3,6,449.01071975131487,"Oblique"]
[null,null,2,9,3,449.68790468790468,"Oblique"]
[null,null,6,8,2,450.2304174973408,"Oblique"]
[null,null,2,8,4,450.48756075390389,"Oblique"]
[null,null,8,3,4,451.82286318905471,"Oblique"]
[null,null,4,2,6,452.13619889186089,"Oblique"]
[null,null,7,1,5,452.73674999197772,"Oblique"]
[null,null,2,4,6,453.95492751214141,"Oblique"]
[null,null,6,6,4,453.98256947961733,"Oblique"]
[null,null,5,8,3,454.85266698357407,"Oblique"]
[null,null,9,5,2,455.91787506287034,"Oblique"]
[null,null,7,5,4,456.17181232076967,"Oblique"]
[null,null,5,5,5,456.36217253585443,"Oblique"]
[null,null,8,7,1,457.54507497974112,"Oblique"]
[null,null,6,4,5,458.83944591803981,"Oblique"]
[null,null,7,2,5,458.95237309510657,"Oblique"]
[null,null,3,9,3,459.32243483172562,"Oblique"]
[null,null,5,7,4,459.7701491880066,"Oblique"]
[null,null,7,8,1,459.79061861724995,"Oblique"]
[null,null,1,7,5,459.95902018548486,"Oblique"]
[null,null,3,8,4,460.1053465361482,"Oblique"]
[null,null,4,6,5,461.82268628843082,"Oblique"]
[null,null,4,3,6,462.46261359768238,"Oblique"]
[null,null,9,4,3,462.93826071390151,"Oblique"]
[null,null,5,1,6,463.16802987999205,"Oblique"]
[null,null,9,6,1,463.21544012019586,"Oblique"]
[null,null,3,4,6,463.5007699343123,"Oblique"]
[null,null,5,9,2,464.27520592279234,"Oblique"]
[null,null,2,7,5,465.63615920617605,"Oblique"]
[null,null,8,4,4,466.22552158634744,"Oblique"]
[null,null,1,5,6,466.71242926588059,"Oblique"]
[null,null,9,1,4,467.77075010639993,"Oblique"]
[null,null,7,3,5,469.12877485488866,"Oblique"]
[null,null,5,2,6,469.24550064890826,"Oblique"]
[null,null,7,7,3,{"$f":"$B$5*SQRT((($C323/$B$2)^2)+(($D323/$B$3)^2)+(($E323/$B$4)^2))","v":469.67566347716786},{"$f":"+IF(+AND(C323=0,D323=0)+OR(+AND(C323=0,E323=0))+OR(+AND(D323=0,E323=0)),\"Axial\",(+IF(+OR(C323=0,D323=0,E323=0),\"Tangential\",\"Oblique\")))","v":"Oblique"}]
[null,null,6,9,1,469.83858500169623,"Oblique"]
[null,null,8,6,3,471.50092490194436,"Oblique"]
[null,null,2,5,6,472.30839939762626,"Oblique"]
[null,null,4,9,3,472.48083735083935,"Oblique"]
[null,null,8,7,2,472.67115318601248,"Oblique"]
[null,null,4,8,4,473.24198084611487,"Oblique"]
[null,null,9,2,4,473.78918374255375,"Oblique"]
[null,null,7,8,2,474.84517096039986,"Oblique"]
[null,null,3,7,5,474.94728157704634,"Oblique"]
[null,null,6,8,3,475.5610383534306,"Oblique"]
[null,null,4,4,6,476.54381357195876,"Oblique"]
[null,null,6,5,5,477.00501575912995,"Oblique"]
[null,null,9,6,2,478.16217686233267,"Oblique"]
[null,null,7,6,4,478.40430697883272,"Oblique"]
[null,null,5,6,5,478.58582417527424,"Oblique"]
[null,null,5,3,6,479.20336654333249,"Oblique"]
[null,null,1,9,4,479.37010797113595,"Oblique"]
[null,null,6,7,4,480.26653289822809,"Oblique"]
[null,null,8,1,5,480.87859938319036,"Oblique"]
[null,null,9,5,3,480.94904216746949,"Oblique"]
[null,null,3,5,6,481.49051045549635,"Oblique"]
[null,null,7,4,5,483.01567746291153,"Oblique"]
[null,null,1,1,7,483.17598445754027,"Oblique"]
[null,null,6,1,6,483.52039919804429,"Oblique"]
[null,null,9,3,4,483.65350950722387,"Oblique"]
[null,null,8,5,4,484.11402056484161,"Oblique"]
[null,null,6,9,2,484.58107615999006,"Oblique"]
[null,null,2,9,4,484.82000054303313,"Oblique"]
[null,null,8,2,5,486.73498263538676,"Oblique"]
[null,null,8,8,1,487.52546140675952,"Oblique"]
[null,null,4,7,5,487.68428598985184,"Oblique"]
[null,null,1,6,6,488.46540328987601,"Oblique"]
[null,null,2,1,7,488.58342631202839,"Oblique"]
[null,null,5,9,3,488.87865487727578,"Oblique"]
[null,null,9,7,1,489.00338771476413,"Oblique"]
[null,null,1,2,7,489.00485471296145,"Oblique"]
[null,null,6,2,6,489.34516694963639,"Oblique"]
[null,null,5,8,4,489.61430735428752,"Oblique"]
[null,null,1,8,5,489.79167013297405,"Oblique"]
[null,null,5,4,6,492.80645671964362,"Oblique"]
[null,null,7,9,1,493.47624411006638,"Oblique"]
[null,null,3,9,4,493.76950133001679,"Oblique"]
[null,null,2,6,6,493.81492760084654,"Oblique"]
[null,null,4,5,6,494.05885700258415,"Oblique"]
[null,null,2,2,7,494.3485414594976,"Oblique"]
[null,null,2,8,5,495.12686519914888,"Oblique"]
[null,null,8,3,5,496.34208964008798,"Oblique"]
[null,null,8,7,3,496.85902569457085,"Oblique"]
[null,null,9,4,4,497.13484542602811,"Oblique"]
[null,null,3,1,7,497.46522690932682,"Oblique"]
[null,null,6,6,5,498.30888376512962,"Oblique"]
[null,null,1,3,7,498.56822457920794,"Oblique"]
[null,null,6,3,6,498.90201346976585,"Oblique"]
[null,null,7,8,3,498.92765882878717,"Oblique"]
[null,null,7,5,5,500.30420006626912,"Oblique"]
[null,null,8,8,2,501.74854153834042,"Oblique"]
[null,null,9,6,3,502.08559005580707,"Oblique"]
[null,null,3,6,6,502.60428792299024,"Oblique"]
[null,null,3,2,7,503.12857994778972,"Oblique"]
[null,null,9,7,2,503.18469433448973,"Oblique"]
[null,null,7,7,4,503.41478938015564,"Oblique"]
[null,null,5,7,5,503.58729167076461,"Oblique"]
[null,null,2,3,7,503.81048725721422,"Oblique"]
[null,null,3,8,5,{"$f":"$B$5*SQRT((($C387/$B$2)^2)+(($D387/$B$3)^2)+(($E387/$B$4)^2))","v":503.89334204678966},{"$f":"+IF(+AND(C387=0,D387=0)+OR(+AND(C387=0,E387=0))+OR(+AND(D387=0,E387=0)),\"Axial\",(+IF(+OR(C387=0,D387=0,E387=0),\"Tangential\",\"Oblique\")))","v":"Oblique"}]
[null,null,8,6,4,505.11814804789736,"Oblique"]
[null,null,4,9,4,506.03296628549697,"Oblique"]
[null,null,7,1,6,506.51997392523202,"Oblique"]
[null,null,7,9,2,507.53258704930045,"Oblique"]
[null,null,6,9,3,508.20241216698037,"Oblique"]
[null,null,6,8,4,508.91013205058277,"Oblique"]
[null,null,8,4,5,509.48778908468029,"Oblique"]
[null,null,4,1,7,509.63976935474096,"Oblique"]
[null,null,5,5,6,509.76303486381204,"Oblique"]
[null,null,9,1,5,510.90218721692503,"Oblique"]
[null,null,1,4,7,511.6567324272886,"Oblique"]
[null,null,6,4,6,511.98198827917076,"Oblique"]
[null,null,7,2,6,512.08319632804694,"Oblique"]
[null,null,3,3,7,512.42842874639416,"Oblique"]
[null,null,1,7,6,512.98559379568394,"Oblique"]
[null,null,9,5,4,513.94863796468508,"Oblique"]
[null,null,4,6,6,514.65727699371121,"Oblique"]
[null,null,4,2,7,515.16930273870639,"Oblique"]
[null,null,4,8,5,515.91621672815097,"Oblique"]
[null,null,9,2,5,516.41820347405383,"Oblique"]
[null,null,2,4,7,516.76623762438089,"Oblique"]
[null,null,9,8,1,517.16331373964715,"Oblique"]
[null,null,2,7,6,518.0819934645466,"Oblique"]
[null,null,8,9,1,519.41550424724335,"Oblique"]
[null,null,7,6,5,520.65559747671114,"Oblique"]
[null,null,7,3,6,521.22329820218897,"Oblique"]
[null,null,5,9,4,521.37660141069148,"Oblique"]
[null,null,1,9,5,521.54316280073351,"Oblique"]
[null,null,6,7,5,522.36722032495368,"Oblique"]
[null,null,4,3,7,524.25560284226219,"Oblique"]
[null,null,8,8,3,524.59743737061376,"Oblique"]
[null,null,5,1,7,524.87797823762594,"Oblique"]
[null,null,3,4,7,525.17162134449427,"Oblique"]
[null,null,9,3,5,525.48290886249401,"Oblique"]
[null,null,8,5,5,525.90679322042399,"Oblique"]
[null,null,9,7,3,525.97120545944074,"Oblique"]
[null,null,3,7,6,526.46637069175199,"Oblique"]
[null,null,2,9,5,526.55674259711134,"Oblique"]
[null,null,1,5,7,528.0082951688961,"Oblique"]
[null,null,6,5,6,528.32348447829474,"Oblique"]
[null,null,8,7,4,528.86681945278701,"Oblique"]
[null,null,5,6,6,529.75117771784687,"Oblique"]
[null,null,7,9,3,530.13224696948873,"Oblique"]
[null,null,5,2,7,530.2486284896446,"Oblique"]
[null,null,9,8,2,530.59251454779383,"Oblique"]
[null,null,7,8,4,530.81072902525545,"Oblique"]
[null,null,5,8,5,530.97433103112678,"Oblique"]
[null,null,8,1,6,531.82341668702225,"Oblique"]
[null,null,8,9,2,532.78794043070843,"Oblique"]
[null,null,2,5,7,532.96106075158264,"Oblique"]
[null,null,7,4,6,533.75655861719827,"Oblique"]
[null,null,9,6,4,533.78006804828954,"Oblique"]
[null,null,3,9,5,534.80827470377392,"Oblique"]
[null,null,4,4,7,536.71805856483934,"Oblique"]
[null,null,8,2,6,537.12462475014991,"Oblique"]
[null,null,9,4,5,537.91693111919687,"Oblique"]
[null,null,4,7,6,537.98502023137303,"Oblique"]
[null,null,5,3,7,539.08082384960426,"Oblique"]
[null,null,6,9,4,539.53768453768453,"Oblique"]
[null,null,1,8,6,539.89610048931388,"Oblique"]
[null,null,3,5,7,541.11494138916453,"Oblique"]
[null,null,6,1,7,542.92195072269885,"Oblique"]
[null,null,7,7,5,543.72605272747444,"Oblique"]
[null,null,2,8,6,{"$f":"$B$5*SQRT((($C451/$B$2)^2)+(($D451/$B$3)^2)+(($E451/$B$4)^2))","v":544.7407932529519},{"$f":"+IF(+AND(C451=0,D451=0)+OR(+AND(C451=0,E451=0))+OR(+AND(D451=0,E451=0)),\"Axial\",(+IF(+OR(C451=0,D451=0,E451=0),\"Tangential\",\"Oblique\")))","v":"Oblique"}]
[null,null,8,6,5,545.30350607278467,"Oblique"]
[null,null,8,3,6,545.84557261207897,"Oblique"]
[null,null,4,9,5,546.15101685855416,"Oblique"]
[null,null,9,9,1,547.3292278060045,"Oblique"]
[null,null,1,6,7,547.33053847473718,"Oblique"]
[null,null,6,6,6,547.6346070430252,"Oblique"]
[null,null,6,2,7,548.11582767958089,"Oblique"]
[null,null,6,8,5,548.81790491170705,"Oblique"]
[null,null,7,5,6,549.45082745944489,"Oblique"]
[null,null,1,1,8,551.19111843026189,"Oblique"]
[null,null,5,4,7,551.20819290035456,"Oblique"]
[null,null,2,6,7,552.10999887462083,"Oblique"]
[null,null,9,8,3,552.24929955058701,"Oblique"]
[null,null,4,5,7,552.32818352733409,"Oblique"]
[null,null,5,7,6,552.44192411892038,"Oblique"]
[null,null,3,8,6,552.72092356903056,"Oblique"]
[null,null,9,5,5,553.49324540927216,"Oblique"]
[null,null,8,9,3,554.35896477675851,"Oblique"]
[null,null,8,8,4,555.00783111570922,"Oblique"]
[null,null,2,1,8,555.93738995204399,"Oblique"]
[null,null,9,7,4,556.3065074906151,"Oblique"]
[null,null,1,2,8,556.30779700875519,"Oblique"]
[null,null,6,3,7,556.66460923979264,"Oblique"]
[null,null,8,4,6,557.8258925671297,"Oblique"]
[null,null,9,1,6,559.11802340378642,"Oblique"]
[null,null,3,6,7,559.98512335104101,"Oblique"]
[null,null,9,9,2,560.03554086030567,"Oblique"]
[null,null,7,9,4,560.24228739079274,"Oblique"]
[null,null,5,9,5,560.39729723339758,"Oblique"]
[null,null,2,2,8,561.01078200246957,"Oblique"]
[null,null,7,1,7,563.50222015633824,"Oblique"]
[null,null,4,8,6,563.70334563048993,"Oblique"]
[null,null,3,1,8,563.75905231210061,"Oblique"]
[null,null,9,2,6,564.16281344243919,"Oblique"]
[null,null,1,3,8,564.7325841847213,"Oblique"]
[null,null,5,5,7,566.41912030709966,"Oblique"]
[null,null,8,7,5,567.3726138667962,"Oblique"]
[null,null,7,6,6,568.04416234633572,"Oblique"]
[null,null,6,4,7,568.41694596325806,"Oblique"]
[null,null,7,2,7,568.50810732781417,"Oblique"]
[null,null,3,2,8,568.76267901486756,"Oblique"]
[null,null,1,9,6,568.8577940541129,"Oblique"]
[null,null,7,8,5,569.18503168675932,"Oblique"]
[null,null,1,7,7,569.32107600001507,"Oblique"]
[null,null,2,3,8,569.36598436352108,"Oblique"]
[null,null,6,7,6,569.61340579549028,"Oblique"]
[null,null,4,6,7,570.82780319329754,"Oblique"]
[null,null,9,6,5,571.95518294143517,"Oblique"]
[null,null,9,3,6,572.47201389981274,"Oblique"]
[null,null,8,5,6,572.86113007194774,"Oblique"]
[null,null,2,9,6,573.45786450828246,"Oblique"]
[null,null,2,7,7,573.91743316273551,"Oblique"]
[null,null,4,1,8,574.53051406156249,"Oblique"]
[null,null,1,4,8,576.32042209005556,"Oblique"]
[null,null,7,3,7,576.75470932162534,"Oblique"]
[null,null,3,3,8,577.00564266512004,"Oblique"]
[null,null,6,9,5,577.33221223505268,"Oblique"]
[null,null,5,8,6,577.51680443591579,"Oblique"]
[null,null,4,2,8,579.44113382135265,"Oblique"]
[null,null,9,9,3,580.59510795963342,"Oblique"]
[null,null,2,4,8,580.86139605619155,"Oblique"]
[null,null,3,9,6,581.04372458838805,"Oblique"]
[null,null,9,8,4,581.21468508466182,"Oblique"]
[null,null,3,7,7,{"$f":"$B$5*SQRT((($C515/$B$2)^2)+(($D515/$B$3)^2)+(($E515/$B$4)^2))","v":581.49729802059255},{"$f":"+IF(+AND(C515=0,D515=0)+OR(+AND(C515=0,E515=0))+OR(+AND(D515=0,E515=0)),\"Axial\",(+IF(+OR(C515=0,D515=0,E515=0),\"Tangential\",\"Oblique\")))","v":"Oblique"}]
[null,null,6,5,7,583.17919406233239,"Oblique"]
[null,null,8,9,4,583.21958397528795,"Oblique"]
[null,null,9,4,6,583.90628013116452,"Oblique"]
[null,null,5,6,7,584.47290649725619,"Oblique"]
[null,null,8,1,7,586.35178406189107,"Oblique"]
[null,null,4,3,8,587.53430043819026,"Oblique"]
[null,null,5,1,8,588.08971179464402,"Oblique"]
[null,null,7,4,7,588.10571498904778,"Oblique"]
[null,null,3,4,8,588.35180712350564,"Oblique"]
[null,null,7,7,6,589.26219937012718,"Oblique"]
[null,null,8,6,6,590.71806551619068,"Oblique"]
[null,null,1,5,8,590.88524845950747,"Oblique"]
[null,null,8,2,7,591.16421631294122,"Oblique"]
[null,null,4,9,6,591.50050922002765,"Oblique"]
[null,null,8,8,5,591.81522694815601,"Oblique"]
[null,null,4,7,7,591.94607028787289,"Oblique"]
[null,null,5,2,8,592.88803757120866,"Oblique"]
[null,null,9,7,5,593.03330473451467,"Oblique"]
[null,null,1,8,7,593.68347413371021,"Oblique"]
[null,null,6,8,6,593.96381366510434,"Oblique"]
[null,null,2,5,8,595.31513449377553,"Oblique"]
[null,null,7,9,5,596.72689802689592,"Oblique"]
[null,null,2,8,7,598.0926349402406,"Oblique"]
[null,null,9,5,6,598.28646308069517,"Oblique"]
[null,null,4,4,8,598.68095966841986,"Oblique"]
[null,null,8,3,7,599.09903795291871,"Oblique"]
[null,null,6,6,7,600.72949899857031,"Oblique"]
[null,null,5,3,8,600.80009297790377,"Oblique"]
[null,null,7,5,7,602.38565714314041,"Oblique"]
[null,null,3,5,8,602.62591785824202,"Oblique"]
[null,null,6,1,8,604.2490063346653,"Oblique"]
[null,null,5,9,6,604.6792951130509,"Oblique"]
[null,null,5,7,7,605.11515239673145,"Oblique"]
[null,null,3,8,7,605.36987659356384,"Oblique"]
[null,null,9,9,4,608.21205240492156,"Oblique"]
[null,null,1,6,8,608.21323187426253,"Oblique"]
[null,null,6,2,8,608.9200092235119,"Oblique"]
[null,null,8,4,7,610.03442079461342,"Oblique"]
[null,null,8,7,6,611.14941066645872,"Oblique"]
[null,null,9,1,7,611.21619107387983,"Oblique"]
[null,null,5,4,8,611.70506700563169,"Oblique"]
[null,null,2,6,8,612.5178103020545,"Oblique"]
[null,null,4,5,8,612.71448440402821,"Oblique"]
[null,null,7,8,6,612.83237470631093,"Oblique"]
[null,null,9,6,6,615.40608583722155,"Oblique"]
[null,null,4,8,7,615.41346265003995,"Oblique"]
[null,null,9,2,7,615.83435127247731,"Oblique"]
[null,null,9,8,5,616.45930961093973,"Oblique"]
[null,null,6,3,8,616.62638952608961,"Oblique"]
[null,null,8,9,5,618.34994410951617,"Oblique"]
[null,null,1,1,9,619.30978924951444,"Oblique"]
[null,null,7,6,7,619.39199099734469,"Oblique"]
[null,null,3,6,8,619.62565751780357,"Oblique"]
[null,null,1,9,7,620.13825715885014,"Oblique"]
[null,null,6,9,6,620.40664283688898,"Oblique"]
[null,null,6,7,7,620.83145876948151,"Oblique"]
[null,null,7,1,8,622.80604460860206,"Oblique"]
[null,null,9,3,7,623.45527091717804,"Oblique"]
[null,null,2,1,9,623.53776755748015,"Oblique"]
[null,null,8,5,7,623.81258602501237,"Oblique"]
[null,null,1,2,9,623.86803976210342,"Oblique"]
[null,null,2,9,7,624.36062536190116,"Oblique"]
[null,null,5,5,8,625.44643010361676,"Oblique"]
[null,null,6,4,8,{"$f":"$B$5*SQRT((($C579/$B$2)^2)+(($D579/$B$3)^2)+(($E579/$B$4)^2))","v":627.25628058879352},{"$f":"+IF(+AND(C579=0,D579=0)+OR(+AND(C579=0,E579=0))+OR(+AND(D579=0,E579=0)),\"Axial\",(+IF(+OR(C579=0,D579=0,E579=0),\"Tangential\",\"Oblique\")))","v":"Oblique"}]
[null,null,7,2,8,627.33889180995573,"Oblique"]
[null,null,2,2,9,628.06533382037378,"Oblique"]
[null,null,1,7,8,628.07571570448795,"Oblique"]
[null,null,5,8,7,628.09070009177515,"Oblique"]
[null,null,4,6,8,629.44181460908362,"Oblique"]
[null,null,3,1,9,630.52139938919822,"Oblique"]
[null,null,3,9,7,631.3351550638148,"Oblique"]
[null,null,1,3,9,631.39199999986408,"Oblique"]
[null,null,2,7,8,632.24507682384751,"Oblique"]
[null,null,8,8,6,633.90628805811411,"Oblique"]
[null,null,9,4,7,633.97067133465919,"Oblique"]
[null,null,7,3,8,634.82171655084574,"Oblique"]
[null,null,3,2,9,634.99917406563941,"Oblique"]
[null,null,9,7,6,635.04363607256062,"Oblique"]
[null,null,2,3,9,635.5396055118174,"Oblique"]
[null,null,7,9,6,638.49425214383939,"Oblique"]
[null,null,7,7,7,638.90704155019603,"Oblique"]
[null,null,3,7,8,639.13357342979532,"Oblique"]
[null,null,4,1,9,640.17050667124488,"Oblique"]
[null,null,8,6,7,640.25003011565343,"Oblique"]
[null,null,6,5,8,640.66417838605685,"Oblique"]
[null,null,4,9,7,640.97201229340465,"Oblique"]
[null,null,1,4,9,641.77737179019857,"Oblique"]
[null,null,5,6,8,641.84203314307808,"Oblique"]
[null,null,9,9,5,641.9762230320847,"Oblique"]
[null,null,3,3,9,642.39277524833915,"Oblique"]
[null,null,6,8,7,643.24589394686325,"Oblique"]
[null,null,8,1,8,643.55344125600982,"Oblique"]
[null,null,4,2,9,644.58125444977816,"Oblique"]
[null,null,7,4,8,645.15188063173844,"Oblique"]
[null,null,2,4,9,645.85828743790455,"Oblique"]
[null,null,9,5,7,647.23949202865595,"Oblique"]
[null,null,8,2,8,647.9411606996299,"Oblique"]
[null,null,4,7,8,648.65458235423364,"Oblique"]
[null,null,1,8,8,650.24048208286877,"Oblique"]
[null,null,4,3,9,651.8661827516969,"Oblique"]
[null,null,5,1,9,652.36682559935753,"Oblique"]
[null,null,3,4,9,652.60310677269206,"Oblique"]
[null,null,5,9,7,653.15336489550498,"Oblique"]
[null,null,2,8,8,654.26861230663496,"Oblique"]
[null,null,1,5,9,654.88803842407208,"Oblique"]
[null,null,8,3,8,655.18873185976167,"Oblique"]
[null,null,6,6,8,656.67994338715948,"Oblique"]
[null,null,5,2,9,656.69566095636253,"Oblique"]
[null,null,9,8,6,656.97336292875355,"Oblique"]
[null,null,7,5,8,658.19533347758011,"Oblique"]
[null,null,8,9,6,658.74773060114671,"Oblique"]
[null,null,2,5,9,658.88775628419216,"Oblique"]
[null,null,8,7,7,659.14783644783688,"Oblique"]
[null,null,5,7,8,660.69430506097842,"Oblique"]
[null,null,7,8,7,660.70854968289984,"Oblique"]
[null,null,3,8,8,660.92760917274177,"Oblique"]
[null,null,4,4,9,661.93040230327472,"Oblique"]
[null,null,9,6,7,663.09646253120229,"Oblique"]
[null,null,5,3,9,663.84766155054945,"Oblique"]
[null,null,8,4,8,665.20268462635443,"Oblique"]
[null,null,3,5,9,665.50053561087668,"Oblique"]
[null,null,9,1,8,666.28661198522627,"Oblique"]
[null,null,6,1,9,666.97063479609471,"Oblique"]
[null,null,6,9,7,667.7399723036234,"Oblique"]
[null,null,4,8,8,670.13905056398698,"Oblique"]
[null,null,9,2,8,670.52558883839981,"Oblique"]
[null,null,1,6,9,670.56416654247982,"Oblique"]
[null,null,6,2,9,{"$f":"$B$5*SQRT((($C643/$B$2)^2)+(($D643/$B$3)^2)+(($E643/$B$4)^2))","v":671.20529173765965},{"$f":"+IF(+AND(C643=0,D643=0)+OR(+AND(C643=0,E643=0))+OR(+AND(D643=0,E643=0)),\"Axial\",(+IF(+OR(C643=0,D643=0,E643=0),\"Tangential\",\"Oblique\")))","v":"Oblique"}]
[null,null,5,4,9,673.73292559013271,"Oblique"]
[null,null,7,6,8,673.79452030388666,"Oblique"]
[null,null,2,6,9,674.47092892214312,"Oblique"]
[null,null,1,9,8,674.48059651253573,"Oblique"]
[null,null,4,5,9,674.64954266816881,"Oblique"]
[null,null,6,7,8,675.11800248381189,"Oblique"]
[null,null,9,3,8,677.5316169111976,"Oblique"]
[null,null,8,5,8,677.8604277896028,"Oblique"]
[null,null,6,3,9,678.20429833779133,"Oblique"]
[null,null,2,9,8,678.36480420360397,"Oblique"]
[null,null,8,8,7,680.30099968728632,"Oblique"]
[null,null,3,6,9,680.93239126821197,"Oblique"]
[null,null,9,9,6,680.97385421942602,"Oblique"]
[null,null,9,7,7,681.36090866160157,"Oblique"]
[null,null,5,8,8,681.79949004209891,"Oblique"]
[null,null,7,1,9,683.82770872851233,"Oblique"]
[null,null,7,9,7,684.57810230581083,"Oblique"]
[null,null,3,9,8,684.78952613145361,"Oblique"]
[null,null,5,5,9,686.23334439040002,"Oblique"]
[null,null,9,4,8,687.22007333343242,"Oblique"]
[null,null,6,4,9,687.88328047857237,"Oblique"]
[null,null,7,2,9,687.95861154666738,"Oblique"]
[null,null,1,7,9,688.63057634814606,"Oblique"]
[null,null,4,6,9,689.87677450560034,"Oblique"]
[null,null,7,7,8,691.77657146098397,"Oblique"]
[null,null,2,7,9,692.43541445528911,"Oblique"]
[null,null,8,6,8,693.01711244599505,"Oblique"]
[null,null,4,9,8,693.6841771464492,"Oblique"]
[null,null,7,3,9,694.78887284443283,"Oblique"]
[null,null,6,8,8,695.78581270344182,"Oblique"]
[null,null,3,7,9,698.73077126244743,"Oblique"]
[null,null,9,5,8,699.47950443269053,"Oblique"]
[null,null,6,5,9,700.13109878861712,"Oblique"]
[null,null,5,6,9,701.20907119996332,"Oblique"]
[null,null,9,8,7,701.84490290506506,"Oblique"]
[null,null,8,1,9,702.77592287750394,"Oblique"]
[null,null,8,9,7,703.5061056650934,"Oblique"]
[null,null,7,4,9,704.23995563056769,"Oblique"]
[null,null,5,9,8,704.95527174013705,"Oblique"]
[null,null,8,2,9,706.79609064613453,"Oblique"]
[null,null,4,7,9,707.45016307371088,"Oblique"]
[null,null,1,8,9,708.90454263126048,"Oblique"]
[null,null,8,7,8,710.5128340668831,"Oblique"]
[null,null,7,8,8,711.96095728907108,"Oblique"]
[null,null,2,8,9,712.60113883821759,"Oblique"]
[null,null,8,3,9,713.4460318621708,"Oblique"]
[null,null,9,6,8,714.17752394015031,"Oblique"]
[null,null,6,6,9,714.81572035793806,"Oblique"]
[null,null,7,5,9,716.20811433237611,"Oblique"]
[null,null,6,9,8,718.49097954806189,"Oblique"]
[null,null,5,7,9,718.50534497934268,"Oblique"]
[null,null,3,8,9,718.71988325819359,"Oblique"]
[null,null,8,4,9,722.6531516972608,"Oblique"]
[null,null,9,1,9,723.65103146103957,"Oblique"]
[null,null,9,9,7,724.36017164554585,"Oblique"]
[null,null,4,8,9,727.19963773002314,"Oblique"]
[null,null,9,2,9,727.55586129929429,"Oblique"]
[null,null,8,8,8,730.17947605736697,"Oblique"]
[null,null,7,6,9,730.56965555340423,"Oblique"]
[null,null,9,7,8,731.16708414154778,"Oblique"]
[null,null,1,9,9,731.20246245194016,"Oblique"]
[null,null,6,7,9,731.79046406851137,"Oblique"]
[null,null,9,3,9,734.01775042445445,"Oblique"]
[null,null,7,9,8,{"$f":"$B$5*SQRT((($C707/$B$2)^2)+(($D707/$B$3)^2)+(($E707/$B$4)^2))","v":734.16605426600529},{"$f":"+IF(+AND(C707=0,D707=0)+OR(+AND(C707=0,E707=0))+OR(+AND(D707=0,E707=0)),\"Axial\",(+IF(+OR(C707=0,D707=0,E707=0),\"Tangential\",\"Oblique\")))","v":"Oblique"}]
[null,null,8,5,9,734.32126864675399,"Oblique"]
[null,null,2,9,9,734.78688992528237,"Oblique"]
[null,null,5,8,9,737.95901691458528,"Oblique"]
[null,null,3,9,9,740.72239140126976,"Oblique"]
[null,null,9,4,9,742.96998271550865,"Oblique"]
[null,null,7,7,9,747.18658368990327,"Oblique"]
[null,null,8,6,9,748.33527523888654,"Oblique"]
[null,null,4,9,9,748.95307172560649,"Oblique"]
[null,null,9,8,8,750.29253282550405,"Oblique"]
[null,null,6,8,9,750.90003541301292,"Oblique"]
[null,null,8,9,8,751.84669832882503,"Oblique"]
[null,null,9,5,9,754.32389803404567,"Oblique"]
[null,null,5,9,9,759.40430679453323,"Oblique"]
[null,null,8,7,9,764.56618640744841,"Oblique"]
[null,null,7,8,9,765.91211684360087,"Oblique"]
[null,null,9,6,9,767.97298241875603,"Oblique"]
[null,null,9,9,8,771.39501900534367,"Oblique"]
[null,null,6,9,9,771.98591549056664,"Oblique"]
[null,null,8,8,9,782.87612894971187,"Oblique"]
[null,null,9,7,9,783.79734048791477,"Oblique"]
[null,null,7,9,9,786.59567838908822,"Oblique"]
[null,null,9,8,9,801.66816753416435,"Oblique"]
[null,null,8,9,9,803.12291949105168,"Oblique"]
[null,null,9,9,9,821.4519105645378,"Oblique"]

{"sheet":"Bonello","index":5,"n_rows":1000,"n_cols":28,"rows_kept":1000,"cut":false,"hidden":false,"merged":[[40,15,42,18]]}
["f",16,20,25,31.5,40,50,63,80,100,125,160,200,250,null,16,20,25,31.5,40,50,63,80,100,125,160,200,250]
[{"$f":"'Mode Strength'!A2","v":41.794814814814814},{"$f":"IF((AND($A2>=14.1,$A2<17.8)),1,0)","v":0},{"$f":"IF((AND($A2>=17.8,$A2<22.4)),1,0)","v":0},{"$f":"IF((AND($A2>=22.4,$A2<28.2)),1,0)","v":0},{"$f":"IF((AND($A2>=28.2,$A2<35.5)),1,0)","v":0},{"$f":"IF((AND($A2>=35.5,$A2<44.7)),1,0)","v":1},{"$f":"IF((AND($A2>=44.7,$A2<56.2)),1,0)","v":0},{"$f":"IF((AND($A2>=56.2,$A2<70.8)),1,0)","v":0},{"$f":"IF((AND($A2>=70.8,$A2<89.1)),1,0)","v":0},{"$f":"IF((AND($A2>=89.1,$A2<112)),1,0)","v":0},{"$f":"IF((AND($A2>=112,$A2<141)),1,0)","v":0},{"$f":"IF((AND($A2>=141,$A2<178)),1,0)","v":0},{"$f":"IF((AND($A2>=178,$A2<224)),1,0)","v":0},{"$f":"IF((AND($A2>=224,$A2<282)),1,0)","v":0},"Actual",{"$f":"SUM(B2:B1000)","v":0},0,0,0,2,0,2,4,5,9,18,35,63]
[{"$f":"'Mode Strength'!A3","v":43.402307692307694},{"$f":"IF((AND($A3>=14.1,$A3<17.8)),1,0)","v":0},{"$f":"IF((AND($A3>=17.8,$A3<22.4)),1,0)","v":0},{"$f":"IF((AND($A3>=22.4,$A3<28.2)),1,0)","v":0},{"$f":"IF((AND($A3>=28.2,$A3<35.5)),1,0)","v":0},{"$f":"IF((AND($A3>=35.5,$A3<44.7)),1,0)","v":1},{"$f":"IF((AND($A3>=44.7,$A3<56.2)),1,0)","v":0},{"$f":"IF((AND($A3>=56.2,$A3<70.8)),1,0)","v":0},{"$f":"IF((AND($A3>=70.8,$A3<89.1)),1,0)","v":0},{"$f":"IF((AND($A3>=89.1,$A3<112)),1,0)","v":0},{"$f":"IF((AND($A3>=112,$A3<141)),1,0)","v":0},{"$f":"IF((AND($A3>=141,$A3<178)),1,0)","v":0},{"$f":"IF((AND($A3>=178,$A3<224)),1,0)","v":0},{"$f":"IF((AND($A3>=224,$A3<282)),1,0)","v":0},"Ideal",null,{"$f":"P2","v":0},{"$f":"IF(Q2>=Q3,Q2,Q3)","v":0},{"$f":"IF(R2>=R3,R2,R3)","v":0},0,2,2,2,4,5,9,18,35]
[{"$f":"'Mode Strength'!A4","v":60.254185401699814},0,0,0,0,0,0,1,0,0,0,0,0,0]
[{"$f":"'Mode Strength'!A5","v":68.391515151515151},0,0,0,0,0,0,1,0,0,0,0,0,0]
[{"$f":"'Mode Strength'!A6","v":80.151144035032914},0,0,0,0,0,0,0,1,0,0,0,0,0]
[{"$f":"'Mode Strength'!A7","v":81.000985535595049},0,0,0,0,0,0,0,1,0,0,0,0,0]
[{"$f":"'Mode Strength'!A8","v":83.589629629629627},0,0,0,0,0,0,0,1,0,0,0,0,0]
[{"$f":"'Mode Strength'!A9","v":86.804615384615389},0,0,0,0,0,0,0,1,0,0,0,0,0]
[{"$f":"'Mode Strength'!A10","v":91.148045525630138},0,0,0,0,0,0,0,0,1,0,0,0,0]
[{"$f":"'Mode Strength'!A11","v":94.185914523544369},0,0,0,0,0,0,0,0,1,0,0,0,0]
[{"$f":"'Mode Strength'!A12","v":96.342346854722578},0,0,0,0,0,0,0,0,1,0,0,0,0]
[{"$f":"'Mode Strength'!A13","v":108.00289591644561},0,0,0,0,0,0,0,0,1,0,0,0,0]
[{"$f":"'Mode Strength'!A14","v":110.50991175813567},0,0,0,0,0,0,0,0,1,0,0,0,0]
[{"$f":"'Mode Strength'!A15","v":116.39753364808179},0,0,0,0,0,0,0,0,0,1,0,0,0]
[{"$f":"'Mode Strength'!A16","v":118.14925789947053},0,0,0,0,0,0,0,0,0,1,0,0,0]
[{"$f":"'Mode Strength'!A17","v":120.50837080339963},0,0,0,0,0,0,0,0,0,1,0,0,0]
[{"$f":"'Mode Strength'!A18","v":125.38444444444444},0,0,0,0,0,0,0,0,0,1,0,0,0]
[{"$f":"'Mode Strength'!A19","v":130.20692307692309},0,0,0,0,0,0,0,0,0,1,0,0,0]
[{"$f":"'Mode Strength'!A20","v":132.6839071691052},0,0,0,0,0,0,0,0,0,1,0,0,0]
[{"$f":"'Mode Strength'!A21","v":136.75031759584485},0,0,0,0,0,0,0,0,0,1,0,0,0]
[{"$f":"'Mode Strength'!A22","v":136.7830303030303},0,0,0,0,0,0,0,0,0,1,0,0,0]
[{"$f":"'Mode Strength'!A23","v":138.56286219044983},0,0,0,0,0,0,0,0,0,1,0,0,0]
[{"$f":"'Mode Strength'!A24","v":142.8238714408831},0,0,0,0,0,0,0,0,0,0,1,0,0]
[{"$f":"'Mode Strength'!A25","v":143.02588550428334},0,0,0,0,0,0,0,0,0,0,1,0,0]
[{"$f":"'Mode Strength'!A26","v":143.50385950174811},0,0,0,0,0,0,0,0,0,0,1,0,0]
[{"$f":"'Mode Strength'!A27","v":147.07563415426668},0,0,0,0,0,0,0,0,0,0,1,0,0]
[{"$f":"'Mode Strength'!A28","v":149.27296662952622},0,0,0,0,0,0,0,0,0,0,1,0,0]
[{"$f":"'Mode Strength'!A29","v":149.46626454589051},0,0,0,0,0,0,0,0,0,0,1,0,0]
[{"$f":"'Mode Strength'!A30","v":152.50016446126537},0,0,0,0,0,0,0,0,0,0,1,0,0]
[{"$f":"'Mode Strength'!A31","v":152.89881852808529},0,0,0,0,0,0,0,0,0,0,1,0,0]
[{"$f":"'Mode Strength'!A32","v":154.729017959717},0,0,0,0,0,0,0,0,0,0,1,0,0]
[{"$f":"'Mode Strength'!A33","v":160.30228807006583},0,0,0,0,0,0,0,0,0,0,1,0,0]
[{"$f":"'Mode Strength'!A34","v":162.0019710711901},0,0,0,0,0,0,0,0,0,0,1,0,0]
[{"$f":"'Mode Strength'!A35","v":166.07403130386191},0,0,0,0,0,0,0,0,0,0,1,0,0]
[{"$f":"'Mode Strength'!A36","v":167.13377727267735},0,0,0,0,0,0,0,0,0,0,1,0,0]
[{"$f":"'Mode Strength'!A37","v":167.17925925925925},0,0,0,0,0,0,0,0,0,0,1,0,0]
[{"$f":"'Mode Strength'!A38","v":167.30644092907892},0,0,0,0,0,0,0,0,0,0,1,0,0]
[{"$f":"'Mode Strength'!A39","v":169.16993924305331},0,0,0,0,0,0,0,0,0,0,1,0,0]
[{"$f":"'Mode Strength'!A40","v":172.72135085012616},0,0,0,0,0,0,0,0,0,0,1,0,0]
[{"$f":"'Mode Strength'!A41","v":173.60923076923078},0,0,0,0,0,0,0,0,0,0,1,0,0,null,"If you found this spreadsheet helpful, please send a donation via PayPal to https://www.paypal.me/JHBrandt/"]
[{"$f":"'Mode Strength'!A42","v":178.56923462256506},0,0,0,0,0,0,0,0,0,0,0,1,0]
[{"$f":"'Mode Strength'!A43","v":180.62752855308227},0,0,0,0,0,0,0,0,0,0,0,1,0]
[{"$f":"'Mode Strength'!A44","v":180.76255620509946},0,0,0,0,0,0,0,0,0,0,0,1,0]
[{"$f":"'Mode Strength'!A45","v":182.29609105126028},0,0,0,0,0,0,0,0,0,0,0,1,0]
[{"$f":"'Mode Strength'!A46","v":185.55553424115834},0,0,0,0,0,0,0,0,0,0,0,1,0]
[{"$f":"'Mode Strength'!A47","v":185.76884664607331},0,0,0,0,0,0,0,0,0,0,0,1,0]
[{"$f":"'Mode Strength'!A48","v":186.59465253056948},0,0,0,0,0,0,0,0,0,0,0,1,0]
[{"$f":"'Mode Strength'!A49","v":188.37182904708874},0,0,0,0,0,0,0,0,0,0,0,1,0]
[{"$f":"'Mode Strength'!A50","v":188.84766399412908},0,0,0,0,0,0,0,0,0,0,0,1,0]
[{"$f":"'Mode Strength'!A51","v":190.5639436004079},0,0,0,0,0,0,0,0,0,0,0,1,0]
[{"$f":"'Mode Strength'!A52","v":191.21812387534979},0,0,0,0,0,0,0,0,0,0,0,1,0]
[{"$f":"'Mode Strength'!A53","v":192.68469370944516},0,0,0,0,0,0,0,0,0,0,0,1,0]
[{"$f":"'Mode Strength'!A54","v":193.26795148322361},0,0,0,0,0,0,0,0,0,0,0,1,0]
[{"$f":"'Mode Strength'!A55","v":193.41728656313049},0,0,0,0,0,0,0,0,0,0,0,1,0]
[{"$f":"'Mode Strength'!A56","v":200.40295737155566},0,0,0,0,0,0,0,0,0,0,0,1,0]
[{"$f":"'Mode Strength'!A57","v":204.46219830233318},0,0,0,0,0,0,0,0,0,0,0,1,0]
[{"$f":"'Mode Strength'!A58","v":204.85579693919499},0,0,0,0,0,0,0,0,0,0,0,1,0]
[{"$f":"'Mode Strength'!A59","v":205.17454545454547},0,0,0,0,0,0,0,0,0,0,0,1,0]
[{"$f":"'Mode Strength'!A60","v":206.52037763295448},0,0,0,0,0,0,0,0,0,0,0,1,0]
[{"$f":"'Mode Strength'!A61","v":208.97407407407408},0,0,0,0,0,0,0,0,0,0,0,1,0]
[{"$f":"'Mode Strength'!A62","v":209.38815785016118},0,0,0,0,0,0,0,0,0,0,0,1,0]
[{"$f":"'Mode Strength'!A63","v":209.71493608109341},0,0,0,0,0,0,0,0,0,0,0,1,0]
[{"$f":"'Mode Strength'!A64","v":211.90268413503966},0,0,0,0,0,0,0,0,0,0,0,1,0]
[{"$f":"'Mode Strength'!A65","v":213.433652332837},0,0,0,0,0,0,0,0,0,0,0,1,0]
[{"$f":"'Mode Strength'!A66","v":213.83910063620672},0,0,0,0,0,0,0,0,0,0,0,1,0]
[{"$f":"'Mode Strength'!A67","v":214.15280506434186},{"$f":"IF((AND($A67>=14.1,$A67<17.8)),1,0)","v":0},{"$f":"IF((AND($A67>=17.8,$A67<22.4)),1,0)","v":0},{"$f":"IF((AND($A67>=22.4,$A67<28.2)),1,0)","v":0},{"$f":"IF((AND($A67>=28.2,$A67<35.5)),1,0)","v":0},{"$f":"IF((AND($A67>=35.5,$A67<44.7)),1,0)","v":0},{"$f":"IF((AND($A67>=44.7,$A67<56.2)),1,0)","v":0},{"$f":"IF((AND($A67>=56.2,$A67<70.8)),1,0)","v":0},{"$f":"IF((AND($A67>=70.8,$A67<89.1)),1,0)","v":0},{"$f":"IF((AND($A67>=89.1,$A67<112)),1,0)","v":0},{"$f":"IF((AND($A67>=112,$A67<141)),1,0)","v":0},{"$f":"IF((AND($A67>=141,$A67<178)),1,0)","v":0},{"$f":"IF((AND($A67>=178,$A67<224)),1,0)","v":1},{"$f":"IF((AND($A67>=224,$A67<282)),1,0)","v":0}]
[{"$f":"'Mode Strength'!A68","v":216.00579183289122},0,0,0,0,0,0,0,0,0,0,0,1,0]
[{"$f":"'Mode Strength'!A69","v":217.01153846153849},0,0,0,0,0,0,0,0,0,0,0,1,0]
[{"$f":"'Mode Strength'!A70","v":219.88079265783202},0,0,0,0,0,0,0,0,0,0,0,1,0]
[{"$f":"'Mode Strength'!A71","v":220.32308643982836},0,0,0,0,0,0,0,0,0,0,0,1,0]
[{"$f":"'Mode Strength'!A72","v":220.99958002414496},0,0,0,0,0,0,0,0,0,0,0,1,0]
[{"$f":"'Mode Strength'!A73","v":221.01982351627134},0,0,0,0,0,0,0,0,0,0,0,1,0]
[{"$f":"'Mode Strength'!A74","v":221.54868603559353},0,0,0,0,0,0,0,0,0,0,0,1,0]
[{"$f":"'Mode Strength'!A75","v":222.66599850079112},0,0,0,0,0,0,0,0,0,0,0,1,0]
[{"$f":"'Mode Strength'!A76","v":222.78158665955846},0,0,0,0,0,0,0,0,0,0,0,1,0]
[{"$f":"'Mode Strength'!A77","v":224.1234554723228},0,0,0,0,0,0,0,0,0,0,0,0,1]
[{"$f":"'Mode Strength'!A78","v":224.80841457037576},0,0,0,0,0,0,0,0,0,0,0,0,1]
[{"$f":"'Mode Strength'!A79","v":224.93681097714619},0,0,0,0,0,0,0,0,0,0,0,0,1]
[{"$f":"'Mode Strength'!A80","v":225.760006637836},0,0,0,0,0,0,0,0,0,0,0,0,1]
[{"$f":"'Mode Strength'!A81","v":226.28567097186601},0,0,0,0,0,0,0,0,0,0,0,0,1]
[{"$f":"'Mode Strength'!A82","v":226.66813163732351},0,0,0,0,0,0,0,0,0,0,0,0,1]
[{"$f":"'Mode Strength'!A83","v":226.6819337853845},0,0,0,0,0,0,0,0,0,0,0,0,1]
[{"$f":"'Mode Strength'!A84","v":227.53331002331004},0,0,0,0,0,0,0,0,0,0,0,0,1]
[{"$f":"'Mode Strength'!A85","v":231.34003915355504},0,0,0,0,0,0,0,0,0,0,0,0,1]
[{"$f":"'Mode Strength'!A86","v":232.55372284068568},0,0,0,0,0,0,0,0,0,0,0,0,1]
[{"$f":"'Mode Strength'!A87","v":232.79506729616358},0,0,0,0,0,0,0,0,0,0,0,0,1]
[{"$f":"'Mode Strength'!A88","v":236.29851579894105},0,0,0,0,0,0,0,0,0,0,0,0,1]
[{"$f":"'Mode Strength'!A89","v":236.39501735846196},0,0,0,0,0,0,0,0,0,0,0,0,1]
[{"$f":"'Mode Strength'!A90","v":237.94718224044806},0,0,0,0,0,0,0,0,0,0,0,0,1]
[{"$f":"'Mode Strength'!A91","v":240.4534321050987},0,0,0,0,0,0,0,0,0,0,0,0,1]
[{"$f":"'Mode Strength'!A92","v":241.01674160679926},0,0,0,0,0,0,0,0,0,0,0,0,1]
[{"$f":"'Mode Strength'!A93","v":242.40180146150396},0,0,0,0,0,0,0,0,0,0,0,0,1]
[{"$f":"'Mode Strength'!A94","v":243.00295660678515},0,0,0,0,0,0,0,0,0,0,0,0,1]
[{"$f":"'Mode Strength'!A95","v":244.33913588317995},0,0,0,0,0,0,0,0,0,0,0,0,1]
[{"$f":"'Mode Strength'!A96","v":246.21942744689414},0,0,0,0,0,0,0,0,0,0,0,0,1]
[{"$f":"'Mode Strength'!A97","v":246.57097044267755},0,0,0,0,0,0,0,0,0,0,0,0,1]
[{"$f":"'Mode Strength'!A98","v":249.75940625729453},0,0,0,0,0,0,0,0,0,0,0,0,1]
[{"$f":"'Mode Strength'!A99","v":250.53237132051134},0,0,0,0,0,0,0,0,0,0,0,0,1]
[{"$f":"'Mode Strength'!A100","v":250.62974032242414},0,0,0,0,0,0,0,0,0,0,0,0,1]
[{"$f":"'Mode Strength'!A101","v":250.76888888888888},0,0,0,0,0,0,0,0,0,0,0,0,1]
[{"$f":"'Mode Strength'!A102","v":252.21487847173904},0,0,0,0,0,0,0,0,0,0,0,0,1]
[{"$f":"'Mode Strength'!A103","v":253.50250753594935},0,0,0,0,0,0,0,0,0,0,0,0,1]
[{"$f":"'Mode Strength'!A104","v":254.10828655477906},0,0,0,0,0,0,0,0,0,0,0,0,1]
[{"$f":"'Mode Strength'!A105","v":254.49714329945957},0,0,0,0,0,0,0,0,0,0,0,0,1]
[{"$f":"'Mode Strength'!A106","v":255.54139742318912},0,0,0,0,0,0,0,0,0,0,0,0,1]
[{"$f":"'Mode Strength'!A107","v":255.64212145730664},0,0,0,0,0,0,0,0,0,0,0,0,1]
[{"$f":"'Mode Strength'!A108","v":256.52213394622208},0,0,0,0,0,0,0,0,0,0,0,0,1]
[{"$f":"'Mode Strength'!A109","v":256.9779428302316},0,0,0,0,0,0,0,0,0,0,0,0,1]
[{"$f":"'Mode Strength'!A110","v":259.79350661401389},0,0,0,0,0,0,0,0,0,0,0,0,1]
[{"$f":"'Mode Strength'!A111","v":259.9046204855315},0,0,0,0,0,0,0,0,0,0,0,0,1]
[{"$f":"'Mode Strength'!A112","v":259.92774953684307},0,0,0,0,0,0,0,0,0,0,0,0,1]
[{"$f":"'Mode Strength'!A113","v":260.41384615384618},0,0,0,0,0,0,0,0,0,0,0,0,1]
[{"$f":"'Mode Strength'!A114","v":263.52646032667303},0,0,0,0,0,0,0,0,0,0,0,0,1]
[{"$f":"'Mode Strength'!A115","v":263.74642711142786},0,0,0,0,0,0,0,0,0,0,0,0,1]
[{"$f":"'Mode Strength'!A116","v":264.41407350227655},0,0,0,0,0,0,0,0,0,0,0,0,1]
[{"$f":"'Mode Strength'!A117","v":264.66110184338379},0,0,0,0,0,0,0,0,0,0,0,0,1]
[{"$f":"'Mode Strength'!A118","v":265.36781433821039},0,0,0,0,0,0,0,0,0,0,0,0,1]
[{"$f":"'Mode Strength'!A119","v":268.19630709980277},0,0,0,0,0,0,0,0,0,0,0,0,1]
[{"$f":"'Mode Strength'!A120","v":268.76896976913719},0,0,0,0,0,0,0,0,0,0,0,0,1]
[{"$f":"'Mode Strength'!A121","v":269.24481538807572},0,0,0,0,0,0,0,0,0,0,0,0,1]
[{"$f":"'Mode Strength'!A122","v":269.7977601573856},0,0,0,0,0,0,0,0,0,0,0,0,1]
[{"$f":"'Mode Strength'!A123","v":271.6805636099142},0,0,0,0,0,0,0,0,0,0,0,0,1]
[{"$f":"'Mode Strength'!A124","v":271.99920157266644},0,0,0,0,0,0,0,0,0,0,0,0,1]
[{"$f":"'Mode Strength'!A125","v":272.46940591333123},0,0,0,0,0,0,0,0,0,0,0,0,1]
[{"$f":"'Mode Strength'!A126","v":273.4441365768904},0,0,0,0,0,0,0,0,0,0,0,0,1]
[{"$f":"'Mode Strength'!A127","v":273.5006351916897},0,0,0,0,0,0,0,0,0,0,0,0,1]
[{"$f":"'Mode Strength'!A128","v":273.5660606060606},0,0,0,0,0,0,0,0,0,0,0,0,1]
[{"$f":"'Mode Strength'!A129","v":273.93961479114046},0,0,0,0,0,0,0,0,0,0,0,0,1]
[{"$f":"'Mode Strength'!A130","v":274.03918740092416},0,0,0,0,0,0,0,0,0,0,0,0,1]
[{"$f":"'Mode Strength'!A131","v":276.74030436660922},{"$f":"IF((AND($A131>=14.1,$A131<17.8)),1,0)","v":0},{"$f":"IF((AND($A131>=17.8,$A131<22.4)),1,0)","v":0},{"$f":"IF((AND($A131>=22.4,$A131<28.2)),1,0)","v":0},{"$f":"IF((AND($A131>=28.2,$A131<35.5)),1,0)","v":0},{"$f":"IF((AND($A131>=35.5,$A131<44.7)),1,0)","v":0},{"$f":"IF((AND($A131>=44.7,$A131<56.2)),1,0)","v":0},{"$f":"IF((AND($A131>=56.2,$A131<70.8)),1,0)","v":0},{"$f":"IF((AND($A131>=70.8,$A131<89.1)),1,0)","v":0},{"$f":"IF((AND($A131>=89.1,$A131<112)),1,0)","v":0},{"$f":"IF((AND($A131>=112,$A131<141)),1,0)","v":0},{"$f":"IF((AND($A131>=141,$A131<178)),1,0)","v":0},{"$f":"IF((AND($A131>=178,$A131<224)),1,0)","v":0},{"$f":"IF((AND($A131>=224,$A131<282)),1,0)","v":1}]
[{"$f":"'Mode Strength'!A132","v":276.98763479357086},0,0,0,0,0,0,0,0,0,0,0,0,1]
[{"$f":"'Mode Strength'!A133","v":277.12572438089967},0,0,0,0,0,0,0,0,0,0,0,0,1]
[{"$f":"'Mode Strength'!A134","v":278.53283483464742},0,0,0,0,0,0,0,0,0,0,0,0,1]
[{"$f":"'Mode Strength'!A135","v":280.12310931792337},0,0,0,0,0,0,0,0,0,0,0,0,1]
[{"$f":"'Mode Strength'!A136","v":280.15661332212119},0,0,0,0,0,0,0,0,0,0,0,0,1]
[{"$f":"'Mode Strength'!A137","v":281.46755637618708},0,0,0,0,0,0,0,0,0,0,0,0,1]
[{"$f":"'Mode Strength'!A138","v":281.66221583868162},0,0,0,0,0,0,0,0,0,0,0,0,1]
[{"$f":"'Mode Strength'!A139","v":281.92196933722221},0,0,0,0,0,0,0,0,0,0,0,0,1]
[{"$f":"'Mode Strength'!A140","v":282.34785619274379},0,0,0,0,0,0,0,0,0,0,0,0,0]
[{"$f":"'Mode Strength'!A141","v":282.55774357063308},0,0,0,0,0,0,0,0,0,0,0,0,0]
[{"$f":"'Mode Strength'!A142","v":285.52559274601896},0,0,0,0,0,0,0,0,0,0,0,0,0]
[{"$f":"'Mode Strength'!A143","v":285.64774288176619},0,0,0,0,0,0,0,0,0,0,0,0,0]
[{"$f":"'Mode Strength'!A144","v":286.05177100856667},0,0,0,0,0,0,0,0,0,0,0,0,0]
[{"$f":"'Mode Strength'!A145","v":287.00771900349622},0,0,0,0,0,0,0,0,0,0,0,0,0]
[{"$f":"'Mode Strength'!A146","v":288.92627662859837},0,0,0,0,0,0,0,0,0,0,0,0,0]
[{"$f":"'Mode Strength'!A147","v":289.02704056416775},0,0,0,0,0,0,0,0,0,0,0,0,0]
[{"$f":"'Mode Strength'!A148","v":289.32572649205468},0,0,0,0,0,0,0,0,0,0,0,0,0]
[{"$f":"'Mode Strength'!A149","v":290.0348898201637},0,0,0,0,0,0,0,0,0,0,0,0,0]
[{"$f":"'Mode Strength'!A150","v":290.71683438777256},0,0,0,0,0,0,0,0,0,0,0,0,0]
[{"$f":"'Mode Strength'!A151","v":292.56370370370371},0,0,0,0,0,0,0,0,0,0,0,0,0]
[{"$f":"'Mode Strength'!A152","v":292.85962121398018},0,0,0,0,0,0,0,0,0,0,0,0,0]
[{"$f":"'Mode Strength'!A153","v":294.15126830853336},0,0,0,0,0,0,0,0,0,0,0,0,0]
[{"$f":"'Mode Strength'!A154","v":294.95650805858435},0,0,0,0,0,0,0,0,0,0,0,0,0]
[{"$f":"'Mode Strength'!A155","v":295.7655846068746},0,0,0,0,0,0,0,0,0,0,0,0,0]
[{"$f":"'Mode Strength'!A156","v":296.05830177621044},0,0,0,0,0,0,0,0,0,0,0,0,0]
[{"$f":"'Mode Strength'!A157","v":296.57717042855029},0,0,0,0,0,0,0,0,0,0,0,0,0]
[{"$f":"'Mode Strength'!A158","v":297.00846708806296},0,0,0,0,0,0,0,0,0,0,0,0,0]
[{"$f":"'Mode Strength'!A159","v":297.10566334710529},0,0,0,0,0,0,0,0,0,0,0,0,0]
[{"$f":"'Mode Strength'!A160","v":298.54593325905245},0,0,0,0,0,0,0,0,0,0,0,0,0]
[{"$f":"'Mode Strength'!A161","v":298.64795651054288},0,0,0,0,0,0,0,0,0,0,0,0,0]
[{"$f":"'Mode Strength'!A162","v":298.93252909178102},0,0,0,0,0,0,0,0,0,0,0,0,0]
[{"$f":"'Mode Strength'!A163","v":300.45119415563732},0,0,0,0,0,0,0,0,0,0,0,0,0]
[{"$f":"'Mode Strength'!A164","v":300.93130183508799},0,0,0,0,0,0,0,0,0,0,0,0,0]
[{"$f":"'Mode Strength'!A165","v":301.27092700849909},0,0,0,0,0,0,0,0,0,0,0,0,0]
[{"$f":"'Mode Strength'!A166","v":301.5583002892273},0,0,0,0,0,0,0,0,0,0,0,0,0]
[{"$f":"'Mode Strength'!A167","v":302.97232931850164},0,0,0,0,0,0,0,0,0,0,0,0,0]
[{"$f":"'Mode Strength'!A168","v":303.5698937354727},0,0,0,0,0,0,0,0,0,0,0,0,0]
[{"$f":"'Mode Strength'!A169","v":303.81615384615384},0,0,0,0,0,0,0,0,0,0,0,0,0]
[{"$f":"'Mode Strength'!A170","v":304.04507681786026},0,0,0,0,0,0,0,0,0,0,0,0,0]
[{"$f":"'Mode Strength'!A171","v":304.17088292977741},0,0,0,0,0,0,0,0,0,0,0,0,0]
[{"$f":"'Mode Strength'!A172","v":305.00032892253074},0,0,0,0,0,0,0,0,0,0,0,0,0]
[{"$f":"'Mode Strength'!A173","v":305.16972650788864},0,0,0,0,0,0,0,0,0,0,0,0,0]
[{"$f":"'Mode Strength'!A174","v":305.45343178570926},0,0,0,0,0,0,0,0,0,0,0,0,0]
[{"$f":"'Mode Strength'!A175","v":305.79763705617057},0,0,0,0,0,0,0,0,0,0,0,0,0]
[{"$f":"'Mode Strength'!A176","v":305.84152575816654},0,0,0,0,0,0,0,0,0,0,0,0,0]
[{"$f":"'Mode Strength'!A177","v":306.19031652029446},0,0,0,0,0,0,0,0,0,0,0,0,0]
[{"$f":"'Mode Strength'!A178","v":306.67745577931629},0,0,0,0,0,0,0,0,0,0,0,0,0]
[{"$f":"'Mode Strength'!A179","v":308.93619212594746},0,0,0,0,0,0,0,0,0,0,0,0,0]
[{"$f":"'Mode Strength'!A180","v":309.458035919434},0,0,0,0,0,0,0,0,0,0,0,0,0]
[{"$f":"'Mode Strength'!A181","v":310.12550380376945},0,0,0,0,0,0,0,0,0,0,0,0,0]
[{"$f":"'Mode Strength'!A182","v":311.41877702314252},0,0,0,0,0,0,0,0,0,0,0,0,0]
[{"$f":"'Mode Strength'!A183","v":312.57415118267841},0,0,0,0,0,0,0,0,0,0,0,0,0]
[{"$f":"'Mode Strength'!A184","v":312.73944637928145},0,0,0,0,0,0,0,0,0,0,0,0,0]
[{"$f":"'Mode Strength'!A185","v":313.20071787311059},0,0,0,0,0,0,0,0,0,0,0,0,0]
[{"$f":"'Mode Strength'!A186","v":313.92431544977103},0,0,0,0,0,0,0,0,0,0,0,0,0]
[{"$f":"'Mode Strength'!A187","v":314.21085472655847},0,0,0,0,0,0,0,0,0,0,0,0,0]
[{"$f":"'Mode Strength'!A188","v":314.29199562556039},0,0,0,0,0,0,0,0,0,0,0,0,0]
[{"$f":"'Mode Strength'!A189","v":315.10550855148256},0,0,0,0,0,0,0,0,0,0,0,0,0]
[{"$f":"'Mode Strength'!A190","v":316.52119018675199},0,0,0,0,0,0,0,0,0,0,0,0,0]
[{"$f":"'Mode Strength'!A191","v":316.92534663518734},0,0,0,0,0,0,0,0,0,0,0,0,0]
[{"$f":"'Mode Strength'!A192","v":319.7596402865139},0,0,0,0,0,0,0,0,0,0,0,0,0]
[{"$f":"'Mode Strength'!A193","v":320.23017275389321},0,0,0,0,0,0,0,0,0,0,0,0,0]
[{"$f":"'Mode Strength'!A194","v":320.50054688682781},0,0,0,0,0,0,0,0,0,0,0,0,0]
[{"$f":"'Mode Strength'!A195","v":320.60457614013166},{"$f":"IF((AND($A195>=14.1,$A195<17.8)),1,0)","v":0},{"$f":"IF((AND($A195>=17.8,$A195<22.4)),1,0)","v":0},{"$f":"IF((AND($A195>=22.4,$A195<28.2)),1,0)","v":0},{"$f":"IF((AND($A195>=28.2,$A195<35.5)),1,0)","v":0},{"$f":"IF((AND($A195>=35.5,$A195<44.7)),1,0)","v":0},{"$f":"IF((AND($A195>=44.7,$A195<56.2)),1,0)","v":0},{"$f":"IF((AND($A195>=56.2,$A195<70.8)),1,0)","v":0},{"$f":"IF((AND($A195>=70.8,$A195<89.1)),1,0)","v":0},{"$f":"IF((AND($A195>=89.1,$A195<112)),1,0)","v":0},{"$f":"IF((AND($A195>=112,$A195<141)),1,0)","v":0},{"$f":"IF((AND($A195>=141,$A195<178)),1,0)","v":0},{"$f":"IF((AND($A195>=178,$A195<224)),1,0)","v":0},{"$f":"IF((AND($A195>=224,$A195<282)),1,0)","v":0}]
[{"$f":"'Mode Strength'!A196","v":322.4420581503108},0,0,0,0,0,0,0,0,0,0,0,0,0]
[{"$f":"'Mode Strength'!A197","v":322.95993265993263},0,0,0,0,0,0,0,0,0,0,0,0,0]
[{"$f":"'Mode Strength'!A198","v":323.52906292172764},0,0,0,0,0,0,0,0,0,0,0,0,0]
[{"$f":"'Mode Strength'!A199","v":323.90100468594585},0,0,0,0,0,0,0,0,0,0,0,0,0]
[{"$f":"'Mode Strength'!A200","v":324.0039421423802},0,0,0,0,0,0,0,0,0,0,0,0,0]
[{"$f":"'Mode Strength'!A201","v":324.00868774933679},0,0,0,0,0,0,0,0,0,0,0,0,0]
[{"$f":"'Mode Strength'!A202","v":325.86328178658914},0,0,0,0,0,0,0,0,0,0,0,0,0]
[{"$f":"'Mode Strength'!A203","v":326.68847709891384},0,0,0,0,0,0,0,0,0,0,0,0,0]
[{"$f":"'Mode Strength'!A204","v":326.90272261035847},0,0,0,0,0,0,0,0,0,0,0,0,0]
[{"$f":"'Mode Strength'!A205","v":327.45192454268494},0,0,0,0,0,0,0,0,0,0,0,0,0]
[{"$f":"'Mode Strength'!A206","v":327.89249951976728},0,0,0,0,0,0,0,0,0,0,0,0,0]
[{"$f":"'Mode Strength'!A207","v":328.6723509005767},0,0,0,0,0,0,0,0,0,0,0,0,0]
[{"$f":"'Mode Strength'!A208","v":330.86820463658955},0,0,0,0,0,0,0,0,0,0,0,0,0]
[{"$f":"'Mode Strength'!A209","v":331.52973527440702},0,0,0,0,0,0,0,0,0,0,0,0,0]
[{"$f":"'Mode Strength'!A210","v":331.63088435791337},0,0,0,0,0,0,0,0,0,0,0,0,0]
[{"$f":"'Mode Strength'!A211","v":332.14806260772383},0,0,0,0,0,0,0,0,0,0,0,0,0]
[{"$f":"'Mode Strength'!A212","v":333.18741380302697},0,0,0,0,0,0,0,0,0,0,0,0,0]
[{"$f":"'Mode Strength'!A213","v":333.89449666587149},0,0,0,0,0,0,0,0,0,0,0,0,0]
[{"$f":"'Mode Strength'!A214","v":334.15381475680192},0,0,0,0,0,0,0,0,0,0,0,0,0]
[{"$f":"'Mode Strength'!A215","v":334.2675545453547},0,0,0,0,0,0,0,0,0,0,0,0,0]
[{"$f":"'Mode Strength'!A216","v":334.35851851851851},0,0,0,0,0,0,0,0,0,0,0,0,0]
[{"$f":"'Mode Strength'!A217","v":334.4221274912581},0,0,0,0,0,0,0,0,0,0,0,0,0]
[{"$f":"'Mode Strength'!A218","v":334.61288185815783},0,0,0,0,0,0,0,0,0,0,0,0,0]
[{"$f":"'Mode Strength'!A219","v":335.43504734764713},0,0,0,0,0,0,0,0,0,0,0,0,0]
[{"$f":"'Mode Strength'!A220","v":335.71254607361897},0,0,0,0,0,0,0,0,0,0,0,0,0]
[{"$f":"'Mode Strength'!A221","v":335.7985396962801},0,0,0,0,0,0,0,0,0,0,0,0,0]
[{"$f":"'Mode Strength'!A222","v":337.16372761451703},0,0,0,0,0,0,0,0,0,0,0,0,0]
[{"$f":"'Mode Strength'!A223","v":338.33987848610661},0,0,0,0,0,0,0,0,0,0,0,0,0]
[{"$f":"'Mode Strength'!A224","v":338.60957281909742},0,0,0,0,0,0,0,0,0,0,0,0,0]
[{"$f":"'Mode Strength'!A225","v":340.19653986058199},0,0,0,0,0,0,0,0,0,0,0,0,0]
[{"$f":"'Mode Strength'!A226","v":340.45105778346459},0,0,0,0,0,0,0,0,0,0,0,0,0]
[{"$f":"'Mode Strength'!A227","v":340.82683909644726},0,0,0,0,0,0,0,0,0,0,0,0,0]
[{"$f":"'Mode Strength'!A228","v":341.28143554934019},0,0,0,0,0,0,0,0,0,0,0,0,0]
[{"$f":"'Mode Strength'!A229","v":341.90523767959024},0,0,0,0,0,0,0,0,0,0,0,0,0]
[{"$f":"'Mode Strength'!A230","v":341.9575757575758},0,0,0,0,0,0,0,0,0,0,0,0,0]
[{"$f":"'Mode Strength'!A231","v":342.25649249414943},0,0,0,0,0,0,0,0,0,0,0,0,0]
[{"$f":"'Mode Strength'!A232","v":343.51285114005299},0,0,0,0,0,0,0,0,0,0,0,0,0]
[{"$f":"'Mode Strength'!A233","v":344.03020007498782},0,0,0,0,0,0,0,0,0,0,0,0,0]
[{"$f":"'Mode Strength'!A234","v":344.25071263635084},0,0,0,0,0,0,0,0,0,0,0,0,0]
[{"$f":"'Mode Strength'!A235","v":344.50223535327433},0,0,0,0,0,0,0,0,0,0,0,0,0]
[{"$f":"'Mode Strength'!A236","v":344.70094854963185},0,0,0,0,0,0,0,0,0,0,0,0,0]
[{"$f":"'Mode Strength'!A237","v":345.44270170025231},0,0,0,0,0,0,0,0,0,0,0,0,0]
[{"$f":"'Mode Strength'!A238","v":346.03632332336622},0,0,0,0,0,0,0,0,0,0,0,0,0]
[{"$f":"'Mode Strength'!A239","v":346.77537407426212},0,0,0,0,0,0,0,0,0,0,0,0,0]
[{"$f":"'Mode Strength'!A240","v":346.97595516642531},0,0,0,0,0,0,0,0,0,0,0,0,0]
[{"$f":"'Mode Strength'!A241","v":347.00300442191059},0,0,0,0,0,0,0,0,0,0,0,0,0]
[{"$f":"'Mode Strength'!A242","v":347.21846153846155},0,0,0,0,0,0,0,0,0,0,0,0,0]
[{"$f":"'Mode Strength'!A243","v":347.22550378164993},0,0,0,0,0,0,0,0,0,0,0,0,0]
[{"$f":"'Mode Strength'!A244","v":347.41878681563099},0,0,0,0,0,0,0,0,0,0,0,0,0]
[{"$f":"'Mode Strength'!A245","v":348.21970208600777},0,0,0,0,0,0,0,0,0,0,0,0,0]
[{"$f":"'Mode Strength'!A246","v":349.18819759688705},0,0,0,0,0,0,0,0,0,0,0,0,0]
[{"$f":"'Mode Strength'!A247","v":349.19260094424544},0,0,0,0,0,0,0,0,0,0,0,0,0]
[{"$f":"'Mode Strength'!A248","v":349.72484409681385},0,0,0,0,0,0,0,0,0,0,0,0,0]
[{"$f":"'Mode Strength'!A249","v":351.68054237669628},0,0,0,0,0,0,0,0,0,0,0,0,0]
[{"$f":"'Mode Strength'!A250","v":352.02586524233817},0,0,0,0,0,0,0,0,0,0,0,0,0]
[{"$f":"'Mode Strength'!A251","v":352.1477807720637},0,0,0,0,0,0,0,0,0,0,0,0,0]
[{"$f":"'Mode Strength'!A252","v":352.80309645759803},0,0,0,0,0,0,0,0,0,0,0,0,0]
[{"$f":"'Mode Strength'!A253","v":353.45517312534048},0,0,0,0,0,0,0,0,0,0,0,0,0]
[{"$f":"'Mode Strength'!A254","v":353.88989725316554},0,0,0,0,0,0,0,0,0,0,0,0,0]
[{"$f":"'Mode Strength'!A255","v":354.44777369841159},0,0,0,0,0,0,0,0,0,0,0,0,0]
[{"$f":"'Mode Strength'!A256","v":354.69137304512299},0,0,0,0,0,0,0,0,0,0,0,0,0]
[{"$f":"'Mode Strength'!A257","v":355.02618833363044},0,0,0,0,0,0,0,0,0,0,0,0,0]
[{"$f":"'Mode Strength'!A258","v":355.27008235351576},0,0,0,0,0,0,0,0,0,0,0,0,0]
[{"$f":"'Mode Strength'!A259","v":355.99875228066668},{"$f":"IF((AND($A259>=14.1,$A259<17.8)),1,0)","v":0},{"$f":"IF((AND($A259>=17.8,$A259<22.4)),1,0)","v":0},{"$f":"IF((AND($A259>=22.4,$A259<28.2)),1,0)","v":0},{"$f":"IF((AND($A259>=28.2,$A259<35.5)),1,0)","v":0},{"$f":"IF((AND($A259>=35.5,$A259<44.7)),1,0)","v":0},{"$f":"IF((AND($A259>=44.7,$A259<56.2)),1,0)","v":0},{"$f":"IF((AND($A259>=56.2,$A259<70.8)),1,0)","v":0},{"$f":"IF((AND($A259>=70.8,$A259<89.1)),1,0)","v":0},{"$f":"IF((AND($A259>=89.1,$A259<112)),1,0)","v":0},{"$f":"IF((AND($A259>=112,$A259<141)),1,0)","v":0},{"$f":"IF((AND($A259>=141,$A259<178)),1,0)","v":0},{"$f":"IF((AND($A259>=178,$A259<224)),1,0)","v":0},{"$f":"IF((AND($A259>=224,$A259<282)),1,0)","v":0}]
[{"$f":"'Mode Strength'!A260","v":356.34935936979133},0,0,0,0,0,0,0,0,0,0,0,0,0]
[{"$f":"'Mode Strength'!A261","v":357.13846924513012},0,0,0,0,0,0,0,0,0,0,0,0,0]
[{"$f":"'Mode Strength'!A262","v":357.33753626971219},0,0,0,0,0,0,0,0,0,0,0,0,0]
[{"$f":"'Mode Strength'!A263","v":358.73199026416842},0,0,0,0,0,0,0,0,0,0,0,0,0]
[{"$f":"'Mode Strength'!A264","v":358.81675228876685},0,0,0,0,0,0,0,0,0,0,0,0,0]
[{"$f":"'Mode Strength'!A265","v":359.05378917730593},0,0,0,0,0,0,0,0,0,0,0,0,0]
[{"$f":"'Mode Strength'!A266","v":359.96371364392496},0,0,0,0,0,0,0,0,0,0,0,0,0]
[{"$f":"'Mode Strength'!A267","v":360.82562586744774},0,0,0,0,0,0,0,0,0,0,0,0,0]
[{"$f":"'Mode Strength'!A268","v":361.25505710616454},0,0,0,0,0,0,0,0,0,0,0,0,0]
[{"$f":"'Mode Strength'!A269","v":361.52511241019891},0,0,0,0,0,0,0,0,0,0,0,0,0]
[{"$f":"'Mode Strength'!A270","v":362.57033945386075},0,0,0,0,0,0,0,0,0,0,0,0,0]
[{"$f":"'Mode Strength'!A271","v":363.62794936510954},0,0,0,0,0,0,0,0,0,0,0,0,0]
[{"$f":"'Mode Strength'!A272","v":363.85296013334283},0,0,0,0,0,0,0,0,0,0,0,0,0]
[{"$f":"'Mode Strength'!A273","v":364.22004684893466},0,0,0,0,0,0,0,0,0,0,0,0,0]
[{"$f":"'Mode Strength'!A274","v":364.26299366017446},0,0,0,0,0,0,0,0,0,0,0,0,0]
[{"$f":"'Mode Strength'!A275","v":364.50070721884714},0,0,0,0,0,0,0,0,0,0,0,0,0]
[{"$f":"'Mode Strength'!A276","v":364.59218210252055},0,0,0,0,0,0,0,0,0,0,0,0,0]
[{"$f":"'Mode Strength'!A277","v":365.27641734415079},0,0,0,0,0,0,0,0,0,0,0,0,0]
[{"$f":"'Mode Strength'!A278","v":365.908221327641},0,0,0,0,0,0,0,0,0,0,0,0,0]
[{"$f":"'Mode Strength'!A279","v":366.60721411389216},0,0,0,0,0,0,0,0,0,0,0,0,0]
[{"$f":"'Mode Strength'!A280","v":366.66508302808478},0,0,0,0,0,0,0,0,0,0,0,0,0]
[{"$f":"'Mode Strength'!A281","v":366.79695042306162},0,0,0,0,0,0,0,0,0,0,0,0,0]
[{"$f":"'Mode Strength'!A282","v":367.58916570722164},0,0,0,0,0,0,0,0,0,0,0,0,0]
[{"$f":"'Mode Strength'!A283","v":367.72973238423202},0,0,0,0,0,0,0,0,0,0,0,0,0]
[{"$f":"'Mode Strength'!A284","v":367.937231396779},0,0,0,0,0,0,0,0,0,0,0,0,0]
[{"$f":"'Mode Strength'!A285","v":368.05216473727631},0,0,0,0,0,0,0,0,0,0,0,0,0]
[{"$f":"'Mode Strength'!A286","v":368.28743255854192},0,0,0,0,0,0,0,0,0,0,0,0,0]
[{"$f":"'Mode Strength'!A287","v":368.74709351123892},0,0,0,0,0,0,0,0,0,0,0,0,0]
[{"$f":"'Mode Strength'!A288","v":368.9819182368613},0,0,0,0,0,0,0,0,0,0,0,0,0]
[{"$f":"'Mode Strength'!A289","v":369.1638104443312},0,0,0,0,0,0,0,0,0,0,0,0,0]
[{"$f":"'Mode Strength'!A290","v":370.62774841475675},0,0,0,0,0,0,0,0,0,0,0,0,0]
[{"$f":"'Mode Strength'!A291","v":371.01705654808461},0,0,0,0,0,0,0,0,0,0,0,0,0]
[{"$f":"'Mode Strength'!A292","v":371.11106848231668},0,0,0,0,0,0,0,0,0,0,0,0,0]
[{"$f":"'Mode Strength'!A293","v":371.29620264364814},0,0,0,0,0,0,0,0,0,0,0,0,0]
[{"$f":"'Mode Strength'!A294","v":371.53769329214663},0,0,0,0,0,0,0,0,0,0,0,0,0]
[{"$f":"'Mode Strength'!A295","v":372.77708814145774},0,0,0,0,0,0,0,0,0,0,0,0,0]
[{"$f":"'Mode Strength'!A296","v":373.18930506113895},0,0,0,0,0,0,0,0,0,0,0,0,0]
[{"$f":"'Mode Strength'!A297","v":373.64044944719848},0,0,0,0,0,0,0,0,0,0,0,0,0]
[{"$f":"'Mode Strength'!A298","v":374.42126512620933},0,0,0,0,0,0,0,0,0,0,0,0,0]
[{"$f":"'Mode Strength'!A299","v":375.03575605228144},0,0,0,0,0,0,0,0,0,0,0,0,0]
[{"$f":"'Mode Strength'!A300","v":375.33458755725752},0,0,0,0,0,0,0,0,0,0,0,0,0]
[{"$f":"'Mode Strength'!A301","v":375.44549309653195},0,0,0,0,0,0,0,0,0,0,0,0,0]
[{"$f":"'Mode Strength'!A302","v":375.5223880908041},0,0,0,0,0,0,0,0,0,0,0,0,0]
[{"$f":"'Mode Strength'!A303","v":376.01605766505219},0,0,0,0,0,0,0,0,0,0,0,0,0]
[{"$f":"'Mode Strength'!A304","v":376.15333333333331},0,0,0,0,0,0,0,0,0,0,0,0,0]
[{"$f":"'Mode Strength'!A305","v":376.74365809417748},0,0,0,0,0,0,0,0,0,0,0,0,0]
[{"$f":"'Mode Strength'!A306","v":377.69532798825816},0,0,0,0,0,0,0,0,0,0,0,0,0]
[{"$f":"'Mode Strength'!A307","v":378.64903339477246},0,0,0,0,0,0,0,0,0,0,0,0,0]
[{"$f":"'Mode Strength'!A308","v":380.00074648553334},0,0,0,0,0,0,0,0,0,0,0,0,0]
[{"$f":"'Mode Strength'!A309","v":380.32086143737587},0,0,0,0,0,0,0,0,0,0,0,0,0]
[{"$f":"'Mode Strength'!A310","v":380.63616268619671},0,0,0,0,0,0,0,0,0,0,0,0,0]
[{"$f":"'Mode Strength'!A311","v":381.12788720081579},0,0,0,0,0,0,0,0,0,0,0,0,0]
[{"$f":"'Mode Strength'!A312","v":382.32019240748679},0,0,0,0,0,0,0,0,0,0,0,0,0]
[{"$f":"'Mode Strength'!A313","v":382.43624775069958},0,0,0,0,0,0,0,0,0,0,0,0,0]
[{"$f":"'Mode Strength'!A314","v":382.90100973868226},0,0,0,0,0,0,0,0,0,0,0,0,0]
[{"$f":"'Mode Strength'!A315","v":383.10266072880586},0,0,0,0,0,0,0,0,0,0,0,0,0]
[{"$f":"'Mode Strength'!A316","v":383.50377915515014},0,0,0,0,0,0,0,0,0,0,0,0,0]
[{"$f":"'Mode Strength'!A317","v":384.00398318498981},0,0,0,0,0,0,0,0,0,0,0,0,0]
[{"$f":"'Mode Strength'!A318","v":384.77589560095299},0,0,0,0,0,0,0,0,0,0,0,0,0]
[{"$f":"'Mode Strength'!A319","v":385.36938741889031},0,0,0,0,0,0,0,0,0,0,0,0,0]
[{"$f":"'Mode Strength'!A320","v":385.5498906223674},0,0,0,0,0,0,0,0,0,0,0,0,0]
[{"$f":"'Mode Strength'!A321","v":385.77448745567256},0,0,0,0,0,0,0,0,0,0,0,0,0]
[{"$f":"'Mode Strength'!A322","v":386.03933922574367},0,0,0,0,0,0,0,0,0,0,0,0,0]
[{"$f":"'Mode Strength'!A323","v":386.53590296644722},{"$f":"IF((AND($A323>=14.1,$A323<17.8)),1,0)","v":0},{"$f":"IF((AND($A323>=17.8,$A323<22.4)),1,0)","v":0},{"$f":"IF((AND($A323>=22.4,$A323<28.2)),1,0)","v":0},{"$f":"IF((AND($A323>=28.2,$A323<35.5)),1,0)","v":0},{"$f":"IF((AND($A323>=35.5,$A323<44.7)),1,0)","v":0},{"$f":"IF((AND($A323>=44.7,$A323<56.2)),1,0)","v":0},{"$f":"IF((AND($A323>=56.2,$A323<70.8)),1,0)","v":0},{"$f":"IF((AND($A323>=70.8,$A323<89.1)),1,0)","v":0},{"$f":"IF((AND($A323>=89.1,$A323<112)),1,0)","v":0},{"$f":"IF((AND($A323>=112,$A323<141)),1,0)","v":0},{"$f":"IF((AND($A323>=141,$A323<178)),1,0)","v":0},{"$f":"IF((AND($A323>=178,$A323<224)),1,0)","v":0},{"$f":"IF((AND($A323>=224,$A323<282)),1,0)","v":0}]
[{"$f":"'Mode Strength'!A324","v":386.79462941437015},0,0,0,0,0,0,0,0,0,0,0,0,0]
[{"$f":"'Mode Strength'!A325","v":386.83457312626098},0,0,0,0,0,0,0,0,0,0,0,0,0]
[{"$f":"'Mode Strength'!A326","v":387.14506592159643},0,0,0,0,0,0,0,0,0,0,0,0,0]
[{"$f":"'Mode Strength'!A327","v":387.45594375230735},0,0,0,0,0,0,0,0,0,0,0,0,0]
[{"$f":"'Mode Strength'!A328","v":389.09783593480967},0,0,0,0,0,0,0,0,0,0,0,0,0]
[{"$f":"'Mode Strength'!A329","v":389.96876485494454},0,0,0,0,0,0,0,0,0,0,0,0,0]
[{"$f":"'Mode Strength'!A330","v":390.4086699812695},0,0,0,0,0,0,0,0,0,0,0,0,0]
[{"$f":"'Mode Strength'!A331","v":390.62076923076921},0,0,0,0,0,0,0,0,0,0,0,0,0]
[{"$f":"'Mode Strength'!A332","v":391.391062882548},0,0,0,0,0,0,0,0,0,0,0,0,0]
[{"$f":"'Mode Strength'!A333","v":391.67447197062461},0,0,0,0,0,0,0,0,0,0,0,0,0]
[{"$f":"'Mode Strength'!A334","v":391.89555879881442},0,0,0,0,0,0,0,0,0,0,0,0,0]
[{"$f":"'Mode Strength'!A335","v":392.05072474689894},0,0,0,0,0,0,0,0,0,0,0,0,0]
[{"$f":"'Mode Strength'!A336","v":392.29098002423893},0,0,0,0,0,0,0,0,0,0,0,0,0]
[{"$f":"'Mode Strength'!A337","v":392.507802225511},0,0,0,0,0,0,0,0,0,0,0,0,0]
[{"$f":"'Mode Strength'!A338","v":392.8503428786114},0,0,0,0,0,0,0,0,0,0,0,0,0]
[{"$f":"'Mode Strength'!A339","v":393.29031003477127},0,0,0,0,0,0,0,0,0,0,0,0,0]
[{"$f":"'Mode Strength'!A340","v":393.29888933464605},0,0,0,0,0,0,0,0,0,0,0,0,0]
[{"$f":"'Mode Strength'!A341","v":393.68961926961936},0,0,0,0,0,0,0,0,0,0,0,0,0]
[{"$f":"'Mode Strength'!A342","v":393.94072012478949},0,0,0,0,0,0,0,0,0,0,0,0,0]
[{"$f":"'Mode Strength'!A343","v":394.68465047604218},0,0,0,0,0,0,0,0,0,0,0,0,0]
[{"$f":"'Mode Strength'!A344","v":396.56271218958267},0,0,0,0,0,0,0,0,0,0,0,0,0]
[{"$f":"'Mode Strength'!A345","v":397.27859221910245},0,0,0,0,0,0,0,0,0,0,0,0,0]
[{"$f":"'Mode Strength'!A346","v":397.60066818126387},0,0,0,0,0,0,0,0,0,0,0,0,0]
[{"$f":"'Mode Strength'!A347","v":397.9635909135406},0,0,0,0,0,0,0,0,0,0,0,0,0]
[{"$f":"'Mode Strength'!A348","v":398.05172150731562},0,0,0,0,0,0,0,0,0,0,0,0,0]
[{"$f":"'Mode Strength'!A349","v":398.60961695792321},0,0,0,0,0,0,0,0,0,0,0,0,0]
[{"$f":"'Mode Strength'!A350","v":398.75906415348413},0,0,0,0,0,0,0,0,0,0,0,0,0]
[{"$f":"'Mode Strength'!A351","v":399.46440584369532},0,0,0,0,0,0,0,0,0,0,0,0,0]
[{"$f":"'Mode Strength'!A352","v":399.83332817207429},0,0,0,0,0,0,0,0,0,0,0,0,0]
[{"$f":"'Mode Strength'!A353","v":400.25108064395965},0,0,0,0,0,0,0,0,0,0,0,0,0]
[{"$f":"'Mode Strength'!A354","v":400.53952394282811},0,0,0,0,0,0,0,0,0,0,0,0,0]
[{"$f":"'Mode Strength'!A355","v":400.75572017516453},0,0,0,0,0,0,0,0,0,0,0,0,0]
[{"$f":"'Mode Strength'!A356","v":400.80591474311132},0,0,0,0,0,0,0,0,0,0,0,0,0]
[{"$f":"'Mode Strength'!A357","v":401.78010685006399},0,0,0,0,0,0,0,0,0,0,0,0,0]
[{"$f":"'Mode Strength'!A358","v":402.29060536089156},0,0,0,0,0,0,0,0,0,0,0,0,0]
[{"$f":"'Mode Strength'!A359","v":402.5974265562005},0,0,0,0,0,0,0,0,0,0,0,0,0]
[{"$f":"'Mode Strength'!A360","v":402.88419000174866},0,0,0,0,0,0,0,0,0,0,0,0,0]
[{"$f":"'Mode Strength'!A361","v":402.92648729864334},0,0,0,0,0,0,0,0,0,0,0,0,0]
[{"$f":"'Mode Strength'!A362","v":403.09912870922028},0,0,0,0,0,0,0,0,0,0,0,0,0]
[{"$f":"'Mode Strength'!A363","v":403.30788999921077},0,0,0,0,0,0,0,0,0,0,0,0,0]
[{"$f":"'Mode Strength'!A364","v":403.48036821501512},0,0,0,0,0,0,0,0,0,0,0,0,0]
[{"$f":"'Mode Strength'!A365","v":403.88435515585087},0,0,0,0,0,0,0,0,0,0,0,0,0]
[{"$f":"'Mode Strength'!A366","v":404.43420487894218},0,0,0,0,0,0,0,0,0,0,0,0,0]
[{"$f":"'Mode Strength'!A367","v":405.00492767797527},0,0,0,0,0,0,0,0,0,0,0,0,0]
[{"$f":"'Mode Strength'!A368","v":405.254023629936},0,0,0,0,0,0,0,0,0,0,0,0,0]
[{"$f":"'Mode Strength'!A369","v":405.27670902825946},0,0,0,0,0,0,0,0,0,0,0,0,0]
[{"$f":"'Mode Strength'!A370","v":405.46770608893149},0,0,0,0,0,0,0,0,0,0,0,0,0]
[{"$f":"'Mode Strength'!A371","v":406.94294560304058},0,0,0,0,0,0,0,0,0,0,0,0,0]
[{"$f":"'Mode Strength'!A372","v":407.15574168719104},0,0,0,0,0,0,0,0,0,0,0,0,0]
[{"$f":"'Mode Strength'!A373","v":408.83082669166305},0,0,0,0,0,0,0,0,0,0,0,0,0]
[{"$f":"'Mode Strength'!A374","v":408.92439660466636},0,0,0,0,0,0,0,0,0,0,0,0,0]
[{"$f":"'Mode Strength'!A375","v":409.55581891694385},0,0,0,0,0,0,0,0,0,0,0,0,0]
[{"$f":"'Mode Strength'!A376","v":409.71159387838998},0,0,0,0,0,0,0,0,0,0,0,0,0]
[{"$f":"'Mode Strength'!A377","v":409.83771360432212},0,0,0,0,0,0,0,0,0,0,0,0,0]
[{"$f":"'Mode Strength'!A378","v":410.04900744323936},0,0,0,0,0,0,0,0,0,0,0,0,0]
[{"$f":"'Mode Strength'!A379","v":410.25095278753452},0,0,0,0,0,0,0,0,0,0,0,0,0]
[{"$f":"'Mode Strength'!A380","v":410.34909090909093},0,0,0,0,0,0,0,0,0,0,0,0,0]
[{"$f":"'Mode Strength'!A381","v":410.961617914366},0,0,0,0,0,0,0,0,0,0,0,0,0]
[{"$f":"'Mode Strength'!A382","v":410.98445592622193},0,0,0,0,0,0,0,0,0,0,0,0,0]
[{"$f":"'Mode Strength'!A383","v":411.87920597820198},0,0,0,0,0,0,0,0,0,0,0,0,0]
[{"$f":"'Mode Strength'!A384","v":412.4720389981872},0,0,0,0,0,0,0,0,0,0,0,0,0]
[{"$f":"'Mode Strength'!A385","v":412.63802142184517},0,0,0,0,0,0,0,0,0,0,0,0,0]
[{"$f":"'Mode Strength'!A386","v":413.04075526590896},0,0,0,0,0,0,0,0,0,0,0,0,0]
[{"$f":"'Mode Strength'!A387","v":413.33528258005947},{"$f":"IF((AND($A387>=14.1,$A387<17.8)),1,0)","v":0},{"$f":"IF((AND($A387>=17.8,$A387<22.4)),1,0)","v":0},{"$f":"IF((AND($A387>=22.4,$A387<28.2)),1,0)","v":0},{"$f":"IF((AND($A387>=28.2,$A387<35.5)),1,0)","v":0},{"$f":"IF((AND($A387>=35.5,$A387<44.7)),1,0)","v":0},{"$f":"IF((AND($A387>=44.7,$A387<56.2)),1,0)","v":0},{"$f":"IF((AND($A387>=56.2,$A387<70.8)),1,0)","v":0},{"$f":"IF((AND($A387>=70.8,$A387<89.1)),1,0)","v":0},{"$f":"IF((AND($A387>=89.1,$A387<112)),1,0)","v":0},{"$f":"IF((AND($A387>=112,$A387<141)),1,0)","v":0},{"$f":"IF((AND($A387>=141,$A387<178)),1,0)","v":0},{"$f":"IF((AND($A387>=178,$A387<224)),1,0)","v":0},{"$f":"IF((AND($A387>=224,$A387<282)),1,0)","v":0}]
[{"$f":"'Mode Strength'!A388","v":413.54107126748681},0,0,0,0,0,0,0,0,0,0,0,0,0]
[{"$f":"'Mode Strength'!A389","v":413.87701401904116},0,0,0,0,0,0,0,0,0,0,0,0,0]
[{"$f":"'Mode Strength'!A390","v":414.28431684781623},0,0,0,0,0,0,0,0,0,0,0,0,0]
[{"$f":"'Mode Strength'!A391","v":414.74925348738094},0,0,0,0,0,0,0,0,0,0,0,0,0]
[{"$f":"'Mode Strength'!A392","v":414.8716540959955},0,0,0,0,0,0,0,0,0,0,0,0,0]
[{"$f":"'Mode Strength'!A393","v":415.68858657134945},0,0,0,0,0,0,0,0,0,0,0,0,0]
[{"$f":"'Mode Strength'!A394","v":415.91254322008581},0,0,0,0,0,0,0,0,0,0,0,0,0]
[{"$f":"'Mode Strength'!A395","v":415.98195787644715},0,0,0,0,0,0,0,0,0,0,0,0,0]
[{"$f":"'Mode Strength'!A396","v":417.01185636779854},0,0,0,0,0,0,0,0,0,0,0,0,0]
[{"$f":"'Mode Strength'!A397","v":417.28871424351667},0,0,0,0,0,0,0,0,0,0,0,0,0]
[{"$f":"'Mode Strength'!A398","v":418.07191086313327},0,0,0,0,0,0,0,0,0,0,0,0,0]
[{"$f":"'Mode Strength'!A399","v":418.35876153459105},0,0,0,0,0,0,0,0,0,0,0,0,0]
[{"$f":"'Mode Strength'!A400","v":418.77631570032236},0,0,0,0,0,0,0,0,0,0,0,0,0]
[{"$f":"'Mode Strength'!A401","v":419.42987216218683},0,0,0,0,0,0,0,0,0,0,0,0,0]
[{"$f":"'Mode Strength'!A402","v":419.89152710049024},0,0,0,0,0,0,0,0,0,0,0,0,0]
[{"$f":"'Mode Strength'!A403","v":420.8975770586203},0,0,0,0,0,0,0,0,0,0,0,0,0]
[{"$f":"'Mode Strength'!A404","v":421.01943292982781},0,0,0,0,0,0,0,0,0,0,0,0,0]
[{"$f":"'Mode Strength'!A405","v":421.17188065860609},0,0,0,0,0,0,0,0,0,0,0,0,0]
[{"$f":"'Mode Strength'!A406","v":421.37749117658683},0,0,0,0,0,0,0,0,0,0,0,0,0]
[{"$f":"'Mode Strength'!A407","v":421.42522956062089},0,0,0,0,0,0,0,0,0,0,0,0,0]
[{"$f":"'Mode Strength'!A408","v":421.50708678193422},0,0,0,0,0,0,0,0,0,0,0,0,0]
[{"$f":"'Mode Strength'!A409","v":421.77929781189869},0,0,0,0,0,0,0,0,0,0,0,0,0]
[{"$f":"'Mode Strength'!A410","v":421.98461236811198},0,0,0,0,0,0,0,0,0,0,0,0,0]
[{"$f":"'Mode Strength'!A411","v":422.23383203497116},0,0,0,0,0,0,0,0,0,0,0,0,0]
[{"$f":"'Mode Strength'!A412","v":422.34880495185189},0,0,0,0,0,0,0,0,0,0,0,0,0]
[{"$f":"'Mode Strength'!A413","v":423.80536827007933},0,0,0,0,0,0,0,0,0,0,0,0,0]
[{"$f":"'Mode Strength'!A414","v":423.96963376176359},0,0,0,0,0,0,0,0,0,0,0,0,0]
[{"$f":"'Mode Strength'!A415","v":424.05190631875018},0,0,0,0,0,0,0,0,0,0,0,0,0]
[{"$f":"'Mode Strength'!A416","v":424.89232763243973},0,0,0,0,0,0,0,0,0,0,0,0,0]
[{"$f":"'Mode Strength'!A417","v":426.26726307046357},0,0,0,0,0,0,0,0,0,0,0,0,0]
[{"$f":"'Mode Strength'!A418","v":427.28816436617836},0,0,0,0,0,0,0,0,0,0,0,0,0]
[{"$f":"'Mode Strength'!A419","v":427.62589229609404},0,0,0,0,0,0,0,0,0,0,0,0,0]
[{"$f":"'Mode Strength'!A420","v":427.67820127241345},0,0,0,0,0,0,0,0,0,0,0,0,0]
[{"$f":"'Mode Strength'!A421","v":427.71535049274587},0,0,0,0,0,0,0,0,0,0,0,0,0]
[{"$f":"'Mode Strength'!A422","v":428.30561012868372},0,0,0,0,0,0,0,0,0,0,0,0,0]
[{"$f":"'Mode Strength'!A423","v":428.47161432264932},0,0,0,0,0,0,0,0,0,0,0,0,0]
[{"$f":"'Mode Strength'!A424","v":428.98995095067414},0,0,0,0,0,0,0,0,0,0,0,0,0]
[{"$f":"'Mode Strength'!A425","v":429.07765651285007},0,0,0,0,0,0,0,0,0,0,0,0,0]
[{"$f":"'Mode Strength'!A426","v":429.28823594323831},0,0,0,0,0,0,0,0,0,0,0,0,0]
[{"$f":"'Mode Strength'!A427","v":429.82595883291793},0,0,0,0,0,0,0,0,0,0,0,0,0]
[{"$f":"'Mode Strength'!A428","v":429.90398111151575},0,0,0,0,0,0,0,0,0,0,0,0,0]
[{"$f":"'Mode Strength'!A429","v":430.36134750420183},0,0,0,0,0,0,0,0,0,0,0,0,0]
[{"$f":"'Mode Strength'!A430","v":430.51157850524436},0,0,0,0,0,0,0,0,0,0,0,0,0]
[{"$f":"'Mode Strength'!A431","v":430.66423649204364},0,0,0,0,0,0,0,0,0,0,0,0,0]
[{"$f":"'Mode Strength'!A432","v":431.26719749080974},0,0,0,0,0,0,0,0,0,0,0,0,0]
[{"$f":"'Mode Strength'!A433","v":431.65255057658868},0,0,0,0,0,0,0,0,0,0,0,0,0]
[{"$f":"'Mode Strength'!A434","v":431.85317114968825},0,0,0,0,0,0,0,0,0,0,0,0,0]
[{"$f":"'Mode Strength'!A435","v":432.01158366578244},0,0,0,0,0,0,0,0,0,0,0,0,0]
[{"$f":"'Mode Strength'!A436","v":432.45282013412697},0,0,0,0,0,0,0,0,0,0,0,0,0]
[{"$f":"'Mode Strength'!A437","v":432.53557746442294},0,0,0,0,0,0,0,0,0,0,0,0,0]
[{"$f":"'Mode Strength'!A438","v":432.84530782328812},0,0,0,0,0,0,0,0,0,0,0,0,0]
[{"$f":"'Mode Strength'!A439","v":433.73159328370804},0,0,0,0,0,0,0,0,0,0,0,0,0]
[{"$f":"'Mode Strength'!A440","v":434.18632951123078},0,0,0,0,0,0,0,0,0,0,0,0,0]
[{"$f":"'Mode Strength'!A441","v":434.2641339130156},0,0,0,0,0,0,0,0,0,0,0,0,0]
[{"$f":"'Mode Strength'!A442","v":436.28097891718994},0,0,0,0,0,0,0,0,0,0,0,0,0]
[{"$f":"'Mode Strength'!A443","v":436.54561645792694},0,0,0,0,0,0,0,0,0,0,0,0,0]
[{"$f":"'Mode Strength'!A444","v":436.58465257277436},0,0,0,0,0,0,0,0,0,0,0,0,0]
[{"$f":"'Mode Strength'!A445","v":436.74398938210794},0,0,0,0,0,0,0,0,0,0,0,0,0]
[{"$f":"'Mode Strength'!A446","v":437.17612644371167},0,0,0,0,0,0,0,0,0,0,0,0,0]
[{"$f":"'Mode Strength'!A447","v":437.77011840762992},0,0,0,0,0,0,0,0,0,0,0,0,0]
[{"$f":"'Mode Strength'!A448","v":437.87850034941874},0,0,0,0,0,0,0,0,0,0,0,0,0]
[{"$f":"'Mode Strength'!A449","v":438.15282284828044},0,0,0,0,0,0,0,0,0,0,0,0,0]
[{"$f":"'Mode Strength'!A450","v":438.5515310755348},0,0,0,0,0,0,0,0,0,0,0,0,0]
[{"$f":"'Mode Strength'!A451","v":439.61657992839793},{"$f":"IF((AND($A451>=14.1,$A451<17.8)),1,0)","v":0},{"$f":"IF((AND($A451>=17.8,$A451<22.4)),1,0)","v":0},{"$f":"IF((AND($A451>=22.4,$A451<28.2)),1,0)","v":0},{"$f":"IF((AND($A451>=28.2,$A451<35.5)),1,0)","v":0},{"$f":"IF((AND($A451>=35.5,$A451<44.7)),1,0)","v":0},{"$f":"IF((AND($A451>=44.7,$A451<56.2)),1,0)","v":0},{"$f":"IF((AND($A451>=56.2,$A451<70.8)),1,0)","v":0},{"$f":"IF((AND($A451>=70.8,$A451<89.1)),1,0)","v":0},{"$f":"IF((AND($A451>=89.1,$A451<112)),1,0)","v":0},{"$f":"IF((AND($A451>=112,$A451<141)),1,0)","v":0},{"$f":"IF((AND($A451>=141,$A451<178)),1,0)","v":0},{"$f":"IF((AND($A451>=178,$A451<224)),1,0)","v":0},{"$f":"IF((AND($A451>=224,$A451<282)),1,0)","v":0}]
[{"$f":"'Mode Strength'!A452","v":440.64617287965672},0,0,0,0,0,0,0,0,0,0,0,0,0]
[{"$f":"'Mode Strength'!A453","v":441.22690246280001},0,0,0,0,0,0,0,0,0,0,0,0,0]
[{"$f":"'Mode Strength'!A454","v":441.69169063936818},0,0,0,0,0,0,0,0,0,0,0,0,0]
[{"$f":"'Mode Strength'!A455","v":442.03964703254269},0,0,0,0,0,0,0,0,0,0,0,0,0]
[{"$f":"'Mode Strength'!A456","v":442.16002317706983},0,0,0,0,0,0,0,0,0,0,0,0,0]
[{"$f":"'Mode Strength'!A457","v":443.00648865400882},0,0,0,0,0,0,0,0,0,0,0,0,0]
[{"$f":"'Mode Strength'!A458","v":443.09737207118707},0,0,0,0,0,0,0,0,0,0,0,0,0]
[{"$f":"'Mode Strength'!A459","v":443.20196976358517},0,0,0,0,0,0,0,0,0,0,0,0,0]
[{"$f":"'Mode Strength'!A460","v":443.40430020645721},0,0,0,0,0,0,0,0,0,0,0,0,0]
[{"$f":"'Mode Strength'!A461","v":443.59199955558921},0,0,0,0,0,0,0,0,0,0,0,0,0]
[{"$f":"'Mode Strength'!A462","v":444.0110990662954},0,0,0,0,0,0,0,0,0,0,0,0,0]
[{"$f":"'Mode Strength'!A463","v":444.16875742775636},0,0,0,0,0,0,0,0,0,0,0,0,0]
[{"$f":"'Mode Strength'!A464","v":445.21797071705197},0,0,0,0,0,0,0,0,0,0,0,0,0]
[{"$f":"'Mode Strength'!A465","v":445.33199700158224},0,0,0,0,0,0,0,0,0,0,0,0,0]
[{"$f":"'Mode Strength'!A466","v":445.56317331911691},0,0,0,0,0,0,0,0,0,0,0,0,0]
[{"$f":"'Mode Strength'!A467","v":446.36653935951801},0,0,0,0,0,0,0,0,0,0,0,0,0]
[{"$f":"'Mode Strength'!A468","v":447.51910346219415},0,0,0,0,0,0,0,0,0,0,0,0,0]
[{"$f":"'Mode Strength'!A469","v":447.74056527779476},0,0,0,0,0,0,0,0,0,0,0,0,0]
[{"$f":"'Mode Strength'!A470","v":447.81889988857876},0,0,0,0,0,0,0,0,0,0,0,0,0]
[{"$f":"'Mode Strength'!A471","v":448.25455751645671},0,0,0,0,0,0,0,0,0,0,0,0,0]
[{"$f":"'Mode Strength'!A472","v":448.31486795980976},0,0,0,0,0,0,0,0,0,0,0,0,0]
[{"$f":"'Mode Strength'!A473","v":448.39879363767147},0,0,0,0,0,0,0,0,0,0,0,0,0]
[{"$f":"'Mode Strength'!A474","v":449.0750556850557},0,0,0,0,0,0,0,0,0,0,0,0,0]
[{"$f":"'Mode Strength'!A475","v":449.61682914075152},0,0,0,0,0,0,0,0,0,0,0,0,0]
[{"$f":"'Mode Strength'!A476","v":449.87362195429239},0,0,0,0,0,0,0,0,0,0,0,0,0]
[{"$f":"'Mode Strength'!A477","v":450.031670377571},0,0,0,0,0,0,0,0,0,0,0,0,0]
[{"$f":"'Mode Strength'!A478","v":451.20710459674399},0,0,0,0,0,0,0,0,0,0,0,0,0]
[{"$f":"'Mode Strength'!A479","v":451.520013275672},0,0,0,0,0,0,0,0,0,0,0,0,0]
[{"$f":"'Mode Strength'!A480","v":451.77414074265948},0,0,0,0,0,0,0,0,0,0,0,0,0]
[{"$f":"'Mode Strength'!A481","v":452.119745925617},0,0,0,0,0,0,0,0,0,0,0,0,0]
[{"$f":"'Mode Strength'!A482","v":453.33626327464702},0,0,0,0,0,0,0,0,0,0,0,0,0]
[{"$f":"'Mode Strength'!A483","v":453.363867570769},0,0,0,0,0,0,0,0,0,0,0,0,0]
[{"$f":"'Mode Strength'!A484","v":454.04204734579884},0,0,0,0,0,0,0,0,0,0,0,0,0]
[{"$f":"'Mode Strength'!A485","v":454.23277927812745},0,0,0,0,0,0,0,0,0,0,0,0,0]
[{"$f":"'Mode Strength'!A486","v":455.29653565791739},0,0,0,0,0,0,0,0,0,0,0,0,0]
[{"$f":"'Mode Strength'!A487","v":455.5501268420316},0,0,0,0,0,0,0,0,0,0,0,0,0]
[{"$f":"'Mode Strength'!A488","v":455.74022762815071},0,0,0,0,0,0,0,0,0,0,0,0,0]
[{"$f":"'Mode Strength'!A489","v":456.92151797490146},0,0,0,0,0,0,0,0,0,0,0,0,0]
[{"$f":"'Mode Strength'!A490","v":457.42675802347634},0,0,0,0,0,0,0,0,0,0,0,0,0]
[{"$f":"'Mode Strength'!A491","v":457.50049338379608},0,0,0,0,0,0,0,0,0,0,0,0,0]
[{"$f":"'Mode Strength'!A492","v":458.21412490324889},0,0,0,0,0,0,0,0,0,0,0,0,0]
[{"$f":"'Mode Strength'!A493","v":458.326898179561},0,0,0,0,0,0,0,0,0,0,0,0,0]
[{"$f":"'Mode Strength'!A494","v":458.69645558425583},0,0,0,0,0,0,0,0,0,0,0,0,0]
[{"$f":"'Mode Strength'!A495","v":459.14355978114867},0,0,0,0,0,0,0,0,0,0,0,0,0]
[{"$f":"'Mode Strength'!A496","v":459.16400131400167},0,0,0,0,0,0,0,0,0,0,0,0,0]
[{"$f":"'Mode Strength'!A497","v":459.3321733792144},0,0,0,0,0,0,0,0,0,0,0,0,0]
[{"$f":"'Mode Strength'!A498","v":459.47830031166529},0,0,0,0,0,0,0,0,0,0,0,0,0]
[{"$f":"'Mode Strength'!A499","v":460.49597180109402},0,0,0,0,0,0,0,0,0,0,0,0,0]
[{"$f":"'Mode Strength'!A500","v":461.19329961862184},0,0,0,0,0,0,0,0,0,0,0,0,0]
[{"$f":"'Mode Strength'!A501","v":461.83235481454926},0,0,0,0,0,0,0,0,0,0,0,0,0]
[{"$f":"'Mode Strength'!A502","v":462.30735370372508},0,0,0,0,0,0,0,0,0,0,0,0,0]
[{"$f":"'Mode Strength'!A503","v":462.53680973307598},0,0,0,0,0,0,0,0,0,0,0,0,0]
[{"$f":"'Mode Strength'!A504","v":462.58415536109402},0,0,0,0,0,0,0,0,0,0,0,0,0]
[{"$f":"'Mode Strength'!A505","v":462.86909631864967},0,0,0,0,0,0,0,0,0,0,0,0,0]
[{"$f":"'Mode Strength'!A506","v":463.64247688109225},0,0,0,0,0,0,0,0,0,0,0,0,0]
[{"$f":"'Mode Strength'!A507","v":464.18705387915094},0,0,0,0,0,0,0,0,0,0,0,0,0]
[{"$f":"'Mode Strength'!A508","v":464.19864738639762},0,0,0,0,0,0,0,0,0,0,0,0,0]
[{"$f":"'Mode Strength'!A509","v":465.00157541398357},0,0,0,0,0,0,0,0,0,0,0,0,0]
[{"$f":"'Mode Strength'!A510","v":465.1125881905333},0,0,0,0,0,0,0,0,0,0,0,0,0]
[{"$f":"'Mode Strength'!A511","v":465.59013459232716},0,0,0,0,0,0,0,0,0,0,0,0,0]
[{"$f":"'Mode Strength'!A512","v":466.07637869856251},0,0,0,0,0,0,0,0,0,0,0,0,0]
[{"$f":"'Mode Strength'!A513","v":467.13325722572392},0,0,0,0,0,0,0,0,0,0,0,0,0]
[{"$f":"'Mode Strength'!A514","v":468.48943121482097},0,0,0,0,0,0,0,0,0,0,0,0,0]
[{"$f":"'Mode Strength'!A515","v":468.60599793120974},{"$f":"IF((AND($A515>=14.1,$A515<17.8)),1,0)","v":0},{"$f":"IF((AND($A515>=17.8,$A515<22.4)),1,0)","v":0},{"$f":"IF((AND($A515>=22.4,$A515<28.2)),1,0)","v":0},{"$f":"IF((AND($A515>=28.2,$A515<35.5)),1,0)","v":0},{"$f":"IF((AND($A515>=35.5,$A515<44.7)),1,0)","v":0},{"$f":"IF((AND($A515>=44.7,$A515<56.2)),1,0)","v":0},{"$f":"IF((AND($A515>=56.2,$A515<70.8)),1,0)","v":0},{"$f":"IF((AND($A515>=70.8,$A515<89.1)),1,0)","v":0},{"$f":"IF((AND($A515>=89.1,$A515<112)),1,0)","v":0},{"$f":"IF((AND($A515>=112,$A515<141)),1,0)","v":0},{"$f":"IF((AND($A515>=141,$A515<178)),1,0)","v":0},{"$f":"IF((AND($A515>=178,$A515<224)),1,0)","v":0},{"$f":"IF((AND($A515>=224,$A515<282)),1,0)","v":0}]
[{"$f":"'Mode Strength'!A516","v":469.03557451986268},0,0,0,0,0,0,0,0,0,0,0,0,0]
[{"$f":"'Mode Strength'!A517","v":469.19827400974702},0,0,0,0,0,0,0,0,0,0,0,0,0]
[{"$f":"'Mode Strength'!A518","v":470.85834842021961},0,0,0,0,0,0,0,0,0,0,0,0,0]
[{"$f":"'Mode Strength'!A519","v":471.66472246393397},0,0,0,0,0,0,0,0,0,0,0,0,0]
[{"$f":"'Mode Strength'!A520","v":471.83692541321079},0,0,0,0,0,0,0,0,0,0,0,0,0]
[{"$f":"'Mode Strength'!A521","v":472.02698187990057},0,0,0,0,0,0,0,0,0,0,0,0,0]
[{"$f":"'Mode Strength'!A522","v":472.59703159788211},0,0,0,0,0,0,0,0,0,0,0,0,0]
[{"$f":"'Mode Strength'!A523","v":473.14348874878073},0,0,0,0,0,0,0,0,0,0,0,0,0]
[{"$f":"'Mode Strength'!A524","v":474.19803683360431},0,0,0,0,0,0,0,0,0,0,0,0,0]
[{"$f":"'Mode Strength'!A525","v":474.30000829064932},0,0,0,0,0,0,0,0,0,0,0,0,0]
[{"$f":"'Mode Strength'!A526","v":474.9129286197454},0,0,0,0,0,0,0,0,0,0,0,0,0]
[{"$f":"'Mode Strength'!A527","v":475.89436448089612},0,0,0,0,0,0,0,0,0,0,0,0,0]
[{"$f":"'Mode Strength'!A528","v":476.35493812703345},0,0,0,0,0,0,0,0,0,0,0,0,0]
[{"$f":"'Mode Strength'!A529","v":476.88884959700692},0,0,0,0,0,0,0,0,0,0,0,0,0]
[{"$f":"'Mode Strength'!A530","v":477.51052221421941},0,0,0,0,0,0,0,0,0,0,0,0,0]
[{"$f":"'Mode Strength'!A531","v":477.75232234808283},0,0,0,0,0,0,0,0,0,0,0,0,0]
[{"$f":"'Mode Strength'!A532","v":477.93359216710621},0,0,0,0,0,0,0,0,0,0,0,0,0]
[{"$f":"'Mode Strength'!A533","v":478.25788286644752},0,0,0,0,0,0,0,0,0,0,0,0,0]
[{"$f":"'Mode Strength'!A534","v":478.55029292875133},0,0,0,0,0,0,0,0,0,0,0,0,0]
[{"$f":"'Mode Strength'!A535","v":478.71680711602482},0,0,0,0,0,0,0,0,0,0,0,0,0]
[{"$f":"'Mode Strength'!A536","v":478.74060606060607},0,0,0,0,0,0,0,0,0,0,0,0,0]
[{"$f":"'Mode Strength'!A537","v":479.61201036666768},0,0,0,0,0,0,0,0,0,0,0,0,0]
[{"$f":"'Mode Strength'!A538","v":480.22324270792478},0,0,0,0,0,0,0,0,0,0,0,0,0]
[{"$f":"'Mode Strength'!A539","v":480.29358949053329},0,0,0,0,0,0,0,0,0,0,0,0,0]
[{"$f":"'Mode Strength'!A540","v":480.56151992921895},0,0,0,0,0,0,0,0,0,0,0,0,0]
[{"$f":"'Mode Strength'!A541","v":480.70399229077998},0,0,0,0,0,0,0,0,0,0,0,0,0]
[{"$f":"'Mode Strength'!A542","v":480.83431984832691},0,0,0,0,0,0,0,0,0,0,0,0,0]
[{"$f":"'Mode Strength'!A543","v":480.9068642101974},0,0,0,0,0,0,0,0,0,0,0,0,0]
[{"$f":"'Mode Strength'!A544","v":482.03348321359852},0,0,0,0,0,0,0,0,0,0,0,0,0]
[{"$f":"'Mode Strength'!A545","v":482.35740830955501},0,0,0,0,0,0,0,0,0,0,0,0,0]
[{"$f":"'Mode Strength'!A546","v":482.51749683270435},0,0,0,0,0,0,0,0,0,0,0,0,0]
[{"$f":"'Mode Strength'!A547","v":482.86144219382749},0,0,0,0,0,0,0,0,0,0,0,0,0]
[{"$f":"'Mode Strength'!A548","v":482.99437109603707},0,0,0,0,0,0,0,0,0,0,0,0,0]
[{"$f":"'Mode Strength'!A549","v":483.45425455451431},0,0,0,0,0,0,0,0,0,0,0,0,0]
[{"$f":"'Mode Strength'!A550","v":483.52413126507713},0,0,0,0,0,0,0,0,0,0,0,0,0]
[{"$f":"'Mode Strength'!A551","v":483.92067363141808},0,0,0,0,0,0,0,0,0,0,0,0,0]
[{"$f":"'Mode Strength'!A552","v":484.15927240070016},0,0,0,0,0,0,0,0,0,0,0,0,0]
[{"$f":"'Mode Strength'!A553","v":485.98332694949022},0,0,0,0,0,0,0,0,0,0,0,0,0]
[{"$f":"'Mode Strength'!A554","v":486.0059132135703},0,0,0,0,0,0,0,0,0,0,0,0,0]
[{"$f":"'Mode Strength'!A555","v":486.07164469445007},0,0,0,0,0,0,0,0,0,0,0,0,0]
[{"$f":"'Mode Strength'!A556","v":486.5466155912992},0,0,0,0,0,0,0,0,0,0,0,0,0]
[{"$f":"'Mode Strength'!A557","v":486.86104617616979},0,0,0,0,0,0,0,0,0,0,0,0,0]
[{"$f":"'Mode Strength'!A558","v":487.01965430806035},0,0,0,0,0,0,0,0,0,0,0,0,0]
[{"$f":"'Mode Strength'!A559","v":487.33524770032204},0,0,0,0,0,0,0,0,0,0,0,0,0]
[{"$f":"'Mode Strength'!A560","v":487.79970707654292},0,0,0,0,0,0,0,0,0,0,0,0,0]
[{"$f":"'Mode Strength'!A561","v":487.91756925316065},0,0,0,0,0,0,0,0,0,0,0,0,0]
[{"$f":"'Mode Strength'!A562","v":488.0349435022726},0,0,0,0,0,0,0,0,0,0,0,0,0]
[{"$f":"'Mode Strength'!A563","v":488.21239547151384},0,0,0,0,0,0,0,0,0,0,0,0,0]
[{"$f":"'Mode Strength'!A564","v":488.33695831911746},0,0,0,0,0,0,0,0,0,0,0,0,0]
[{"$f":"'Mode Strength'!A565","v":488.33842331804294},0,0,0,0,0,0,0,0,0,0,0,0,0]
[{"$f":"'Mode Strength'!A566","v":488.6782717663599},0,0,0,0,0,0,0,0,0,0,0,0,0]
[{"$f":"'Mode Strength'!A567","v":488.94704537789318},0,0,0,0,0,0,0,0,0,0,0,0,0]
[{"$f":"'Mode Strength'!A568","v":489.12416644093446},0,0,0,0,0,0,0,0,0,0,0,0,0]
[{"$f":"'Mode Strength'!A569","v":492.1348443803974},0,0,0,0,0,0,0,0,0,0,0,0,0]
[{"$f":"'Mode Strength'!A570","v":492.80371896322612},0,0,0,0,0,0,0,0,0,0,0,0,0]
[{"$f":"'Mode Strength'!A571","v":493.09657652289451},0,0,0,0,0,0,0,0,0,0,0,0,0]
[{"$f":"'Mode Strength'!A572","v":493.1419408853551},0,0,0,0,0,0,0,0,0,0,0,0,0]
[{"$f":"'Mode Strength'!A573","v":493.38553785233285},0,0,0,0,0,0,0,0,0,0,0,0,0]
[{"$f":"'Mode Strength'!A574","v":493.67482751803954},0,0,0,0,0,0,0,0,0,0,0,0,0]
[{"$f":"'Mode Strength'!A575","v":494.45209053330223},0,0,0,0,0,0,0,0,0,0,0,0,0]
[{"$f":"'Mode Strength'!A576","v":494.88769109760494},0,0,0,0,0,0,0,0,0,0,0,0,0]
[{"$f":"'Mode Strength'!A577","v":495.66565882765815},0,0,0,0,0,0,0,0,0,0,0,0,0]
[{"$f":"'Mode Strength'!A578","v":496.13144499057529},0,0,0,0,0,0,0,0,0,0,0,0,0]
[{"$f":"'Mode Strength'!A579","v":496.18189038521717},{"$f":"IF((AND($A579>=14.1,$A579<17.8)),1,0)","v":0},{"$f":"IF((AND($A579>=17.8,$A579<22.4)),1,0)","v":0},{"$f":"IF((AND($A579>=22.4,$A579<28.2)),1,0)","v":0},{"$f":"IF((AND($A579>=28.2,$A579<35.5)),1,0)","v":0},{"$f":"IF((AND($A579>=35.5,$A579<44.7)),1,0)","v":0},{"$f":"IF((AND($A579>=44.7,$A579<56.2)),1,0)","v":0},{"$f":"IF((AND($A579>=56.2,$A579<70.8)),1,0)","v":0},{"$f":"IF((AND($A579>=70.8,$A579<89.1)),1,0)","v":0},{"$f":"IF((AND($A579>=89.1,$A579<112)),1,0)","v":0},{"$f":"IF((AND($A579>=112,$A579<141)),1,0)","v":0},{"$f":"IF((AND($A579>=141,$A579<178)),1,0)","v":0},{"$f":"IF((AND($A579>=178,$A579<224)),1,0)","v":0},{"$f":"IF((AND($A579>=224,$A579<282)),1,0)","v":0}]
[{"$f":"'Mode Strength'!A580","v":496.45733422075728},0,0,0,0,0,0,0,0,0,0,0,0,0]
[{"$f":"'Mode Strength'!A581","v":496.78726544964513},0,0,0,0,0,0,0,0,0,0,0,0,0]
[{"$f":"'Mode Strength'!A582","v":497.62977254300728},0,0,0,0,0,0,0,0,0,0,0,0,0]
[{"$f":"'Mode Strength'!A583","v":497.88875991916194},0,0,0,0,0,0,0,0,0,0,0,0,0]
[{"$f":"'Mode Strength'!A584","v":498.22209391158583},0,0,0,0,0,0,0,0,0,0,0,0,0]
[{"$f":"'Mode Strength'!A585","v":498.24770432029487},0,0,0,0,0,0,0,0,0,0,0,0,0]
[{"$f":"'Mode Strength'!A586","v":499.62236956352393},0,0,0,0,0,0,0,0,0,0,0,0,0]
[{"$f":"'Mode Strength'!A587","v":501.06474264102269},0,0,0,0,0,0,0,0,0,0,0,0,0]
[{"$f":"'Mode Strength'!A588","v":501.40133181803191},0,0,0,0,0,0,0,0,0,0,0,0,0]
[{"$f":"'Mode Strength'!A589","v":501.91932278723681},0,0,0,0,0,0,0,0,0,0,0,0,0]
[{"$f":"'Mode Strength'!A590","v":502.44290029016179},0,0,0,0,0,0,0,0,0,0,0,0,0]
[{"$f":"'Mode Strength'!A591","v":502.49893820238793},0,0,0,0,0,0,0,0,0,0,0,0,0]
[{"$f":"'Mode Strength'!A592","v":502.72871966719509},0,0,0,0,0,0,0,0,0,0,0,0,0]
[{"$f":"'Mode Strength'!A593","v":502.90098686618677},0,0,0,0,0,0,0,0,0,0,0,0,0]
[{"$f":"'Mode Strength'!A594","v":503.12387827458053},0,0,0,0,0,0,0,0,0,0,0,0,0]
[{"$f":"'Mode Strength'!A595","v":503.20662014700906},0,0,0,0,0,0,0,0,0,0,0,0,0]
[{"$f":"'Mode Strength'!A596","v":503.96418239270326},0,0,0,0,0,0,0,0,0,0,0,0,0]
[{"$f":"'Mode Strength'!A597","v":504.42975694347808},0,0,0,0,0,0,0,0,0,0,0,0,0]
[{"$f":"'Mode Strength'!A598","v":505.34332843763883},0,0,0,0,0,0,0,0,0,0,0,0,0]
[{"$f":"'Mode Strength'!A599","v":505.82967236784719},0,0,0,0,0,0,0,0,0,0,0,0,0]
[{"$f":"'Mode Strength'!A600","v":506.84090547048993},0,0,0,0,0,0,0,0,0,0,0,0,0]
[{"$f":"'Mode Strength'!A601","v":507.09118767510745},0,0,0,0,0,0,0,0,0,0,0,0,0]
[{"$f":"'Mode Strength'!A602","v":507.50981772915992},0,0,0,0,0,0,0,0,0,0,0,0,0]
[{"$f":"'Mode Strength'!A603","v":508.21657310955811},0,0,0,0,0,0,0,0,0,0,0,0,0]
[{"$f":"'Mode Strength'!A604","v":508.3564829878498},0,0,0,0,0,0,0,0,0,0,0,0,0]
[{"$f":"'Mode Strength'!A605","v":508.79344289424631},0,0,0,0,0,0,0,0,0,0,0,0,0]
[{"$f":"'Mode Strength'!A606","v":508.94521604075311},0,0,0,0,0,0,0,0,0,0,0,0,0]
[{"$f":"'Mode Strength'!A607","v":509.06831355966142},0,0,0,0,0,0,0,0,0,0,0,0,0]
[{"$f":"'Mode Strength'!A608","v":509.24722178875015},0,0,0,0,0,0,0,0,0,0,0,0,0]
[{"$f":"'Mode Strength'!A609","v":510.20591343965594},0,0,0,0,0,0,0,0,0,0,0,0,0]
[{"$f":"'Mode Strength'!A610","v":510.57872238058172},0,0,0,0,0,0,0,0,0,0,0,0,0]
[{"$f":"'Mode Strength'!A611","v":510.9594303317682},0,0,0,0,0,0,0,0,0,0,0,0,0]
[{"$f":"'Mode Strength'!A612","v":511.28424291461329},0,0,0,0,0,0,0,0,0,0,0,0,0]
[{"$f":"'Mode Strength'!A613","v":511.3853130339362},0,0,0,0,0,0,0,0,0,0,0,0,0]
[{"$f":"'Mode Strength'!A614","v":511.73007495854512},0,0,0,0,0,0,0,0,0,0,0,0,0]
[{"$f":"'Mode Strength'!A615","v":511.91013880456978},0,0,0,0,0,0,0,0,0,0,0,0,0]
[{"$f":"'Mode Strength'!A616","v":512.28648068555538},0,0,0,0,0,0,0,0,0,0,0,0,0]
[{"$f":"'Mode Strength'!A617","v":513.2482123872818},0,0,0,0,0,0,0,0,0,0,0,0,0]
[{"$f":"'Mode Strength'!A618","v":513.9558856604632},0,0,0,0,0,0,0,0,0,0,0,0,0]
[{"$f":"'Mode Strength'!A619","v":514.17915580110434},0,0,0,0,0,0,0,0,0,0,0,0,0]
[{"$f":"'Mode Strength'!A620","v":514.4672136004607},0,0,0,0,0,0,0,0,0,0,0,0,0]
[{"$f":"'Mode Strength'!A621","v":515.21310967172496},0,0,0,0,0,0,0,0,0,0,0,0,0]
[{"$f":"'Mode Strength'!A622","v":515.714412294098},0,0,0,0,0,0,0,0,0,0,0,0,0]
[{"$f":"'Mode Strength'!A623","v":516.06197213239727},0,0,0,0,0,0,0,0,0,0,0,0,0]
[{"$f":"'Mode Strength'!A624","v":516.4585070996834},0,0,0,0,0,0,0,0,0,0,0,0,0]
[{"$f":"'Mode Strength'!A625","v":517.37593481858607},0,0,0,0,0,0,0,0,0,0,0,0,0]
[{"$f":"'Mode Strength'!A626","v":518.70762825030465},0,0,0,0,0,0,0,0,0,0,0,0,0]
[{"$f":"'Mode Strength'!A627","v":519.15274146674415},0,0,0,0,0,0,0,0,0,0,0,0,0]
[{"$f":"'Mode Strength'!A628","v":519.94603144121197},0,0,0,0,0,0,0,0,0,0,0,0,0]
[{"$f":"'Mode Strength'!A629","v":520.51295848605503},0,0,0,0,0,0,0,0,0,0,0,0,0]
[{"$f":"'Mode Strength'!A630","v":520.66605276806104},0,0,0,0,0,0,0,0,0,0,0,0,0]
[{"$f":"'Mode Strength'!A631","v":520.83238716293431},0,0,0,0,0,0,0,0,0,0,0,0,0]
[{"$f":"'Mode Strength'!A632","v":521.65532163530736},0,0,0,0,0,0,0,0,0,0,0,0,0]
[{"$f":"'Mode Strength'!A633","v":522.3626436934336},0,0,0,0,0,0,0,0,0,0,0,0,0]
[{"$f":"'Mode Strength'!A634","v":523.54113060476038},0,0,0,0,0,0,0,0,0,0,0,0,0]
[{"$f":"'Mode Strength'!A635","v":523.88249927012635},0,0,0,0,0,0,0,0,0,0,0,0,0]
[{"$f":"'Mode Strength'!A636","v":524.16265780710739},0,0,0,0,0,0,0,0,0,0,0,0,0]
[{"$f":"'Mode Strength'!A637","v":524.45590072779476},0,0,0,0,0,0,0,0,0,0,0,0,0]
[{"$f":"'Mode Strength'!A638","v":524.76676401324778},0,0,0,0,0,0,0,0,0,0,0,0,0]
[{"$f":"'Mode Strength'!A639","v":525.19007068807048},0,0,0,0,0,0,0,0,0,0,0,0,0]
[{"$f":"'Mode Strength'!A640","v":525.25439514403581},0,0,0,0,0,0,0,0,0,0,0,0,0]
[{"$f":"'Mode Strength'!A641","v":525.62969447770001},0,0,0,0,0,0,0,0,0,0,0,0,0]
[{"$f":"'Mode Strength'!A642","v":525.74888554939344},0,0,0,0,0,0,0,0,0,0,0,0,0]
[{"$f":"'Mode Strength'!A643","v":525.83913429304096},{"$f":"IF((AND($A643>=14.1,$A643<17.8)),1,0)","v":0},{"$f":"IF((AND($A643>=17.8,$A643<22.4)),1,0)","v":0},{"$f":"IF((AND($A643>=22.4,$A643<28.2)),1,0)","v":0},{"$f":"IF((AND($A643>=28.2,$A643<35.5)),1,0)","v":0},{"$f":"IF((AND($A643>=35.5,$A643<44.7)),1,0)","v":0},{"$f":"IF((AND($A643>=44.7,$A643<56.2)),1,0)","v":0},{"$f":"IF((AND($A643>=56.2,$A643<70.8)),1,0)","v":0},{"$f":"IF((AND($A643>=70.8,$A643<89.1)),1,0)","v":0},{"$f":"IF((AND($A643>=89.1,$A643<112)),1,0)","v":0},{"$f":"IF((AND($A643>=112,$A643<141)),1,0)","v":0},{"$f":"IF((AND($A643>=141,$A643<178)),1,0)","v":0},{"$f":"IF((AND($A643>=178,$A643<224)),1,0)","v":0},{"$f":"IF((AND($A643>=224,$A643<282)),1,0)","v":0}]
[{"$f":"'Mode Strength'!A644","v":527.28870864273676},0,0,0,0,0,0,0,0,0,0,0,0,0]
[{"$f":"'Mode Strength'!A645","v":527.6034684021032},0,0,0,0,0,0,0,0,0,0,0,0,0]
[{"$f":"'Mode Strength'!A646","v":528.14606290238237},0,0,0,0,0,0,0,0,0,0,0,0,0]
[{"$f":"'Mode Strength'!A647","v":529.02921593582425},0,0,0,0,0,0,0,0,0,0,0,0,0]
[{"$f":"'Mode Strength'!A648","v":529.32220368676758},0,0,0,0,0,0,0,0,0,0,0,0,0]
[{"$f":"'Mode Strength'!A649","v":529.40976585414978},0,0,0,0,0,0,0,0,0,0,0,0,0]
[{"$f":"'Mode Strength'!A650","v":529.52598876586217},0,0,0,0,0,0,0,0,0,0,0,0,0]
[{"$f":"'Mode Strength'!A651","v":529.86940616513573},0,0,0,0,0,0,0,0,0,0,0,0,0]
[{"$f":"'Mode Strength'!A652","v":530.08732325295557},0,0,0,0,0,0,0,0,0,0,0,0,0]
[{"$f":"'Mode Strength'!A653","v":530.25070229680125},0,0,0,0,0,0,0,0,0,0,0,0,0]
[{"$f":"'Mode Strength'!A654","v":531.0986307917143},0,0,0,0,0,0,0,0,0,0,0,0,0]
[{"$f":"'Mode Strength'!A655","v":532.0618400517144},0,0,0,0,0,0,0,0,0,0,0,0,0]
[{"$f":"'Mode Strength'!A656","v":532.23472443870003},0,0,0,0,0,0,0,0,0,0,0,0,0]
[{"$f":"'Mode Strength'!A657","v":533.02913817448098},0,0,0,0,0,0,0,0,0,0,0,0,0]
[{"$f":"'Mode Strength'!A658","v":533.05261556617063},0,0,0,0,0,0,0,0,0,0,0,0,0]
[{"$f":"'Mode Strength'!A659","v":534.07942094886789},0,0,0,0,0,0,0,0,0,0,0,0,0]
[{"$f":"'Mode Strength'!A660","v":535.9866020956448},0,0,0,0,0,0,0,0,0,0,0,0,0]
[{"$f":"'Mode Strength'!A661","v":536.39261419960553},0,0,0,0,0,0,0,0,0,0,0,0,0]
[{"$f":"'Mode Strength'!A662","v":537.18384078829104},0,0,0,0,0,0,0,0,0,0,0,0,0]
[{"$f":"'Mode Strength'!A663","v":537.25183710645592},0,0,0,0,0,0,0,0,0,0,0,0,0]
[{"$f":"'Mode Strength'!A664","v":537.53793953827437},0,0,0,0,0,0,0,0,0,0,0,0,0]
[{"$f":"'Mode Strength'!A665","v":538.34614732860564},0,0,0,0,0,0,0,0,0,0,0,0,0]
[{"$f":"'Mode Strength'!A666","v":538.80238539238542},0,0,0,0,0,0,0,0,0,0,0,0,0]
[{"$f":"'Mode Strength'!A667","v":539.16031288333727},0,0,0,0,0,0,0,0,0,0,0,0,0]
[{"$f":"'Mode Strength'!A668","v":540.37749270797929},0,0,0,0,0,0,0,0,0,0,0,0,0]
[{"$f":"'Mode Strength'!A669","v":540.4420445578271},0,0,0,0,0,0,0,0,0,0,0,0,0]
[{"$f":"'Mode Strength'!A670","v":542.18203939162549},0,0,0,0,0,0,0,0,0,0,0,0,0]
[{"$f":"'Mode Strength'!A671","v":542.28766861529834},0,0,0,0,0,0,0,0,0,0,0,0,0]
[{"$f":"'Mode Strength'!A672","v":542.98504554057149},0,0,0,0,0,0,0,0,0,0,0,0,0]
[{"$f":"'Mode Strength'!A673","v":543.99840314533287},0,0,0,0,0,0,0,0,0,0,0,0,0]
[{"$f":"'Mode Strength'!A674","v":544.56034908220761},0,0,0,0,0,0,0,0,0,0,0,0,0]
[{"$f":"'Mode Strength'!A675","v":544.98434762836587},0,0,0,0,0,0,0,0,0,0,0,0,0]
[{"$f":"'Mode Strength'!A676","v":545.10167687595276},0,0,0,0,0,0,0,0,0,0,0,0,0]
[{"$f":"'Mode Strength'!A677","v":545.40670485327792},0,0,0,0,0,0,0,0,0,0,0,0,0]
[{"$f":"'Mode Strength'!A678","v":546.58331009731319},0,0,0,0,0,0,0,0,0,0,0,0,0]
[{"$f":"'Mode Strength'!A679","v":546.58461897982477},0,0,0,0,0,0,0,0,0,0,0,0,0]
[{"$f":"'Mode Strength'!A680","v":546.8882731537808},0,0,0,0,0,0,0,0,0,0,0,0,0]
[{"$f":"'Mode Strength'!A681","v":547.13212121212121},0,0,0,0,0,0,0,0,0,0,0,0,0]
[{"$f":"'Mode Strength'!A682","v":547.36883796752204},0,0,0,0,0,0,0,0,0,0,0,0,0]
[{"$f":"'Mode Strength'!A683","v":548.06995838642911},0,0,0,0,0,0,0,0,0,0,0,0,0]
[{"$f":"'Mode Strength'!A684","v":548.70201836715501},0,0,0,0,0,0,0,0,0,0,0,0,0]
[{"$f":"'Mode Strength'!A685","v":548.72612896369355},0,0,0,0,0,0,0,0,0,0,0,0,0]
[{"$f":"'Mode Strength'!A686","v":548.850907237196},0,0,0,0,0,0,0,0,0,0,0,0,0]
[{"$f":"'Mode Strength'!A687","v":550.43993761399406},0,0,0,0,0,0,0,0,0,0,0,0,0]
[{"$f":"'Mode Strength'!A688","v":550.45698881445503},0,0,0,0,0,0,0,0,0,0,0,0,0]
[{"$f":"'Mode Strength'!A689","v":551.35756577880943},0,0,0,0,0,0,0,0,0,0,0,0,0]
[{"$f":"'Mode Strength'!A690","v":551.49667661137653},0,0,0,0,0,0,0,0,0,0,0,0,0]
[{"$f":"'Mode Strength'!A691","v":551.57545308252691},0,0,0,0,0,0,0,0,0,0,0,0,0]
[{"$f":"'Mode Strength'!A692","v":551.68903866481139},0,0,0,0,0,0,0,0,0,0,0,0,0]
[{"$f":"'Mode Strength'!A693","v":551.96765788558253},0,0,0,0,0,0,0,0,0,0,0,0,0]
[{"$f":"'Mode Strength'!A694","v":552.73892718101536},0,0,0,0,0,0,0,0,0,0,0,0,0]
[{"$f":"'Mode Strength'!A695","v":553.48060873321845},0,0,0,0,0,0,0,0,0,0,0,0,0]
[{"$f":"'Mode Strength'!A696","v":553.60346671856712},0,0,0,0,0,0,0,0,0,0,0,0,0]
[{"$f":"'Mode Strength'!A697","v":553.97526958714172},0,0,0,0,0,0,0,0,0,0,0,0,0]
[{"$f":"'Mode Strength'!A698","v":554.25144876179934},0,0,0,0,0,0,0,0,0,0,0,0,0]
[{"$f":"'Mode Strength'!A699","v":555.17974076573773},0,0,0,0,0,0,0,0,0,0,0,0,0]
[{"$f":"'Mode Strength'!A700","v":555.54835525916769},0,0,0,0,0,0,0,0,0,0,0,0,0]
[{"$f":"'Mode Strength'!A701","v":555.5496430199114},0,0,0,0,0,0,0,0,0,0,0,0,0]
[{"$f":"'Mode Strength'!A702","v":555.90596897587284},0,0,0,0,0,0,0,0,0,0,0,0,0]
[{"$f":"'Mode Strength'!A703","v":556.66660272347497},0,0,0,0,0,0,0,0,0,0,0,0,0]
[{"$f":"'Mode Strength'!A704","v":557.06566966929483},0,0,0,0,0,0,0,0,0,0,0,0,0]
[{"$f":"'Mode Strength'!A705","v":558.35603954888222},0,0,0,0,0,0,0,0,0,0,0,0,0]
[{"$f":"'Mode Strength'!A706","v":559.22195778470416},0,0,0,0,0,0,0,0,0,0,0,0,0]
[{"$f":"'Mode Strength'!A707","v":559.27230658338101},{"$f":"IF((AND($A707>=14.1,$A707<17.8)),1,0)","v":0},{"$f":"IF((AND($A707>=17.8,$A707<22.4)),1,0)","v":0},{"$f":"IF((AND($A707>=22.4,$A707<28.2)),1,0)","v":0},{"$f":"IF((AND($A707>=28.2,$A707<35.5)),1,0)","v":0},{"$f":"IF((AND($A707>=35.5,$A707<44.7)),1,0)","v":0},{"$f":"IF((AND($A707>=44.7,$A707<56.2)),1,0)","v":0},{"$f":"IF((AND($A707>=56.2,$A707<70.8)),1,0)","v":0},{"$f":"IF((AND($A707>=70.8,$A707<89.1)),1,0)","v":0},{"$f":"IF((AND($A707>=89.1,$A707<112)),1,0)","v":0},{"$f":"IF((AND($A707>=112,$A707<141)),1,0)","v":0},{"$f":"IF((AND($A707>=141,$A707<178)),1,0)","v":0},{"$f":"IF((AND($A707>=178,$A707<224)),1,0)","v":0},{"$f":"IF((AND($A707>=224,$A707<282)),1,0)","v":0}]
[{"$f":"'Mode Strength'!A708","v":559.47877135310978},0,0,0,0,0,0,0,0,0,0,0,0,0]
[{"$f":"'Mode Strength'!A709","v":559.63356994336266},0,0,0,0,0,0,0,0,0,0,0,0,0]
[{"$f":"'Mode Strength'!A710","v":560.24621863584673},0,0,0,0,0,0,0,0,0,0,0,0,0]
[{"$f":"'Mode Strength'!A711","v":561.05800824523033},0,0,0,0,0,0,0,0,0,0,0,0,0]
[{"$f":"'Mode Strength'!A712","v":561.31525631388047},0,0,0,0,0,0,0,0,0,0,0,0,0]
[{"$f":"'Mode Strength'!A713","v":562.41212725121341},0,0,0,0,0,0,0,0,0,0,0,0,0]
[{"$f":"'Mode Strength'!A714","v":562.73426137842603},0,0,0,0,0,0,0,0,0,0,0,0,0]
[{"$f":"'Mode Strength'!A715","v":562.93511275237415},0,0,0,0,0,0,0,0,0,0,0,0,0]
[{"$f":"'Mode Strength'!A716","v":562.99074351514435},0,0,0,0,0,0,0,0,0,0,0,0,0]
[{"$f":"'Mode Strength'!A717","v":563.39395438695135},0,0,0,0,0,0,0,0,0,0,0,0,0]
[{"$f":"'Mode Strength'!A718","v":563.96294862751381},0,0,0,0,0,0,0,0,0,0,0,0,0]
[{"$f":"'Mode Strength'!A719","v":565.64718628473429},0,0,0,0,0,0,0,0,0,0,0,0,0]
[{"$f":"'Mode Strength'!A720","v":566.54299198238721},0,0,0,0,0,0,0,0,0,0,0,0,0]
[{"$f":"'Mode Strength'!A721","v":566.59938039303086},0,0,0,0,0,0,0,0,0,0,0,0,0]
[{"$f":"'Mode Strength'!A722","v":567.00689874916532},0,0,0,0,0,0,0,0,0,0,0,0,0]
[{"$f":"'Mode Strength'!A723","v":567.27001366490799},0,0,0,0,0,0,0,0,0,0,0,0,0]
[{"$f":"'Mode Strength'!A724","v":567.64228924044085},0,0,0,0,0,0,0,0,0,0,0,0,0]
[{"$f":"'Mode Strength'!A725","v":567.73332636738519},0,0,0,0,0,0,0,0,0,0,0,0,0]
[{"$f":"'Mode Strength'!A726","v":567.98755111603316},0,0,0,0,0,0,0,0,0,0,0,0,0]
[{"$f":"'Mode Strength'!A727","v":568.0825365294728},0,0,0,0,0,0,0,0,0,0,0,0,0]
[{"$f":"'Mode Strength'!A728","v":568.40932819224815},0,0,0,0,0,0,0,0,0,0,0,0,0]
[{"$f":"'Mode Strength'!A729","v":568.54518709997967},0,0,0,0,0,0,0,0,0,0,0,0,0]
[{"$f":"'Mode Strength'!A730","v":568.59003426093716},0,0,0,0,0,0,0,0,0,0,0,0,0]
[{"$f":"'Mode Strength'!A731","v":568.83711849909639},0,0,0,0,0,0,0,0,0,0,0,0,0]
[{"$f":"'Mode Strength'!A732","v":570.04986087744123},0,0,0,0,0,0,0,0,0,0,0,0,0]
[{"$f":"'Mode Strength'!A733","v":571.17570419654157},0,0,0,0,0,0,0,0,0,0,0,0,0]
[{"$f":"'Mode Strength'!A734","v":571.69183080122366},0,0,0,0,0,0,0,0,0,0,0,0,0]
[{"$f":"'Mode Strength'!A735","v":572.08041667344264},0,0,0,0,0,0,0,0,0,0,0,0,0]
[{"$f":"'Mode Strength'!A736","v":572.10354201713335},0,0,0,0,0,0,0,0,0,0,0,0,0]
[{"$f":"'Mode Strength'!A737","v":572.67633786107649},0,0,0,0,0,0,0,0,0,0,0,0,0]
[{"$f":"'Mode Strength'!A738","v":573.13528020072613},0,0,0,0,0,0,0,0,0,0,0,0,0]
[{"$f":"'Mode Strength'!A739","v":573.7475255733724},0,0,0,0,0,0,0,0,0,0,0,0,0]
[{"$f":"'Mode Strength'!A740","v":574.01543800699244},0,0,0,0,0,0,0,0,0,0,0,0,0]
[{"$f":"'Mode Strength'!A741","v":575.53499425818063},0,0,0,0,0,0,0,0,0,0,0,0,0]
[{"$f":"'Mode Strength'!A742","v":575.96868962927556},0,0,0,0,0,0,0,0,0,0,0,0,0]
[{"$f":"'Mode Strength'!A743","v":576.21928099281536},0,0,0,0,0,0,0,0,0,0,0,0,0]
[{"$f":"'Mode Strength'!A744","v":576.54540550333411},0,0,0,0,0,0,0,0,0,0,0,0,0]
[{"$f":"'Mode Strength'!A745","v":576.72974613606516},0,0,0,0,0,0,0,0,0,0,0,0,0]
[{"$f":"'Mode Strength'!A746","v":578.65145298410937},0,0,0,0,0,0,0,0,0,0,0,0,0]
[{"$f":"'Mode Strength'!A747","v":579.80385444967078},0,0,0,0,0,0,0,0,0,0,0,0,0]
[{"$f":"'Mode Strength'!A748","v":580.0697796403274},0,0,0,0,0,0,0,0,0,0,0,0,0]
[{"$f":"'Mode Strength'!A749","v":580.25185968939149},0,0,0,0,0,0,0,0,0,0,0,0,0]
[{"$f":"'Mode Strength'!A750","v":580.42258719525444},0,0,0,0,0,0,0,0,0,0,0,0,0]
[{"$f":"'Mode Strength'!A751","v":580.70481497727246},0,0,0,0,0,0,0,0,0,0,0,0,0]
[{"$f":"'Mode Strength'!A752","v":582.38441887750412},0,0,0,0,0,0,0,0,0,0,0,0,0]
[{"$f":"'Mode Strength'!A753","v":582.42475374579953},0,0,0,0,0,0,0,0,0,0,0,0,0]
[{"$f":"'Mode Strength'!A754","v":583.11051405027774},0,0,0,0,0,0,0,0,0,0,0,0,0]
[{"$f":"'Mode Strength'!A755","v":583.67636819990594},0,0,0,0,0,0,0,0,0,0,0,0,0]
[{"$f":"'Mode Strength'!A756","v":583.94193786469475},0,0,0,0,0,0,0,0,0,0,0,0,0]
[{"$f":"'Mode Strength'!A757","v":585.55268517033778},0,0,0,0,0,0,0,0,0,0,0,0,0]
[{"$f":"'Mode Strength'!A758","v":585.68227026024272},0,0,0,0,0,0,0,0,0,0,0,0,0]
[{"$f":"'Mode Strength'!A759","v":586.73358997564617},0,0,0,0,0,0,0,0,0,0,0,0,0]
[{"$f":"'Mode Strength'!A760","v":587.28824439980883},0,0,0,0,0,0,0,0,0,0,0,0,0]
[{"$f":"'Mode Strength'!A761","v":587.30422578454943},0,0,0,0,0,0,0,0,0,0,0,0,0]
[{"$f":"'Mode Strength'!A762","v":587.54998253680628},0,0,0,0,0,0,0,0,0,0,0,0,0]
[{"$f":"'Mode Strength'!A763","v":588.45913407187061},0,0,0,0,0,0,0,0,0,0,0,0,0]
[{"$f":"'Mode Strength'!A764","v":588.5979662617932},0,0,0,0,0,0,0,0,0,0,0,0,0]
[{"$f":"'Mode Strength'!A765","v":589.9130161171687},0,0,0,0,0,0,0,0,0,0,0,0,0]
[{"$f":"'Mode Strength'!A766","v":590.07997121824405},0,0,0,0,0,0,0,0,0,0,0,0,0]
[{"$f":"'Mode Strength'!A767","v":590.3585588853997},0,0,0,0,0,0,0,0,0,0,0,0,0]
[{"$f":"'Mode Strength'!A768","v":590.69439348179856},0,0,0,0,0,0,0,0,0,0,0,0,0]
[{"$f":"'Mode Strength'!A769","v":591.00868230258072},0,0,0,0,0,0,0,0,0,0,0,0,0]
[{"$f":"'Mode Strength'!A770","v":591.13934732482574},0,0,0,0,0,0,0,0,0,0,0,0,0]
[{"$f":"'Mode Strength'!A771","v":591.39938106529382},{"$f":"IF((AND($A771>=14.1,$A771<17.8)),1,0)","v":0},{"$f":"IF((AND($A771>=17.8,$A771<22.4)),1,0)","v":0},{"$f":"IF((AND($A771>=22.4,$A771<28.2)),1,0)","v":0},{"$f":"IF((AND($A771>=28.2,$A771<35.5)),1,0)","v":0},{"$f":"IF((AND($A771>=35.5,$A771<44.7)),1,0)","v":0},{"$f":"IF((AND($A771>=44.7,$A771<56.2)),1,0)","v":0},{"$f":"IF((AND($A771>=56.2,$A771<70.8)),1,0)","v":0},{"$f":"IF((AND($A771>=70.8,$A771<89.1)),1,0)","v":0},{"$f":"IF((AND($A771>=89.1,$A771<112)),1,0)","v":0},{"$f":"IF((AND($A771>=112,$A771<141)),1,0)","v":0},{"$f":"IF((AND($A771>=141,$A771<178)),1,0)","v":0},{"$f":"IF((AND($A771>=178,$A771<224)),1,0)","v":0},{"$f":"IF((AND($A771>=224,$A771<282)),1,0)","v":0}]
[{"$f":"'Mode Strength'!A772","v":592.08003086513816},0,0,0,0,0,0,0,0,0,0,0,0,0]
[{"$f":"'Mode Strength'!A773","v":592.22510005372601},0,0,0,0,0,0,0,0,0,0,0,0,0]
[{"$f":"'Mode Strength'!A774","v":592.87438338135109},0,0,0,0,0,0,0,0,0,0,0,0,0]
[{"$f":"'Mode Strength'!A775","v":593.15434085710058},0,0,0,0,0,0,0,0,0,0,0,0,0]
[{"$f":"'Mode Strength'!A776","v":594.50382006269558},0,0,0,0,0,0,0,0,0,0,0,0,0]
[{"$f":"'Mode Strength'!A777","v":595.91365959949644},0,0,0,0,0,0,0,0,0,0,0,0,0]
[{"$f":"'Mode Strength'!A778","v":597.27753524306547},0,0,0,0,0,0,0,0,0,0,0,0,0]
[{"$f":"'Mode Strength'!A779","v":597.47109922835511},0,0,0,0,0,0,0,0,0,0,0,0,0]
[{"$f":"'Mode Strength'!A780","v":597.86505818356204},0,0,0,0,0,0,0,0,0,0,0,0,0]
[{"$f":"'Mode Strength'!A781","v":598.28256669765551},0,0,0,0,0,0,0,0,0,0,0,0,0]
[{"$f":"'Mode Strength'!A782","v":599.91080569905012},0,0,0,0,0,0,0,0,0,0,0,0,0]
[{"$f":"'Mode Strength'!A783","v":599.98130347065955},0,0,0,0,0,0,0,0,0,0,0,0,0]
[{"$f":"'Mode Strength'!A784","v":601.56470677853827},0,0,0,0,0,0,0,0,0,0,0,0,0]
[{"$f":"'Mode Strength'!A785","v":601.80464005868305},0,0,0,0,0,0,0,0,0,0,0,0,0]
[{"$f":"'Mode Strength'!A786","v":601.86260367017599},0,0,0,0,0,0,0,0,0,0,0,0,0]
[{"$f":"'Mode Strength'!A787","v":603.42551653842168},0,0,0,0,0,0,0,0,0,0,0,0,0]
[{"$f":"'Mode Strength'!A788","v":603.85521890555174},0,0,0,0,0,0,0,0,0,0,0,0,0]
[{"$f":"'Mode Strength'!A789","v":604.29048218904029},0,0,0,0,0,0,0,0,0,0,0,0,0]
[{"$f":"'Mode Strength'!A790","v":604.54485923962216},0,0,0,0,0,0,0,0,0,0,0,0,0]
[{"$f":"'Mode Strength'!A791","v":605.94465863700327},0,0,0,0,0,0,0,0,0,0,0,0,0]
[{"$f":"'Mode Strength'!A792","v":607.38316164323703},0,0,0,0,0,0,0,0,0,0,0,0,0]
[{"$f":"'Mode Strength'!A793","v":607.38433950515969},0,0,0,0,0,0,0,0,0,0,0,0,0]
[{"$f":"'Mode Strength'!A794","v":608.09015363572053},0,0,0,0,0,0,0,0,0,0,0,0,0]
[{"$f":"'Mode Strength'!A795","v":608.83815424877423},0,0,0,0,0,0,0,0,0,0,0,0,0]
[{"$f":"'Mode Strength'!A796","v":609.20304645122962},0,0,0,0,0,0,0,0,0,0,0,0,0]
[{"$f":"'Mode Strength'!A797","v":610.31651677935577},0,0,0,0,0,0,0,0,0,0,0,0,0]
[{"$f":"'Mode Strength'!A798","v":610.38320617631007},0,0,0,0,0,0,0,0,0,0,0,0,0]
[{"$f":"'Mode Strength'!A799","v":610.87141585236736},0,0,0,0,0,0,0,0,0,0,0,0,0]
[{"$f":"'Mode Strength'!A800","v":611.68305151633308},0,0,0,0,0,0,0,0,0,0,0,0,0]
[{"$f":"'Mode Strength'!A801","v":611.87945758457499},0,0,0,0,0,0,0,0,0,0,0,0,0]
[{"$f":"'Mode Strength'!A802","v":611.99718722219791},0,0,0,0,0,0,0,0,0,0,0,0,0]
[{"$f":"'Mode Strength'!A803","v":614.56739081758496},0,0,0,0,0,0,0,0,0,0,0,0,0]
[{"$f":"'Mode Strength'!A804","v":614.57475757704788},0,0,0,0,0,0,0,0,0,0,0,0,0]
[{"$f":"'Mode Strength'!A805","v":614.9950725990617},0,0,0,0,0,0,0,0,0,0,0,0,0]
[{"$f":"'Mode Strength'!A806","v":615.52363636363634},0,0,0,0,0,0,0,0,0,0,0,0,0]
[{"$f":"'Mode Strength'!A807","v":615.61917922439034},0,0,0,0,0,0,0,0,0,0,0,0,0]
[{"$f":"'Mode Strength'!A808","v":615.78603143770886},0,0,0,0,0,0,0,0,0,0,0,0,0]
[{"$f":"'Mode Strength'!A809","v":616.9409643294232},0,0,0,0,0,0,0,0,0,0,0,0,0]
[{"$f":"'Mode Strength'!A810","v":617.05194857105164},0,0,0,0,0,0,0,0,0,0,0,0,0]
[{"$f":"'Mode Strength'!A811","v":617.5072371060395},0,0,0,0,0,0,0,0,0,0,0,0,0]
[{"$f":"'Mode Strength'!A812","v":617.88118052398579},0,0,0,0,0,0,0,0,0,0,0,0,0]
[{"$f":"'Mode Strength'!A813","v":618.46577413850184},0,0,0,0,0,0,0,0,0,0,0,0,0]
[{"$f":"'Mode Strength'!A814","v":618.54786385917134},0,0,0,0,0,0,0,0,0,0,0,0,0]
[{"$f":"'Mode Strength'!A815","v":618.78121193145182},0,0,0,0,0,0,0,0,0,0,0,0,0]
[{"$f":"'Mode Strength'!A816","v":619.29311298537698},0,0,0,0,0,0,0,0,0,0,0,0,0]
[{"$f":"'Mode Strength'!A817","v":619.56113289886343},0,0,0,0,0,0,0,0,0,0,0,0,0]
[{"$f":"'Mode Strength'!A818","v":619.98536987876912},0,0,0,0,0,0,0,0,0,0,0,0,0]
[{"$f":"'Mode Strength'!A819","v":620.44103570516984},0,0,0,0,0,0,0,0,0,0,0,0,0]
[{"$f":"'Mode Strength'!A820","v":621.17354507732591},0,0,0,0,0,0,0,0,0,0,0,0,0]
[{"$f":"'Mode Strength'!A821","v":621.61434038669427},0,0,0,0,0,0,0,0,0,0,0,0,0]
[{"$f":"'Mode Strength'!A822","v":621.95726468940097},0,0,0,0,0,0,0,0,0,0,0,0,0]
[{"$f":"'Mode Strength'!A823","v":622.60560621168031},0,0,0,0,0,0,0,0,0,0,0,0,0]
[{"$f":"'Mode Strength'!A824","v":622.68799042293278},0,0,0,0,0,0,0,0,0,0,0,0,0]
[{"$f":"'Mode Strength'!A825","v":622.96243435910219},0,0,0,0,0,0,0,0,0,0,0,0,0]
[{"$f":"'Mode Strength'!A826","v":623.01781252207365},0,0,0,0,0,0,0,0,0,0,0,0,0]
[{"$f":"'Mode Strength'!A827","v":623.50972681052292},0,0,0,0,0,0,0,0,0,0,0,0,0]
[{"$f":"'Mode Strength'!A828","v":624.59405178294469},0,0,0,0,0,0,0,0,0,0,0,0,0]
[{"$f":"'Mode Strength'!A829","v":625.8257052885773},0,0,0,0,0,0,0,0,0,0,0,0,0]
[{"$f":"'Mode Strength'!A830","v":626.40143574622118},0,0,0,0,0,0,0,0,0,0,0,0,0]
[{"$f":"'Mode Strength'!A831","v":626.48393438217943},0,0,0,0,0,0,0,0,0,0,0,0,0]
[{"$f":"'Mode Strength'!A832","v":627.2093863742823},0,0,0,0,0,0,0,0,0,0,0,0,0]
[{"$f":"'Mode Strength'!A833","v":627.2197541096341},0,0,0,0,0,0,0,0,0,0,0,0,0]
[{"$f":"'Mode Strength'!A834","v":627.23471807572093},0,0,0,0,0,0,0,0,0,0,0,0,0]
[{"$f":"'Mode Strength'!A835","v":628.16447355048342},{"$f":"IF((AND($A835>=14.1,$A835<17.8)),1,0)","v":0},{"$f":"IF((AND($A835>=17.8,$A835<22.4)),1,0)","v":0},{"$f":"IF((AND($A835>=22.4,$A835<28.2)),1,0)","v":0},{"$f":"IF((AND($A835>=28.2,$A835<35.5)),1,0)","v":0},{"$f":"IF((AND($A835>=35.5,$A835<44.7)),1,0)","v":0},{"$f":"IF((AND($A835>=44.7,$A835<56.2)),1,0)","v":0},{"$f":"IF((AND($A835>=56.2,$A835<70.8)),1,0)","v":0},{"$f":"IF((AND($A835>=70.8,$A835<89.1)),1,0)","v":0},{"$f":"IF((AND($A835>=89.1,$A835<112)),1,0)","v":0},{"$f":"IF((AND($A835>=112,$A835<141)),1,0)","v":0},{"$f":"IF((AND($A835>=141,$A835<178)),1,0)","v":0},{"$f":"IF((AND($A835>=178,$A835<224)),1,0)","v":0},{"$f":"IF((AND($A835>=224,$A835<282)),1,0)","v":0}]
[{"$f":"'Mode Strength'!A836","v":628.58399125112078},0,0,0,0,0,0,0,0,0,0,0,0,0]
[{"$f":"'Mode Strength'!A837","v":629.14480824328018},0,0,0,0,0,0,0,0,0,0,0,0,0]
[{"$f":"'Mode Strength'!A838","v":629.66210473870331},0,0,0,0,0,0,0,0,0,0,0,0,0]
[{"$f":"'Mode Strength'!A839","v":630.47475140116148},0,0,0,0,0,0,0,0,0,0,0,0,0]
[{"$f":"'Mode Strength'!A840","v":630.53151886712089},0,0,0,0,0,0,0,0,0,0,0,0,0]
[{"$f":"'Mode Strength'!A841","v":631.38343309083086},0,0,0,0,0,0,0,0,0,0,0,0,0]
[{"$f":"'Mode Strength'!A842","v":633.04238037350399},0,0,0,0,0,0,0,0,0,0,0,0,0]
[{"$f":"'Mode Strength'!A843","v":633.10667590646858},0,0,0,0,0,0,0,0,0,0,0,0,0]
[{"$f":"'Mode Strength'!A844","v":633.9565612911216},0,0,0,0,0,0,0,0,0,0,0,0,0]
[{"$f":"'Mode Strength'!A845","v":634.13377696116061},0,0,0,0,0,0,0,0,0,0,0,0,0]
[{"$f":"'Mode Strength'!A846","v":634.17817837384223},0,0,0,0,0,0,0,0,0,0,0,0,0]
[{"$f":"'Mode Strength'!A847","v":634.6734718901464},0,0,0,0,0,0,0,0,0,0,0,0,0]
[{"$f":"'Mode Strength'!A848","v":637.62409183560794},0,0,0,0,0,0,0,0,0,0,0,0,0]
[{"$f":"'Mode Strength'!A849","v":637.823056692676},0,0,0,0,0,0,0,0,0,0,0,0,0]
[{"$f":"'Mode Strength'!A850","v":638.03631867941078},0,0,0,0,0,0,0,0,0,0,0,0,0]
[{"$f":"'Mode Strength'!A851","v":638.26254183414767},0,0,0,0,0,0,0,0,0,0,0,0,0]
[{"$f":"'Mode Strength'!A852","v":639.29806190994066},0,0,0,0,0,0,0,0,0,0,0,0,0]
[{"$f":"'Mode Strength'!A853","v":639.37747697726581},0,0,0,0,0,0,0,0,0,0,0,0,0]
[{"$f":"'Mode Strength'!A854","v":639.53851481407912},0,0,0,0,0,0,0,0,0,0,0,0,0]
[{"$f":"'Mode Strength'!A855","v":639.79106083321221},0,0,0,0,0,0,0,0,0,0,0,0,0]
[{"$f":"'Mode Strength'!A856","v":640.09847521470397},0,0,0,0,0,0,0,0,0,0,0,0,0]
[{"$f":"'Mode Strength'!A857","v":640.90273714191812},0,0,0,0,0,0,0,0,0,0,0,0,0]
[{"$f":"'Mode Strength'!A858","v":640.96731037224595},0,0,0,0,0,0,0,0,0,0,0,0,0]
[{"$f":"'Mode Strength'!A859","v":641.10131738299674},0,0,0,0,0,0,0,0,0,0,0,0,0]
[{"$f":"'Mode Strength'!A860","v":641.20915228026331},0,0,0,0,0,0,0,0,0,0,0,0,0]
[{"$f":"'Mode Strength'!A861","v":641.5173019086202},0,0,0,0,0,0,0,0,0,0,0,0,0]
[{"$f":"'Mode Strength'!A862","v":642.36925794980289},0,0,0,0,0,0,0,0,0,0,0,0,0]
[{"$f":"'Mode Strength'!A863","v":642.67638612367864},0,0,0,0,0,0,0,0,0,0,0,0,0]
[{"$f":"'Mode Strength'!A864","v":643.70279858088202},0,0,0,0,0,0,0,0,0,0,0,0,0]
[{"$f":"'Mode Strength'!A865","v":644.2726470953022},0,0,0,0,0,0,0,0,0,0,0,0,0]
[{"$f":"'Mode Strength'!A866","v":644.97809118776797},0,0,0,0,0,0,0,0,0,0,0,0,0]
[{"$f":"'Mode Strength'!A867","v":646.35741342890003},0,0,0,0,0,0,0,0,0,0,0,0,0]
[{"$f":"'Mode Strength'!A868","v":647.05812584345529},0,0,0,0,0,0,0,0,0,0,0,0,0]
[{"$f":"'Mode Strength'!A869","v":647.77057522429948},0,0,0,0,0,0,0,0,0,0,0,0,0]
[{"$f":"'Mode Strength'!A870","v":648.00788428476039},0,0,0,0,0,0,0,0,0,0,0,0,0]
[{"$f":"'Mode Strength'!A871","v":649.35431363826035},0,0,0,0,0,0,0,0,0,0,0,0,0]
[{"$f":"'Mode Strength'!A872","v":650.03039202596563},0,0,0,0,0,0,0,0,0,0,0,0,0]
[{"$f":"'Mode Strength'!A873","v":650.97779875042465},0,0,0,0,0,0,0,0,0,0,0,0,0]
[{"$f":"'Mode Strength'!A874","v":651.47775930606281},0,0,0,0,0,0,0,0,0,0,0,0,0]
[{"$f":"'Mode Strength'!A875","v":651.71371846788679},0,0,0,0,0,0,0,0,0,0,0,0,0]
[{"$f":"'Mode Strength'!A876","v":652.2632266813996},0,0,0,0,0,0,0,0,0,0,0,0,0]
[{"$f":"'Mode Strength'!A877","v":652.65868166121709},0,0,0,0,0,0,0,0,0,0,0,0,0]
[{"$f":"'Mode Strength'!A878","v":653.37695419782767},0,0,0,0,0,0,0,0,0,0,0,0,0]
[{"$f":"'Mode Strength'!A879","v":653.99553614161812},0,0,0,0,0,0,0,0,0,0,0,0,0]
[{"$f":"'Mode Strength'!A880","v":654.29581978271381},0,0,0,0,0,0,0,0,0,0,0,0,0]
[{"$f":"'Mode Strength'!A881","v":655.78499903953457},0,0,0,0,0,0,0,0,0,0,0,0,0]
[{"$f":"'Mode Strength'!A882","v":655.80069518833352},0,0,0,0,0,0,0,0,0,0,0,0,0]
[{"$f":"'Mode Strength'!A883","v":656.07801869962941},0,0,0,0,0,0,0,0,0,0,0,0,0]
[{"$f":"'Mode Strength'!A884","v":657.298323908062},0,0,0,0,0,0,0,0,0,0,0,0,0]
[{"$f":"'Mode Strength'!A885","v":657.84996820723018},0,0,0,0,0,0,0,0,0,0,0,0,0]
[{"$f":"'Mode Strength'!A886","v":657.98980305881366},0,0,0,0,0,0,0,0,0,0,0,0,0]
[{"$f":"'Mode Strength'!A887","v":658.24952877692579},0,0,0,0,0,0,0,0,0,0,0,0,0]
[{"$f":"'Mode Strength'!A888","v":659.7938898133732},0,0,0,0,0,0,0,0,0,0,0,0,0]
[{"$f":"'Mode Strength'!A889","v":659.80811502227004},0,0,0,0,0,0,0,0,0,0,0,0,0]
[{"$f":"'Mode Strength'!A890","v":660.02687597086026},0,0,0,0,0,0,0,0,0,0,0,0,0]
[{"$f":"'Mode Strength'!A891","v":661.02830246296764},0,0,0,0,0,0,0,0,0,0,0,0,0]
[{"$f":"'Mode Strength'!A892","v":662.19277354686778},0,0,0,0,0,0,0,0,0,0,0,0,0]
[{"$f":"'Mode Strength'!A893","v":662.9429488082593},0,0,0,0,0,0,0,0,0,0,0,0,0]
[{"$f":"'Mode Strength'!A894","v":663.96151111329721},0,0,0,0,0,0,0,0,0,0,0,0,0]
[{"$f":"'Mode Strength'!A895","v":664.29612521544766},0,0,0,0,0,0,0,0,0,0,0,0,0]
[{"$f":"'Mode Strength'!A896","v":664.59357027915928},0,0,0,0,0,0,0,0,0,0,0,0,0]
[{"$f":"'Mode Strength'!A897","v":664.64605810678052},0,0,0,0,0,0,0,0,0,0,0,0,0]
[{"$f":"'Mode Strength'!A898","v":665.37857536358274},0,0,0,0,0,0,0,0,0,0,0,0,0]
[{"$f":"'Mode Strength'!A899","v":666.06166596637263},{"$f":"IF((AND($A899>=14.1,$A899<17.8)),1,0)","v":0},{"$f":"IF((AND($A899>=17.8,$A899<22.4)),1,0)","v":0},{"$f":"IF((AND($A899>=22.4,$A899<28.2)),1,0)","v":0},{"$f":"IF((AND($A899>=28.2,$A899<35.5)),1,0)","v":0},{"$f":"IF((AND($A899>=35.5,$A899<44.7)),1,0)","v":0},{"$f":"IF((AND($A899>=44.7,$A899<56.2)),1,0)","v":0},{"$f":"IF((AND($A899>=56.2,$A899<70.8)),1,0)","v":0},{"$f":"IF((AND($A899>=70.8,$A899<89.1)),1,0)","v":0},{"$f":"IF((AND($A899>=89.1,$A899<112)),1,0)","v":0},{"$f":"IF((AND($A899>=112,$A899<141)),1,0)","v":0},{"$f":"IF((AND($A899>=141,$A899<178)),1,0)","v":0},{"$f":"IF((AND($A899>=178,$A899<224)),1,0)","v":0},{"$f":"IF((AND($A899>=224,$A899<282)),1,0)","v":0}]
[{"$f":"'Mode Strength'!A900","v":666.8299549962361},0,0,0,0,0,0,0,0,0,0,0,0,0]
[{"$f":"'Mode Strength'!A901","v":668.34475997867526},0,0,0,0,0,0,0,0,0,0,0,0,0]
[{"$f":"'Mode Strength'!A902","v":669.22576371631567},0,0,0,0,0,0,0,0,0,0,0,0,0]
[{"$f":"'Mode Strength'!A903","v":669.61177520405374},0,0,0,0,0,0,0,0,0,0,0,0,0]
[{"$f":"'Mode Strength'!A904","v":669.65030033320954},0,0,0,0,0,0,0,0,0,0,0,0,0]
[{"$f":"'Mode Strength'!A905","v":670.29055178254828},0,0,0,0,0,0,0,0,0,0,0,0,0]
[{"$f":"'Mode Strength'!A906","v":672.26344792537486},0,0,0,0,0,0,0,0,0,0,0,0,0]
[{"$f":"'Mode Strength'!A907","v":672.81474089508072},0,0,0,0,0,0,0,0,0,0,0,0,0]
[{"$f":"'Mode Strength'!A908","v":672.87625166559633},0,0,0,0,0,0,0,0,0,0,0,0,0]
[{"$f":"'Mode Strength'!A909","v":673.55173845263869},0,0,0,0,0,0,0,0,0,0,0,0,0]
[{"$f":"'Mode Strength'!A910","v":673.56139286773112},0,0,0,0,0,0,0,0,0,0,0,0,0]
[{"$f":"'Mode Strength'!A911","v":673.73010877816091},0,0,0,0,0,0,0,0,0,0,0,0,0]
[{"$f":"'Mode Strength'!A912","v":674.19793016184281},0,0,0,0,0,0,0,0,0,0,0,0,0]
[{"$f":"'Mode Strength'!A913","v":676.60825523859296},0,0,0,0,0,0,0,0,0,0,0,0,0]
[{"$f":"'Mode Strength'!A914","v":676.93661800305767},0,0,0,0,0,0,0,0,0,0,0,0,0]
[{"$f":"'Mode Strength'!A915","v":677.280019913508},0,0,0,0,0,0,0,0,0,0,0,0,0]
[{"$f":"'Mode Strength'!A916","v":677.44030703681324},0,0,0,0,0,0,0,0,0,0,0,0,0]
[{"$f":"'Mode Strength'!A917","v":679.37386381160627},0,0,0,0,0,0,0,0,0,0,0,0,0]
[{"$f":"'Mode Strength'!A918","v":680.00439491197039},0,0,0,0,0,0,0,0,0,0,0,0,0]
[{"$f":"'Mode Strength'!A919","v":680.04580135615356},0,0,0,0,0,0,0,0,0,0,0,0,0]
[{"$f":"'Mode Strength'!A920","v":680.43232830820432},0,0,0,0,0,0,0,0,0,0,0,0,0]
[{"$f":"'Mode Strength'!A921","v":680.8703119760238},0,0,0,0,0,0,0,0,0,0,0,0,0]
[{"$f":"'Mode Strength'!A922","v":681.51512649914275},0,0,0,0,0,0,0,0,0,0,0,0,0]
[{"$f":"'Mode Strength'!A923","v":682.89576654139557},0,0,0,0,0,0,0,0,0,0,0,0,0]
[{"$f":"'Mode Strength'!A924","v":683.64513745842066},0,0,0,0,0,0,0,0,0,0,0,0,0]
[{"$f":"'Mode Strength'!A925","v":683.85627314893816},0,0,0,0,0,0,0,0,0,0,0,0,0]
[{"$f":"'Mode Strength'!A926","v":685.29812372636354},0,0,0,0,0,0,0,0,0,0,0,0,0]
[{"$f":"'Mode Strength'!A927","v":686.28350792375682},0,0,0,0,0,0,0,0,0,0,0,0,0]
[{"$f":"'Mode Strength'!A928","v":686.42086380017895},0,0,0,0,0,0,0,0,0,0,0,0,0]
[{"$f":"'Mode Strength'!A929","v":686.94581122907061},0,0,0,0,0,0,0,0,0,0,0,0,0]
[{"$f":"'Mode Strength'!A930","v":687.02103963358616},0,0,0,0,0,0,0,0,0,0,0,0,0]
[{"$f":"'Mode Strength'!A931","v":687.69208866002566},0,0,0,0,0,0,0,0,0,0,0,0,0]
[{"$f":"'Mode Strength'!A932","v":688.93658845892901},0,0,0,0,0,0,0,0,0,0,0,0,0]
[{"$f":"'Mode Strength'!A933","v":690.83379631049729},0,0,0,0,0,0,0,0,0,0,0,0,0]
[{"$f":"'Mode Strength'!A934","v":691.49174141258015},0,0,0,0,0,0,0,0,0,0,0,0,0]
[{"$f":"'Mode Strength'!A935","v":692.07264664673244},0,0,0,0,0,0,0,0,0,0,0,0,0]
[{"$f":"'Mode Strength'!A936","v":692.73880225016114},0,0,0,0,0,0,0,0,0,0,0,0,0]
[{"$f":"'Mode Strength'!A937","v":693.84199243365367},0,0,0,0,0,0,0,0,0,0,0,0,0]
[{"$f":"'Mode Strength'!A938","v":694.83757363126199},0,0,0,0,0,0,0,0,0,0,0,0,0]
[{"$f":"'Mode Strength'!A939","v":697.77851870692166},0,0,0,0,0,0,0,0,0,0,0,0,0]
[{"$f":"'Mode Strength'!A940","v":698.52623147974691},0,0,0,0,0,0,0,0,0,0,0,0,0]
[{"$f":"'Mode Strength'!A941","v":699.17693782212643},0,0,0,0,0,0,0,0,0,0,0,0,0]
[{"$f":"'Mode Strength'!A942","v":700.25344113832796},0,0,0,0,0,0,0,0,0,0,0,0,0]
[{"$f":"'Mode Strength'!A943","v":700.47481455667798},0,0,0,0,0,0,0,0,0,0,0,0,0]
[{"$f":"'Mode Strength'!A944","v":700.88840631172548},0,0,0,0,0,0,0,0,0,0,0,0,0]
[{"$f":"'Mode Strength'!A945","v":701.81815746048517},0,0,0,0,0,0,0,0,0,0,0,0,0]
[{"$f":"'Mode Strength'!A946","v":702.54734513170911},0,0,0,0,0,0,0,0,0,0,0,0,0]
[{"$f":"'Mode Strength'!A947","v":703.28019498307117},0,0,0,0,0,0,0,0,0,0,0,0,0]
[{"$f":"'Mode Strength'!A948","v":703.99453623705756},0,0,0,0,0,0,0,0,0,0,0,0,0]
[{"$f":"'Mode Strength'!A949","v":705.83284641640444},0,0,0,0,0,0,0,0,0,0,0,0,0]
[{"$f":"'Mode Strength'!A950","v":706.48602745323876},0,0,0,0,0,0,0,0,0,0,0,0,0]
[{"$f":"'Mode Strength'!A951","v":706.70362030730394},0,0,0,0,0,0,0,0,0,0,0,0,0]
[{"$f":"'Mode Strength'!A952","v":707.93842493599311},0,0,0,0,0,0,0,0,0,0,0,0,0]
[{"$f":"'Mode Strength'!A953","v":709.54452454080968},0,0,0,0,0,0,0,0,0,0,0,0,0]
[{"$f":"'Mode Strength'!A954","v":710.9906742145356},0,0,0,0,0,0,0,0,0,0,0,0,0]
[{"$f":"'Mode Strength'!A955","v":711.62998330387177},0,0,0,0,0,0,0,0,0,0,0,0,0]
[{"$f":"'Mode Strength'!A956","v":712.47372488069493},0,0,0,0,0,0,0,0,0,0,0,0,0]
[{"$f":"'Mode Strength'!A957","v":713.20422005796638},0,0,0,0,0,0,0,0,0,0,0,0,0]
[{"$f":"'Mode Strength'!A958","v":713.84154672134412},0,0,0,0,0,0,0,0,0,0,0,0,0]
[{"$f":"'Mode Strength'!A959","v":715.23204309691425},0,0,0,0,0,0,0,0,0,0,0,0,0]
[{"$f":"'Mode Strength'!A960","v":717.51179715115563},0,0,0,0,0,0,0,0,0,0,0,0,0]
[{"$f":"'Mode Strength'!A961","v":717.5261430047691},0,0,0,0,0,0,0,0,0,0,0,0,0]
[{"$f":"'Mode Strength'!A962","v":717.7403889040188},0,0,0,0,0,0,0,0,0,0,0,0,0]
[{"$f":"'Mode Strength'!A963","v":721.36029631529607},{"$f":"IF((AND($A963>=14.1,$A963<17.8)),1,0)","v":0},{"$f":"IF((AND($A963>=17.8,$A963<22.4)),1,0)","v":0},{"$f":"IF((AND($A963>=22.4,$A963<28.2)),1,0)","v":0},{"$f":"IF((AND($A963>=28.2,$A963<35.5)),1,0)","v":0},{"$f":"IF((AND($A963>=35.5,$A963<44.7)),1,0)","v":0},{"$f":"IF((AND($A963>=44.7,$A963<56.2)),1,0)","v":0},{"$f":"IF((AND($A963>=56.2,$A963<70.8)),1,0)","v":0},{"$f":"IF((AND($A963>=70.8,$A963<89.1)),1,0)","v":0},{"$f":"IF((AND($A963>=89.1,$A963<112)),1,0)","v":0},{"$f":"IF((AND($A963>=112,$A963<141)),1,0)","v":0},{"$f":"IF((AND($A963>=141,$A963<178)),1,0)","v":0},{"$f":"IF((AND($A963>=178,$A963<224)),1,0)","v":0},{"$f":"IF((AND($A963>=224,$A963<282)),1,0)","v":0}]
[{"$f":"'Mode Strength'!A964","v":721.66829695954948},0,0,0,0,0,0,0,0,0,0,0,0,0]
[{"$f":"'Mode Strength'!A965","v":722.66481678099535},0,0,0,0,0,0,0,0,0,0,0,0,0]
[{"$f":"'Mode Strength'!A966","v":723.37299052666617},0,0,0,0,0,0,0,0,0,0,0,0,0]
[{"$f":"'Mode Strength'!A967","v":726.20858689630268},0,0,0,0,0,0,0,0,0,0,0,0,0]
[{"$f":"'Mode Strength'!A968","v":726.56432499274479},0,0,0,0,0,0,0,0,0,0,0,0,0]
[{"$f":"'Mode Strength'!A969","v":729.00886982035547},0,0,0,0,0,0,0,0,0,0,0,0,0]
[{"$f":"'Mode Strength'!A970","v":729.18436420504111},0,0,0,0,0,0,0,0,0,0,0,0,0]
[{"$f":"'Mode Strength'!A971","v":729.57401195203056},0,0,0,0,0,0,0,0,0,0,0,0,0]
[{"$f":"'Mode Strength'!A972","v":730.17062634546107},0,0,0,0,0,0,0,0,0,0,0,0,0]
[{"$f":"'Mode Strength'!A973","v":730.20595644116509},0,0,0,0,0,0,0,0,0,0,0,0,0]
[{"$f":"'Mode Strength'!A974","v":730.79315671040035},0,0,0,0,0,0,0,0,0,0,0,0,0]
[{"$f":"'Mode Strength'!A975","v":733.01740764953968},0,0,0,0,0,0,0,0,0,0,0,0,0]
[{"$f":"'Mode Strength'!A976","v":733.16550937789054},0,0,0,0,0,0,0,0,0,0,0,0,0]
[{"$f":"'Mode Strength'!A977","v":733.32051222753626},0,0,0,0,0,0,0,0,0,0,0,0,0]
[{"$f":"'Mode Strength'!A978","v":733.78549894255241},0,0,0,0,0,0,0,0,0,0,0,0,0]
[{"$f":"'Mode Strength'!A979","v":736.95330285613534},0,0,0,0,0,0,0,0,0,0,0,0,0]
[{"$f":"'Mode Strength'!A980","v":739.71291132803265},0,0,0,0,0,0,0,0,0,0,0,0,0]
[{"$f":"'Mode Strength'!A981","v":741.95743955322382},0,0,0,0,0,0,0,0,0,0,0,0,0]
[{"$f":"'Mode Strength'!A982","v":746.16829400947631},0,0,0,0,0,0,0,0,0,0,0,0,0]
[{"$f":"'Mode Strength'!A983","v":747.31542008502117},0,0,0,0,0,0,0,0,0,0,0,0,0]
[{"$f":"'Mode Strength'!A984","v":747.93237461900696},0,0,0,0,0,0,0,0,0,0,0,0,0]
[{"$f":"'Mode Strength'!A985","v":749.27001025864456},0,0,0,0,0,0,0,0,0,0,0,0,0]
[{"$f":"'Mode Strength'!A986","v":749.87668492227317},0,0,0,0,0,0,0,0,0,0,0,0,0]
[{"$f":"'Mode Strength'!A987","v":750.8220576957043},0,0,0,0,0,0,0,0,0,0,0,0,0]
[{"$f":"'Mode Strength'!A988","v":753.29588139424709},0,0,0,0,0,0,0,0,0,0,0,0,0]
[{"$f":"'Mode Strength'!A989","v":758.36936641182206},0,0,0,0,0,0,0,0,0,0,0,0,0]
[{"$f":"'Mode Strength'!A990","v":763.52421125075159},0,0,0,0,0,0,0,0,0,0,0,0,0]
[{"$f":"'Mode Strength'!A991","v":764.86830741002643},0,0,0,0,0,0,0,0,0,0,0,0,0]
[{"$f":"'Mode Strength'!A992","v":766.92636437191993},0,0,0,0,0,0,0,0,0,0,0,0,0]
[{"$f":"'Mode Strength'!A993","v":770.34373729802667},0,0,0,0,0,0,0,0,0,0,0,0,0]
[{"$f":"'Mode Strength'!A994","v":770.93382849069462},0,0,0,0,0,0,0,0,0,0,0,0,0]
[{"$f":"'Mode Strength'!A995","v":781.80920041999286},0,0,0,0,0,0,0,0,0,0,0,0,0]
[{"$f":"'Mode Strength'!A996","v":782.7291565017631},0,0,0,0,0,0,0,0,0,0,0,0,0]
[{"$f":"'Mode Strength'!A997","v":785.52368073889431},0,0,0,0,0,0,0,0,0,0,0,0,0]
[{"$f":"'Mode Strength'!A998","v":800.57562861557801},0,0,0,0,0,0,0,0,0,0,0,0,0]
[{"$f":"'Mode Strength'!A999","v":802.02839799015237},0,0,0,0,0,0,0,0,0,0,0,0,0]
[{"$f":"'Mode Strength'!A1000","v":820.3324097306712},0,0,0,0,0,0,0,0,0,0,0,0,0]

{"sheet":"Ideal Rooms - IMPERIAL","index":6,"n_rows":409,"n_cols":25,"rows_kept":409,"cut":false,"hidden":false,"merged":[[213,2,213,4],[227,5,228,9],[21,19,22,20],[205,0,206,7],[209,2,210,4],[23,16,23,17],[17,1,18,7],[19,2,21,3],[23,0,23,8],[4,5,4,6],[5,5,5,6],[6,5,6,6],[7,5,7,6],[8,5,8,6],[14,5,14,6],[15,5,15,6],[9,5,9,6],[10,5,10,6],[11,5,11,6],[12,5,12,6],[13,5,13,6]]}
["Ideal Room Dimensions for Low Frequency Mode Response"]
["In the yellow boxes - Enter the room height in Inches & the spreadsheet will automatically calculate ideal widths and depths",null,null,null,null,null,null,null,null,null,null,null,null,null,null,null,null,null,null,null,null,null,null,null,2]
[null,null,null,null,null,null,null,null,null,null,null,null,null,null,null,null,null,null,null,null,null,null,null,null,3]
[null,"Dimensions","Height","Width","Length",null,null,"PHI - Golden Ratio",null,null,null,null,null,null,null,null,null,null,null,null,null,null,null,null,5]
[null,"A",1,1.1399999999999999,1.39,"L. W. Sepmeyer, 1965",null,{"$f":"((SQRT(5)+1)/2)","v":1.6180339887498949},null,null,null,null,null,null,null,null,null,null,null,null,null,null,null,null,7]
[null,"B",1,1.28,1.54,"L. W. Sepmeyer, 1965",null,null,null,null,null,null,null,null,null,null,null,null,null,null,null,null,null,null,11]
[null,"C",1,1.6,2.33,"L. W. Sepmeyer, 1965",null,null,null,null,null,null,null,null,null,null,null,null,null,null,null,null,null,null,13]
[null,"D",1,1.4,1.9,"M. M. Louden, 1971",null,null,null,null,null,null,null,null,null,null,null,null,null,null,null,null,null,null,17]
[null,"E",1,1.3,1.9,"M. M. Louden, 1971",null,null,null,null,null,null,null,null,null,null,null,null,null,null,null,null,null,null,19]
[null,"F",1,1.5,2.1,"M. M. Louden, 1971",null,null,null,null,null,null,null,null,null,null,null,null,null,null,null,null,null,null,23]
[null,"G",1,1.5,2.5,"Richard H. Bolt, 1946",null,null,null,null,null,null,null,null,null,null,null,null,null,null,null,null,null,null,29]
[null,"H",1,1.26,1.59,"Richard H. Bolt, 1946",null,null,null,null,null,null,null,null,null,null,null,null,null,null,null,null,null,null,31]
[null,"I",1,1.96,2.59,"IEC 60268-13, 1998",null,null,null,null,null,null,null,null,null,null,null,null,null,null,null,null,null,null,37]
[null,"J",1,1.62,2.62,"The Golden Ratio, 1968",null,null,null,null,null,null,null,null,null,null,null,null,null,null,null,null,null,null,41]
[null,"K",1,1.49,2.31,"Dolby Lab Recomendations",null,null,null,null,null,null,"   Sonic Behavior Characteristics",null,null,null,null,null,null,null,null,null,null,null,43]
[null,"L",1,1.07,1.87,"Worst ratio (RPG Inc.)",null,null,null,null,null,"Wave Region","Transitional region from F² to F³",null,"Ray Region",null,null,null,null,null,null,null,null,null,47]
[null,null,null,null,null,null,null,null,null,null,null,null,null,null,null,null,null,null,null,null,null,null,null,null,53]
[null,"IT IS HIGHLY RECOMMENDED TO ALWAYS USE PRIME NUMBERS",null,null,null,null,null,null,null,null,null,null,null,null,null,null,null,null,null,null,null,null,null,null,59]
[null,null,null,null,null,null,null,null,null,null,null,null,null,null,null,null,null,null,null,null,null,null,null,null,61]
[null,null,"If you found this spreadsheet helpful, please send a donation via PayPal to https://www.paypal.me/JHBrandt/",null,null,null,null,null,null,null,null,null,null,null,null,null,null,null,null,null,null,null,null,null,67]
[null,null,null,null,null,null,null,null,null,null,"Imperial- Ft/In.",1500,null,"Useable YES","Useable NO",null,null,null,null,null,null,null,null,null,71]
[null,null,null,null,null,null,null,null,null,null,null,null,null,1,0,null,null,null,null,"Floor area calculations based on L & W and then H & L",null,null,null,null,73]
[null,null,null,null,null,null,null,null,null,null,null,null,null,null,null,null,null,null,null,null,null,null,null,null,79]
["**Note: you can change the numbers in the yellow blocks and all the other ratios will change too!",null,null,null,null,null,null,null,null,null,null,null,null,null,null,null,"USING PRIMES",null,null,"Prime","Prime exchange height for width",null,null,null,83]
["HEIGHT ft","HEIGHT \"","PRIME height","WIDTH \"","PRIME width","DEPTH \"","PRIME depth","VOLUME","PRIME volume","TABLE","USEABLE 1=Yes 0=NO","F¹","F²","F³","minimum RT60","F¹","F²","F³","minimum RT60","Square Feet","Square Feet",null,null,null,89]
[{"$f":"B26/12","v":8},96,{"$f":"INDEX($Y$2:$Y$276,MATCH(MIN(ABS($Y$2:$Y$276-B26)),ABS($Y$2:$Y$276-B26),0))","v":97},{"$f":"B26*$D$5","v":109.44},{"$f":"INDEX($Y$2:$Y$276,MATCH(MIN(ABS($Y$2:$Y$276-D26)),ABS($Y$2:$Y$276-D26),0))","v":109},{"$f":"B26*$E$5","v":133.44},{"$f":"INDEX($Y$2:$Y$276,MATCH(MIN(ABS($Y$2:$Y$276-F26)),ABS($Y$2:$Y$276-F26),0))","v":131},{"$f":"(B26/12)*(D26/12)*(F26/12)","v":811.31519999999989},{"$f":"(C26/12)*(E26/12)*(G26/12)","v":801.54108796296293},"A",{"$f":"IF(H26>$L$21,$N$22,$O$22)","v":0},{"$f":"565/(F26/12)","v":50.809352517985616},{"$f":"(SQRT(O26/H26)*11250)","v":154.54921515312131},{"$f":"4*M26","v":618.19686061248524},{"$f":"0.25*(((0.028316846592*H26)/100)^(1/3))","v":0.15311515401060669},{"$f":"565/(G26/12)","v":51.755725190839698},{"$f":"(SQRT(S26/I26)*11250)","v":155.17487761872525},{"$f":"4*Q26","v":620.69951047490099},{"$f":"0.25*(((0.028316846592*I26)/100)^(1/3))","v":0.15249779631553578},{"$f":"(E26/12)*(G26/12)","v":99.159722222222229},{"$f":"(C26/12)*(G26/12)","v":88.243055555555557},null,null,null,97]
[8.5,102,{"$f":"INDEX($Y$2:$Y$276,MATCH(MIN(ABS($Y$2:$Y$276-B27)),ABS($Y$2:$Y$276-B27),0))","v":101},116.27999999999999,{"$f":"INDEX($Y$2:$Y$276,MATCH(MIN(ABS($Y$2:$Y$276-D27)),ABS($Y$2:$Y$276-D27),0))","v":113},141.78,{"$f":"INDEX($Y$2:$Y$276,MATCH(MIN(ABS($Y$2:$Y$276-F27)),ABS($Y$2:$Y$276-F27),0))","v":139},973.14247499999988,{"$f":"(C27/12)*(E27/12)*(G27/12)","v":918.0596064814813},"A",0,47.820567075751164,145.45808484999654,{"$f":"4*M27","v":581.83233939998615},0.1626848511362696,{"$f":"565/(G27/12)","v":48.776978417266186},{"$f":"(SQRT(S27/I27)*11250)","v":148.31089247726425},{"$f":"4*Q27","v":593.24356990905699},{"$f":"0.25*(((0.028316846592*I27)/100)^(1/3))","v":0.1595555557998963},{"$f":"(E27/12)*(G27/12)","v":109.07638888888889},{"$f":"(C27/12)*(G27/12)","v":97.493055555555557},null,null,null,101]
[9,108,{"$f":"INDEX($Y$2:$Y$276,MATCH(MIN(ABS($Y$2:$Y$276-B28)),ABS($Y$2:$Y$276-B28),0))","v":107},123.11999999999999,{"$f":"INDEX($Y$2:$Y$276,MATCH(MIN(ABS($Y$2:$Y$276-D28)),ABS($Y$2:$Y$276-D28),0))","v":127},150.11999999999998,{"$f":"INDEX($Y$2:$Y$276,MATCH(MIN(ABS($Y$2:$Y$276-F28)),ABS($Y$2:$Y$276-F28),0))","v":151},1155.1733999999999,1187.4646990740741,"A",0,45.163868904876104,137.37708013610782,549.50832054443129,0.17225454826193251,44.900662251655625,136.12036517414268,544.48146069657071,0.17384486773977392,133.17361111111111,112.20138888888889,null,null,null,103]
[9.5,114,{"$f":"INDEX($Y$2:$Y$276,MATCH(MIN(ABS($Y$2:$Y$276-B29)),ABS($Y$2:$Y$276-B29),0))","v":113},129.95999999999998,{"$f":"INDEX($Y$2:$Y$276,MATCH(MIN(ABS($Y$2:$Y$276-D29)),ABS($Y$2:$Y$276-D29),0))","v":131},158.45999999999998,{"$f":"INDEX($Y$2:$Y$276,MATCH(MIN(ABS($Y$2:$Y$276-F29)),ABS($Y$2:$Y$276-F29),0))","v":157},1358.5964249999997,1344.9484953703702,"A",0,42.786823173040517,130.1467074973653,520.58682998946119,0.18182424538759542,43.184713375796179,130.58545010055499,522.34180040221997,0.18121335004908012,142.82638888888889,123.20138888888889,null,null,null,107]
[10,120,{"$f":"INDEX($Y$2:$Y$276,MATCH(MIN(ABS($Y$2:$Y$276-B30)),ABS($Y$2:$Y$276-B30),0))","v":113},136.79999999999998,{"$f":"INDEX($Y$2:$Y$276,MATCH(MIN(ABS($Y$2:$Y$276-D30)),ABS($Y$2:$Y$276-D30),0))","v":137},166.79999999999998,{"$f":"INDEX($Y$2:$Y$276,MATCH(MIN(ABS($Y$2:$Y$276-F30)),ABS($Y$2:$Y$276-F30),0))","v":167},1584.5999999999997,1496.138310185185,"A",1,40.647482014388494,123.63937212249704,494.55748848998815,0.19139394251325834,40.598802395209582,126.0296587249983,504.1186348999932,0.18776395270595758,158.88194444444443,131.04861111111109,null,null,null,109]
[10.5,126,{"$f":"INDEX($Y$2:$Y$276,MATCH(MIN(ABS($Y$2:$Y$276-B31)),ABS($Y$2:$Y$276-B31),0))","v":127},143.63999999999999,{"$f":"INDEX($Y$2:$Y$276,MATCH(MIN(ABS($Y$2:$Y$276-D31)),ABS($Y$2:$Y$276-D31),0))","v":139},175.14,{"$f":"INDEX($Y$2:$Y$276,MATCH(MIN(ABS($Y$2:$Y$276-F31)),ABS($Y$2:$Y$276-F31),0))","v":173},1834.3725749999996,1767.3431712962963,"A",1,38.711887632750944,117.75178297380673,471.00713189522691,0.20096363963892128,39.190751445086704,119.2219935090282,476.88797403611278,0.1984854151813574,166.99305555555557,152.57638888888889,null,null,null,113]
[11,132,{"$f":"INDEX($Y$2:$Y$276,MATCH(MIN(ABS($Y$2:$Y$276-B32)),ABS($Y$2:$Y$276-B32),0))","v":131},150.47999999999999,{"$f":"INDEX($Y$2:$Y$276,MATCH(MIN(ABS($Y$2:$Y$276-D32)),ABS($Y$2:$Y$276-D32),0))","v":151},183.48,{"$f":"INDEX($Y$2:$Y$276,MATCH(MIN(ABS($Y$2:$Y$276-F32)),ABS($Y$2:$Y$276-F32),0))","v":181},2109.1025999999997,2071.9681712962961,"A",1,36.952256376716811,112.39942920227006,449.59771680908023,0.21053333676458419,37.458563535911601,113.0669424668496,452.26776986739839,0.20929041118562675,189.79861111111111,164.65972222222223,null,null,null,127]
[11.5,138,{"$f":"INDEX($Y$2:$Y$276,MATCH(MIN(ABS($Y$2:$Y$276-B33)),ABS($Y$2:$Y$276-B33),0))","v":137},157.32,{"$f":"INDEX($Y$2:$Y$276,MATCH(MIN(ABS($Y$2:$Y$276-D33)),ABS($Y$2:$Y$276-D33),0))","v":157},191.82,{"$f":"INDEX($Y$2:$Y$276,MATCH(MIN(ABS($Y$2:$Y$276-F33)),ABS($Y$2:$Y$276-F33),0))","v":191},2409.9785249999995,2377.4415509259256,"A",1,35.345636534250865,107.51249749782352,430.04998999129407,0.2201030338902471,35.497382198952884,108.00073851507959,432.00295406031836,0.21910800986869639,208.24305555555557,181.71527777777777,null,null,null,131]
[12,144,{"$f":"INDEX($Y$2:$Y$276,MATCH(MIN(ABS($Y$2:$Y$276-B34)),ABS($Y$2:$Y$276-B34),0))","v":139},164.16,{"$f":"INDEX($Y$2:$Y$276,MATCH(MIN(ABS($Y$2:$Y$276-D34)),ABS($Y$2:$Y$276-D34),0))","v":163},200.16,{"$f":"INDEX($Y$2:$Y$276,MATCH(MIN(ABS($Y$2:$Y$276-F34)),ABS($Y$2:$Y$276-F34),0))","v":199},2738.1887999999999,2609.2262731481483,"A",1,33.872901678657072,103.03281010208087,412.13124040832349,0.22967273101591001,34.070351758793976,104.7030727298016,418.81229091920642,0.22600890559779277,225.25694444444443,192.09027777777777,null,null,null,137]
[12.5,150,{"$f":"INDEX($Y$2:$Y$276,MATCH(MIN(ABS($Y$2:$Y$276-B35)),ABS($Y$2:$Y$276-B35),0))","v":149},170.99999999999997,{"$f":"INDEX($Y$2:$Y$276,MATCH(MIN(ABS($Y$2:$Y$276-D35)),ABS($Y$2:$Y$276-D35),0))","v":173},208.49999999999997,{"$f":"INDEX($Y$2:$Y$276,MATCH(MIN(ABS($Y$2:$Y$276-F35)),ABS($Y$2:$Y$276-F35),0))","v":211},3094.9218749999991,3147.5387731481478,"A",1,32.517985611510795,98.911497697997646,395.64599079199058,0.23924242814157293,32.132701421800952,98.357235102214688,393.42894040885875,0.24059060684042882,253.49305555555551,218.32638888888886,null,null,null,139]
[13,156,{"$f":"INDEX($Y$2:$Y$276,MATCH(MIN(ABS($Y$2:$Y$276-B36)),ABS($Y$2:$Y$276-B36),0))","v":157},177.83999999999997,{"$f":"INDEX($Y$2:$Y$276,MATCH(MIN(ABS($Y$2:$Y$276-D36)),ABS($Y$2:$Y$276-D36),0))","v":179},216.83999999999997,{"$f":"INDEX($Y$2:$Y$276,MATCH(MIN(ABS($Y$2:$Y$276-F36)),ABS($Y$2:$Y$276-F36),0))","v":211},3481.3661999999986,3431.5584490740739,"A",1,31.267293857221919,95.10720932499774,380.42883729999096,0.24881212526723584,32.132701421800952,95.565149000557824,382.2605960022313,0.24761983974147761,262.28472222222217,230.04861111111111,null,null,null,149]
[13.5,162,{"$f":"INDEX($Y$2:$Y$276,MATCH(MIN(ABS($Y$2:$Y$276-B37)),ABS($Y$2:$Y$276-B37),0))","v":163},184.67999999999998,{"$f":"INDEX($Y$2:$Y$276,MATCH(MIN(ABS($Y$2:$Y$276-D37)),ABS($Y$2:$Y$276-D37),0))","v":181},225.17999999999998,{"$f":"INDEX($Y$2:$Y$276,MATCH(MIN(ABS($Y$2:$Y$276-F37)),ABS($Y$2:$Y$276-F37),0))","v":227},3898.7102249999989,3875.6834490740744,"A",1,30.10924593658407,91.584720090738557,366.33888036295423,0.25838182239289875,29.867841409691628,91.765740893658901,367.0629635746356,0.25787212798522446,285.32638888888891,256.95138888888891,null,null,null,151]
[14,168,{"$f":"INDEX($Y$2:$Y$276,MATCH(MIN(ABS($Y$2:$Y$276-B38)),ABS($Y$2:$Y$276-B38),0))","v":167},191.51999999999998,{"$f":"INDEX($Y$2:$Y$276,MATCH(MIN(ABS($Y$2:$Y$276-D38)),ABS($Y$2:$Y$276-D38),0))","v":191},233.51999999999998,{"$f":"INDEX($Y$2:$Y$276,MATCH(MIN(ABS($Y$2:$Y$276-F38)),ABS($Y$2:$Y$276-F38),0))","v":233},4348.1423999999997,4300.9265046296296,"A",1,29.033915724563212,88.313837230355034,353.25534892142014,0.26795151951856172,29.098712446351929,88.635833775847004,354.54333510338802,0.26697810436614722,309.04861111111114,270.21527777777777,null,null,null,157]
[14.5,174,{"$f":"INDEX($Y$2:$Y$276,MATCH(MIN(ABS($Y$2:$Y$276-B39)),ABS($Y$2:$Y$276-B39),0))","v":173},198.35999999999999,{"$f":"INDEX($Y$2:$Y$276,MATCH(MIN(ABS($Y$2:$Y$276-D39)),ABS($Y$2:$Y$276-D39),0))","v":199},241.85999999999999,{"$f":"INDEX($Y$2:$Y$276,MATCH(MIN(ABS($Y$2:$Y$276-F39)),ABS($Y$2:$Y$276-F39),0))","v":241},4830.8511749999989,4801.4508101851843,"A",1,28.03274621681965,85.268532498273828,341.07412999309531,0.27752121664422458,28.132780082987555,85.4422179510738,341.7688718042952,0.27695707634765537,333.04861111111109,289.53472222222217,null,null,null,163]
["HEIGHT ft","HEIGHT \"","PRIME height","WIDTH \"","PRIME width","DEPTH \"","PRIME depth","VOLUME","PRIME volume","TABLE","USEABLE 1=Yes 0=NO","F¹","F²","F³","minimum RT60","F¹","F²","F³","minimum RT60","Square Feet","Square Feet",null,null,null,167]
[{"$f":"B41/12","v":8},{"$f":"B26","v":96},{"$f":"INDEX($Y$2:$Y$276,MATCH(MIN(ABS($Y$2:$Y$276-B41)),ABS($Y$2:$Y$276-B41),0))","v":97},{"$f":"B41*$D$6","v":122.88},{"$f":"INDEX($Y$2:$Y$276,MATCH(MIN(ABS($Y$2:$Y$276-D41)),ABS($Y$2:$Y$276-D41),0))","v":127},{"$f":"B41*$E$6","v":147.84},{"$f":"INDEX($Y$2:$Y$276,MATCH(MIN(ABS($Y$2:$Y$276-F41)),ABS($Y$2:$Y$276-F41),0))","v":149},{"$f":"(B41/12)*(D41/12)*(F41/12)","v":1009.2544},{"$f":"(C41/12)*(E41/12)*(G41/12)","v":1062.228587962963},"B",{"$f":"IF(H41>$L$21,$N$22,$O$22)","v":0},{"$f":"565/(F41/12)","v":45.86038961038961},{"$f":"(SQRT(O41/H41)*11250)","v":143.70210315196491},574.80841260785962,{"$f":"0.25*(((0.028316846592*H41)/100)^(1/3))","v":0.16467279435266213},{"$f":"565/(G41/12)","v":45.503355704697988},{"$f":"(SQRT(S41/I41)*11250)","v":141.27240750407216},{"$f":"4*Q41","v":565.08963001628865},{"$f":"0.25*(((0.028316846592*I41)/100)^(1/3))","v":0.16750494522227524},131.40972222222223,100.36805555555556,null,null,null,173]
[8.5,102,{"$f":"INDEX($Y$2:$Y$276,MATCH(MIN(ABS($Y$2:$Y$276-B42)),ABS($Y$2:$Y$276-B42),0))","v":101},130.56,{"$f":"INDEX($Y$2:$Y$276,MATCH(MIN(ABS($Y$2:$Y$276-D42)),ABS($Y$2:$Y$276-D42),0))","v":131},157.08000000000001,{"$f":"INDEX($Y$2:$Y$276,MATCH(MIN(ABS($Y$2:$Y$276-F42)),ABS($Y$2:$Y$276-F42),0))","v":157},1210.5632000000003,{"$f":"(C42/12)*(E42/12)*(G42/12)","v":1202.1221064814813},"B",0,43.162719633307866,135.24903826067285,540.99615304269139,0.17496484399970352,{"$f":"565/(G42/12)","v":43.184713375796179},{"$f":"(SQRT(S42/I42)*11250)","v":135.56486530073573},{"$f":"4*Q42","v":542.25946120294293},{"$f":"0.25*(((0.028316846592*I42)/100)^(1/3))","v":0.17455722637198776},142.82638888888889,110.11805555555556,null,null,null,179]
[9,108,{"$f":"INDEX($Y$2:$Y$276,MATCH(MIN(ABS($Y$2:$Y$276-B43)),ABS($Y$2:$Y$276-B43),0))","v":107},138.24,{"$f":"INDEX($Y$2:$Y$276,MATCH(MIN(ABS($Y$2:$Y$276-D43)),ABS($Y$2:$Y$276-D43),0))","v":139},166.32,{"$f":"INDEX($Y$2:$Y$276,MATCH(MIN(ABS($Y$2:$Y$276-F43)),ABS($Y$2:$Y$276-F43),0))","v":167},1437.0047999999999,1437.3790509259259,"B",0,40.764790764790767,127.73520280174658,510.94081120698633,0.18525689364674489,40.598802395209582,127.7241156851193,510.8964627404772,0.18527297490731853,161.20138888888889,124.09027777777776,null,null,null,181]
[9.5,114,{"$f":"INDEX($Y$2:$Y$276,MATCH(MIN(ABS($Y$2:$Y$276-B44)),ABS($Y$2:$Y$276-B44),0))","v":113},145.92000000000002,{"$f":"INDEX($Y$2:$Y$276,MATCH(MIN(ABS($Y$2:$Y$276-D44)),ABS($Y$2:$Y$276-D44),0))","v":149},175.56,{"$f":"INDEX($Y$2:$Y$276,MATCH(MIN(ABS($Y$2:$Y$276-F44)),ABS($Y$2:$Y$276-F44),0))","v":173},1690.0576000000005,1685.6487268518517,"B",1,38.619275461380724,121.01229739112834,484.04918956451337,0.1955489432937863,39.190751445086704,121.11770950560671,484.47083802242685,0.19537875160438967,179.00694444444443,135.75694444444443,null,null,null,191]
[10,120,{"$f":"INDEX($Y$2:$Y$276,MATCH(MIN(ABS($Y$2:$Y$276-B45)),ABS($Y$2:$Y$276-B45),0))","v":113},153.6,{"$f":"INDEX($Y$2:$Y$276,MATCH(MIN(ABS($Y$2:$Y$276-D45)),ABS($Y$2:$Y$276-D45),0))","v":151},184.8,{"$f":"INDEX($Y$2:$Y$276,MATCH(MIN(ABS($Y$2:$Y$276-F45)),ABS($Y$2:$Y$276-F45),0))","v":181},1971.1999999999998,1787.2702546296298,"B",1,36.688311688311686,114.96168252157192,459.84673008628766,0.20584099294082764,37.458563535911601,118.77724988987572,475.10899955950288,0.19922861408500758,189.79861111111111,142.03472222222223,null,null,null,193]
[10.5,126,{"$f":"INDEX($Y$2:$Y$276,MATCH(MIN(ABS($Y$2:$Y$276-B46)),ABS($Y$2:$Y$276-B46),0))","v":127},161.28,{"$f":"INDEX($Y$2:$Y$276,MATCH(MIN(ABS($Y$2:$Y$276-D46)),ABS($Y$2:$Y$276-D46),0))","v":163},194.04,{"$f":"INDEX($Y$2:$Y$276,MATCH(MIN(ABS($Y$2:$Y$276-F46)),ABS($Y$2:$Y$276-F46),0))","v":193},2281.9103999999998,2312.0908564814813,"B",1,34.941249226963514,109.48731668721136,437.94926674884545,0.21613304258786903,35.129533678756481,109.0088377867169,436.03535114686758,0.21708172805849399,218.46527777777777,170.21527777777777,null,null,null,197]
[11,132,{"$f":"INDEX($Y$2:$Y$276,MATCH(MIN(ABS($Y$2:$Y$276-B47)),ABS($Y$2:$Y$276-B47),0))","v":131},168.96,{"$f":"INDEX($Y$2:$Y$276,MATCH(MIN(ABS($Y$2:$Y$276-D47)),ABS($Y$2:$Y$276-D47),0))","v":167},203.28,{"$f":"INDEX($Y$2:$Y$276,MATCH(MIN(ABS($Y$2:$Y$276-F47)),ABS($Y$2:$Y$276-F47),0))","v":199},2623.6672000000003,2519.3998842592587,"B",1,33.353010625737895,104.51062047415628,418.04248189662513,0.22642509223491042,34.070351758793976,105.93292719233035,423.73170876932141,0.22338499942916562,230.7847222222222,181.0347222222222,null,null,null,199]
[11.5,138,{"$f":"INDEX($Y$2:$Y$276,MATCH(MIN(ABS($Y$2:$Y$276-B48)),ABS($Y$2:$Y$276-B48),0))","v":137},176.64000000000001,{"$f":"INDEX($Y$2:$Y$276,MATCH(MIN(ABS($Y$2:$Y$276-D48)),ABS($Y$2:$Y$276-D48),0))","v":179},212.52,{"$f":"INDEX($Y$2:$Y$276,MATCH(MIN(ABS($Y$2:$Y$276-F48)),ABS($Y$2:$Y$276-F48),0))","v":211},2997.9488000000001,2994.4172453703695,"B",1,31.902879728966685,99.966680453540803,399.86672181416321,0.23671714188195181,32.132701421800952,100.00596456867761,400.02385827471045,0.23662415519364119,262.28472222222217,200.74305555555554,null,null,null,211]
[12,144,{"$f":"INDEX($Y$2:$Y$276,MATCH(MIN(ABS($Y$2:$Y$276-B49)),ABS($Y$2:$Y$276-B49),0))","v":139},184.32,{"$f":"INDEX($Y$2:$Y$276,MATCH(MIN(ABS($Y$2:$Y$276-D49)),ABS($Y$2:$Y$276-D49),0))","v":181},221.76,{"$f":"INDEX($Y$2:$Y$276,MATCH(MIN(ABS($Y$2:$Y$276-F49)),ABS($Y$2:$Y$276-F49),0))","v":223},3406.2336,3246.7922453703704,"B",1,30.573593073593074,95.801402101309947,383.20560840523979,0.2470091915289932,30.40358744394619,97.344594743357874,389.3783789734315,0.24309338328210783,280.29861111111109,215.25694444444443,null,null,null,223]
[12.5,150,{"$f":"INDEX($Y$2:$Y$276,MATCH(MIN(ABS($Y$2:$Y$276-B50)),ABS($Y$2:$Y$276-B50),0))","v":149},192,{"$f":"INDEX($Y$2:$Y$276,MATCH(MIN(ABS($Y$2:$Y$276-D50)),ABS($Y$2:$Y$276-D50),0))","v":191},231,{"$f":"INDEX($Y$2:$Y$276,MATCH(MIN(ABS($Y$2:$Y$276-F50)),ABS($Y$2:$Y$276-F50),0))","v":229},3850,3771.4762731481478,"B",1,29.350649350649352,91.969346017257536,367.87738406903014,0.25730124117603459,29.606986899563321,92.603246993531258,370.41298797412503,0.25553992596006464,303.74305555555554,236.95138888888886,null,null,null,227]
[13,156,{"$f":"INDEX($Y$2:$Y$276,MATCH(MIN(ABS($Y$2:$Y$276-B51)),ABS($Y$2:$Y$276-B51),0))","v":157},199.68,{"$f":"INDEX($Y$2:$Y$276,MATCH(MIN(ABS($Y$2:$Y$276-D51)),ABS($Y$2:$Y$276-D51),0))","v":199},240.24,{"$f":"INDEX($Y$2:$Y$276,MATCH(MIN(ABS($Y$2:$Y$276-F51)),ABS($Y$2:$Y$276-F51),0))","v":241},4330.7263999999996,4357.3859953703704,"B",1,28.221778221778223,88.43206347813225,353.728253912529,0.26759329082307592,28.132780082987555,88.251344464564099,353.0053778582564,0.26814126202791594,333.04861111111109,262.75694444444446,null,null,null,229]
[13.5,162,{"$f":"INDEX($Y$2:$Y$276,MATCH(MIN(ABS($Y$2:$Y$276-B52)),ABS($Y$2:$Y$276-B52),0))","v":163},207.36,{"$f":"INDEX($Y$2:$Y$276,MATCH(MIN(ABS($Y$2:$Y$276-D52)),ABS($Y$2:$Y$276-D52),0))","v":211},249.48000000000002,{"$f":"INDEX($Y$2:$Y$276,MATCH(MIN(ABS($Y$2:$Y$276-F52)),ABS($Y$2:$Y$276-F52),0))","v":251},4849.8912000000009,4995.7424768518522,"B",1,27.176527176527173,85.156801867831049,340.6272074713242,0.27788534047011737,27.011952191235057,84.319882712074033,337.27953084829613,0.28064349853513326,367.78472222222223,284.1180555555556,null,null,null,233]
[14,168,{"$f":"INDEX($Y$2:$Y$276,MATCH(MIN(ABS($Y$2:$Y$276-B53)),ABS($Y$2:$Y$276-B53),0))","v":167},215.04,{"$f":"INDEX($Y$2:$Y$276,MATCH(MIN(ABS($Y$2:$Y$276-D53)),ABS($Y$2:$Y$276-D53),0))","v":211},258.72000000000003,{"$f":"INDEX($Y$2:$Y$276,MATCH(MIN(ABS($Y$2:$Y$276-F53)),ABS($Y$2:$Y$276-F53),0))","v":257},5408.9727999999996,5240.6880787037035,"B",1,26.20593692022263,82.115487515408518,328.46195006163407,0.2881773901171587,26.381322957198442,82.985185840337351,331.9407433613494,0.28515724391962582,376.57638888888886,298.04861111111114,null,null,null,239]
[14.5,174,{"$f":"INDEX($Y$2:$Y$276,MATCH(MIN(ABS($Y$2:$Y$276-B54)),ABS($Y$2:$Y$276-B54),0))","v":173},222.72,{"$f":"INDEX($Y$2:$Y$276,MATCH(MIN(ABS($Y$2:$Y$276-D54)),ABS($Y$2:$Y$276-D54),0))","v":223},267.95999999999998,{"$f":"INDEX($Y$2:$Y$276,MATCH(MIN(ABS($Y$2:$Y$276-F54)),ABS($Y$2:$Y$276-F54),0))","v":269},6009.4495999999999,6005.6429398148139,"B",1,25.302283922973579,79.283918980394432,317.13567592157773,0.2984694397642001,25.204460966542751,79.300666740053089,317.20266696021235,0.29840640505531152,416.57638888888886,323.17361111111114,null,null,null,241]
["HEIGHT ft","HEIGHT \"","PRIME height","WIDTH \"","PRIME width","DEPTH \"","PRIME depth","VOLUME","PRIME volume","TABLE","USEABLE 1=Yes 0=NO","F¹","F²","F³","minimum RT60","F¹","F²","F³","minimum RT60","Square Feet","Square Feet",null,null,null,251]
[{"$f":"B56/12","v":8},{"$f":"B41","v":96},{"$f":"INDEX($Y$2:$Y$276,MATCH(MIN(ABS($Y$2:$Y$276-B56)),ABS($Y$2:$Y$276-B56),0))","v":97},{"$f":"B56*$D$7","v":153.60000000000002},{"$f":"INDEX($Y$2:$Y$276,MATCH(MIN(ABS($Y$2:$Y$276-D56)),ABS($Y$2:$Y$276-D56),0))","v":151},{"$f":"B56*$E$7","v":223.68},{"$f":"INDEX($Y$2:$Y$276,MATCH(MIN(ABS($Y$2:$Y$276-F56)),ABS($Y$2:$Y$276-F56),0))","v":223},{"$f":"(B56/12)*(D56/12)*(F56/12)","v":1908.7360000000003},{"$f":"(C56/12)*(E56/12)*(G56/12)","v":1890.208912037037},"C",{"$f":"IF(H56>$L$21,$N$22,$O$22)","v":1},{"$f":"565/(F56/12)","v":30.311158798283262},{"$f":"(SQRT(O56/H56)*11250)","v":116.20229885974825},464.80919543899302,{"$f":"0.25*(((0.028316846592*H56)/100)^(1/3))","v":0.20364336258915064},{"$f":"565/(G56/12)","v":30.40358744394619},{"$f":"(SQRT(S56/I56)*11250)","v":116.5807216403109},{"$f":"4*Q56","v":466.32288656124359},{"$f":"0.25*(((0.028316846592*I56)/100)^(1/3))","v":0.20298233316310299},233.84027777777777,{"$f":"(C56/12)*(G56/12)","v":150.21527777777777},null,null,null,257]
[8.5,102,{"$f":"INDEX($Y$2:$Y$276,MATCH(MIN(ABS($Y$2:$Y$276-B57)),ABS($Y$2:$Y$276-B57),0))","v":101},163.20000000000002,{"$f":"INDEX($Y$2:$Y$276,MATCH(MIN(ABS($Y$2:$Y$276-D57)),ABS($Y$2:$Y$276-D57),0))","v":163},237.66,{"$f":"INDEX($Y$2:$Y$276,MATCH(MIN(ABS($Y$2:$Y$276-F57)),ABS($Y$2:$Y$276-F57),0))","v":239},2289.4580000000001,{"$f":"(C57/12)*(E57/12)*(G57/12)","v":2277.0005787037039},"C",1,28.528149457207775,109.36686951505718,437.4674780602287,0.21637107275097253,{"$f":"565/(G57/12)","v":28.368200836820083},{"$f":"(SQRT(S57/I57)*11250)","v":109.56595482338953},{"$f":"4*Q57","v":438.26381929355813},{"$f":"0.25*(((0.028316846592*I57)/100)^(1/3))","v":0.21597791867494351},270.53472222222223,167.63194444444443,null,null,null,263]
[9,108,{"$f":"INDEX($Y$2:$Y$276,MATCH(MIN(ABS($Y$2:$Y$276-B58)),ABS($Y$2:$Y$276-B58),0))","v":107},172.8,{"$f":"INDEX($Y$2:$Y$276,MATCH(MIN(ABS($Y$2:$Y$276-D58)),ABS($Y$2:$Y$276-D58),0))","v":173},251.64000000000001,{"$f":"INDEX($Y$2:$Y$276,MATCH(MIN(ABS($Y$2:$Y$276-F58)),ABS($Y$2:$Y$276-F58),0))","v":251},2717.712,2688.8084490740739,"C",1,26.943252265140675,103.29093231977622,413.16372927910487,0.22909878291279442,27.011952191235057,103.65972524805518,414.63890099222073,0.2282837121530237,301.54861111111114,186.50694444444443,null,null,null,269]
[9.5,114,{"$f":"INDEX($Y$2:$Y$276,MATCH(MIN(ABS($Y$2:$Y$276-B59)),ABS($Y$2:$Y$276-B59),0))","v":113},182.4,{"$f":"INDEX($Y$2:$Y$276,MATCH(MIN(ABS($Y$2:$Y$276-D59)),ABS($Y$2:$Y$276-D59),0))","v":181},265.62,{"$f":"INDEX($Y$2:$Y$276,MATCH(MIN(ABS($Y$2:$Y$276-F59)),ABS($Y$2:$Y$276-F59),0))","v":263},3196.2940000000003,3112.9276620370374,"C",1,25.525186356449062,97.854567460840642,391.41826984336257,0.24182649307461634,25.779467680608363,98.720420949762342,394.88168379904937,0.23970549003666422,330.57638888888891,206.38194444444443,null,null,null,271]
[10,120,{"$f":"INDEX($Y$2:$Y$276,MATCH(MIN(ABS($Y$2:$Y$276-B60)),ABS($Y$2:$Y$276-B60),0))","v":113},192,{"$f":"INDEX($Y$2:$Y$276,MATCH(MIN(ABS($Y$2:$Y$276-D60)),ABS($Y$2:$Y$276-D60),0))","v":191},279.60000000000002,{"$f":"INDEX($Y$2:$Y$276,MATCH(MIN(ABS($Y$2:$Y$276-F60)),ABS($Y$2:$Y$276-F60),0))","v":281},3728,3509.7355324074074,"C",1,24.248927038626608,92.961839087798595,371.84735635119438,0.25455420323643824,24.128113879003557,94.850263986810319,379.40105594724128,0.2494861467510433,372.71527777777777,220.50694444444443,null,null,null,277]
[10.5,126,{"$f":"INDEX($Y$2:$Y$276,MATCH(MIN(ABS($Y$2:$Y$276-B61)),ABS($Y$2:$Y$276-B61),0))","v":127},201.60000000000002,{"$f":"INDEX($Y$2:$Y$276,MATCH(MIN(ABS($Y$2:$Y$276-D61)),ABS($Y$2:$Y$276-D61),0))","v":199},293.58,{"$f":"INDEX($Y$2:$Y$276,MATCH(MIN(ABS($Y$2:$Y$276-F61)),ABS($Y$2:$Y$276-F61),0))","v":293},4315.6260000000002,4285.2945601851852,"C",1,23.094216227263438,88.535084845522476,354.14033938208991,0.26728191339826018,23.139931740614333,88.743478580957117,354.97391432382847,0.26665426303749173,404.90972222222223,258.40972222222223,null,null,null,281]
[11,132,{"$f":"INDEX($Y$2:$Y$276,MATCH(MIN(ABS($Y$2:$Y$276-B62)),ABS($Y$2:$Y$276-B62),0))","v":131},211.20000000000002,{"$f":"INDEX($Y$2:$Y$276,MATCH(MIN(ABS($Y$2:$Y$276-D62)),ABS($Y$2:$Y$276-D62),0))","v":211},307.56,{"$f":"INDEX($Y$2:$Y$276,MATCH(MIN(ABS($Y$2:$Y$276-F62)),ABS($Y$2:$Y$276-F62),0))","v":307},4961.9680000000008,4910.75636574074,"C",1,22.044479126024193,84.510762807089634,338.04305122835854,0.28000962356008208,22.084690553745929,84.80351989987399,339.21407959949596,0.27904297968206998,449.84027777777771,279.28472222222217,null,null,null,283]
[11.5,138,{"$f":"INDEX($Y$2:$Y$276,MATCH(MIN(ABS($Y$2:$Y$276-B63)),ABS($Y$2:$Y$276-B63),0))","v":137},220.8,{"$f":"INDEX($Y$2:$Y$276,MATCH(MIN(ABS($Y$2:$Y$276-D63)),ABS($Y$2:$Y$276-D63),0))","v":223},321.54000000000002,{"$f":"INDEX($Y$2:$Y$276,MATCH(MIN(ABS($Y$2:$Y$276-F63)),ABS($Y$2:$Y$276-F63),0))","v":317},5669.822000000001,5604.5526620370365,"C",1,21.086023511849223,80.83638181547704,323.34552726190816,0.29273733372190403,21.388012618296528,81.148972154821351,324.5958886192854,0.29160969328411396,490.90972222222223,301.59027777777777,null,null,null,293]
[12,144,{"$f":"INDEX($Y$2:$Y$276,MATCH(MIN(ABS($Y$2:$Y$276-B64)),ABS($Y$2:$Y$276-B64),0))","v":139},230.4,{"$f":"INDEX($Y$2:$Y$276,MATCH(MIN(ABS($Y$2:$Y$276-D64)),ABS($Y$2:$Y$276-D64),0))","v":229},335.52,{"$f":"INDEX($Y$2:$Y$276,MATCH(MIN(ABS($Y$2:$Y$276-F64)),ABS($Y$2:$Y$276-F64),0))","v":337},6441.9839999999986,6207.7818287037035,"C",1,20.207439198855511,77.468199239832174,309.8727969593287,0.30546504388372586,20.118694362017806,78.430417408768861,313.72166963507544,0.30171746705179253,535.92361111111109,325.29861111111109,null,null,null,307]
[12.5,150,{"$f":"INDEX($Y$2:$Y$276,MATCH(MIN(ABS($Y$2:$Y$276-B65)),ABS($Y$2:$Y$276-B65),0))","v":149},240,{"$f":"INDEX($Y$2:$Y$276,MATCH(MIN(ABS($Y$2:$Y$276-D65)),ABS($Y$2:$Y$276-D65),0))","v":239},349.5,{"$f":"INDEX($Y$2:$Y$276,MATCH(MIN(ABS($Y$2:$Y$276-F65)),ABS($Y$2:$Y$276-F65),0))","v":349},7281.25,7192.2679398148148,"C",1,19.399141630901287,74.36947127023889,297.47788508095556,0.31819275404554781,19.426934097421203,74.674912442305313,298.69964976922125,0.31689125713634408,579.24305555555554,361.11805555555554,null,null,null,311]
[13,156,{"$f":"INDEX($Y$2:$Y$276,MATCH(MIN(ABS($Y$2:$Y$276-B66)),ABS($Y$2:$Y$276-B66),0))","v":157},249.60000000000002,{"$f":"INDEX($Y$2:$Y$276,MATCH(MIN(ABS($Y$2:$Y$276-D66)),ABS($Y$2:$Y$276-D66),0))","v":251},363.48,{"$f":"INDEX($Y$2:$Y$276,MATCH(MIN(ABS($Y$2:$Y$276-F66)),ABS($Y$2:$Y$276-F66),0))","v":367},8190.416000000002,8369.4265046296296,"C",1,18.653020798943544,71.509106990614313,286.03642796245725,0.33092046420736976,18.474114441416894,70.995601240735638,283.98240496294255,0.33331398659683154,639.70138888888891,400.13194444444446,null,null,null,313]
[13.5,162,{"$f":"INDEX($Y$2:$Y$276,MATCH(MIN(ABS($Y$2:$Y$276-B67)),ABS($Y$2:$Y$276-B67),0))","v":163},259.2,{"$f":"INDEX($Y$2:$Y$276,MATCH(MIN(ABS($Y$2:$Y$276-D67)),ABS($Y$2:$Y$276-D67),0))","v":257},377.46000000000004,{"$f":"INDEX($Y$2:$Y$276,MATCH(MIN(ABS($Y$2:$Y$276-F67)),ABS($Y$2:$Y$276-F67),0))","v":379},9172.2780000000002,9187.8987268518522,"C",1,17.96216817676045,68.860621546517478,275.44248618606991,0.34364817436919165,17.889182058047496,68.821575145890733,275.28630058356293,0.34384314555755269,676.40972222222229,429.00694444444446,null,null,null,317]
[14,168,{"$f":"INDEX($Y$2:$Y$276,MATCH(MIN(ABS($Y$2:$Y$276-B68)),ABS($Y$2:$Y$276-B68),0))","v":167},268.8,{"$f":"INDEX($Y$2:$Y$276,MATCH(MIN(ABS($Y$2:$Y$276-D68)),ABS($Y$2:$Y$276-D68),0))","v":269},391.44,{"$f":"INDEX($Y$2:$Y$276,MATCH(MIN(ABS($Y$2:$Y$276-F68)),ABS($Y$2:$Y$276-F68),0))","v":389},10229.632,10112.874421296296,"C",1,17.32066217044758,66.401313634141857,265.60525453656743,0.35637588453101354,17.429305912596401,66.655880551680156,266.62352220672062,0.35501484166939085,726.67361111111109,451.1319444444444,null,null,null,331]
[14.5,174,{"$f":"INDEX($Y$2:$Y$276,MATCH(MIN(ABS($Y$2:$Y$276-B69)),ABS($Y$2:$Y$276-B69),0))","v":173},278.40000000000003,{"$f":"INDEX($Y$2:$Y$276,MATCH(MIN(ABS($Y$2:$Y$276-D69)),ABS($Y$2:$Y$276-D69),0))","v":277},405.42,{"$f":"INDEX($Y$2:$Y$276,MATCH(MIN(ABS($Y$2:$Y$276-F69)),ABS($Y$2:$Y$276-F69),0))","v":409},11365.274000000003,11342.412615740739,"C",1,16.723397957673523,64.111613163999039,256.44645265599615,0.36910359469283549,16.577017114914423,64.15465799198563,256.61863196794252,0.36885594313891756,786.75694444444446,491.36805555555554,null,null,null,337]
["HEIGHT ft","HEIGHT \"","PRIME height","WIDTH \"","PRIME width","DEPTH \"","PRIME depth","VOLUME","PRIME volume","TABLE","USEABLE 1=Yes 0=NO","F¹","F²","F³","minimum RT60","F¹","F²","F³","minimum RT60","Square Feet","Square Feet",null,null,null,347]
[{"$f":"B71/12","v":8},{"$f":"B56","v":96},{"$f":"INDEX($Y$2:$Y$276,MATCH(MIN(ABS($Y$2:$Y$276-B71)),ABS($Y$2:$Y$276-B71),0))","v":97},{"$f":"B71*$D$8","v":134.39999999999998},{"$f":"INDEX($Y$2:$Y$276,MATCH(MIN(ABS($Y$2:$Y$276-D71)),ABS($Y$2:$Y$276-D71),0))","v":137},{"$f":"B71*$E$8","v":182.39999999999998},{"$f":"INDEX($Y$2:$Y$276,MATCH(MIN(ABS($Y$2:$Y$276-F71)),ABS($Y$2:$Y$276-F71),0))","v":181},{"$f":"(B71/12)*(D71/12)*(F71/12)","v":1361.9199999999994},{"$f":"(C71/12)*(E71/12)*(G71/12)","v":1391.961226851852},"D",{"$f":"IF(H71>$L$21,$N$22,$O$22)","v":0},{"$f":"565/(F71/12)","v":37.171052631578952},{"$f":"(SQRT(O71/H71)*11250)","v":130.04075299139299},520.16301196557197,{"$f":"0.25*(((0.028316846592*H71)/100)^(1/3))","v":0.18197239200817916},{"$f":"565/(G71/12)","v":37.458563535911601},{"$f":"(SQRT(S71/I71)*11250)","v":129.09843039789467},{"$f":"4*Q71","v":516.3937215915787},{"$f":"0.25*(((0.028316846592*I71)/100)^(1/3))","v":0.18330065522449968},172.20138888888889,{"$f":"(C71/12)*(G71/12)","v":121.92361111111113},null,null,null,349]
[8.5,102,{"$f":"INDEX($Y$2:$Y$276,MATCH(MIN(ABS($Y$2:$Y$276-B72)),ABS($Y$2:$Y$276-B72),0))","v":101},142.79999999999998,{"$f":"INDEX($Y$2:$Y$276,MATCH(MIN(ABS($Y$2:$Y$276-D72)),ABS($Y$2:$Y$276-D72),0))","v":139},193.79999999999998,{"$f":"INDEX($Y$2:$Y$276,MATCH(MIN(ABS($Y$2:$Y$276-F72)),ABS($Y$2:$Y$276-F72),0))","v":193},1633.5724999999998,{"$f":"(C72/12)*(E72/12)*(G72/12)","v":1568.013310185185},"D",1,34.984520123839012,122.39129693307572,489.56518773230289,0.19334566650869037,{"$f":"565/(G72/12)","v":35.129533678756481},{"$f":"(SQRT(S72/I72)*11250)","v":124.07380274555281},{"$f":"4*Q72","v":496.29521098221124},{"$f":"0.25*(((0.028316846592*I72)/100)^(1/3))","v":0.19072379790694166},186.29861111111111,135.36805555555554,null,null,null,353]
[9,108,{"$f":"INDEX($Y$2:$Y$276,MATCH(MIN(ABS($Y$2:$Y$276-B73)),ABS($Y$2:$Y$276-B73),0))","v":107},151.19999999999999,{"$f":"INDEX($Y$2:$Y$276,MATCH(MIN(ABS($Y$2:$Y$276-D73)),ABS($Y$2:$Y$276-D73),0))","v":151},205.2,{"$f":"INDEX($Y$2:$Y$276,MATCH(MIN(ABS($Y$2:$Y$276-F73)),ABS($Y$2:$Y$276-F73),0))","v":211},1939.1399999999996,1972.8744212962961,"D",1,33.040935672514621,115.59178043679374,462.36712174717496,0.20471894100920157,32.132701421800952,114.92914982526655,459.7165993010662,0.20589925981673093,221.25694444444443,156.7847222222222,null,null,null,359]
[9.5,114,{"$f":"INDEX($Y$2:$Y$276,MATCH(MIN(ABS($Y$2:$Y$276-B74)),ABS($Y$2:$Y$276-B74),0))","v":113},159.6,{"$f":"INDEX($Y$2:$Y$276,MATCH(MIN(ABS($Y$2:$Y$276-D74)),ABS($Y$2:$Y$276-D74),0))","v":157},216.6,{"$f":"INDEX($Y$2:$Y$276,MATCH(MIN(ABS($Y$2:$Y$276-F74)),ABS($Y$2:$Y$276-F74),0))","v":211},2280.6174999999998,2166.2910879629626,"D",1,31.301939058171744,109.50800251906774,438.03201007627098,0.21609221550971275,32.132701421800952,111.40150817375003,445.60603269500012,0.21241926853881279,230.04861111111111,165.57638888888886,null,null,null,367]
[10,120,{"$f":"INDEX($Y$2:$Y$276,MATCH(MIN(ABS($Y$2:$Y$276-B75)),ABS($Y$2:$Y$276-B75),0))","v":113},168,{"$f":"INDEX($Y$2:$Y$276,MATCH(MIN(ABS($Y$2:$Y$276-D75)),ABS($Y$2:$Y$276-D75),0))","v":167},228,{"$f":"INDEX($Y$2:$Y$276,MATCH(MIN(ABS($Y$2:$Y$276-F75)),ABS($Y$2:$Y$276-F75),0))","v":227},2660,2479.0028935185182,"D",1,29.736842105263158,104.03260239311436,416.13040957245744,0.22746549001022398,29.867841409691628,106.50524528165629,426.02098112662514,0.22218461464323999,263.25694444444446,178.13194444444446,null,null,null,373]
[10.5,126,{"$f":"INDEX($Y$2:$Y$276,MATCH(MIN(ABS($Y$2:$Y$276-B76)),ABS($Y$2:$Y$276-B76),0))","v":127},176.39999999999998,{"$f":"INDEX($Y$2:$Y$276,MATCH(MIN(ABS($Y$2:$Y$276-D76)),ABS($Y$2:$Y$276-D76),0))","v":179},239.39999999999998,{"$f":"INDEX($Y$2:$Y$276,MATCH(MIN(ABS($Y$2:$Y$276-F76)),ABS($Y$2:$Y$276-F76),0))","v":239},3079.2824999999993,3144.2054398148152,"D",1,28.320802005012531,99.078668945823225,396.3146757832929,0.23883876451073516,28.368200836820083,98.391980675228126,393.5679227009125,0.2405056460698563,297.09027777777777,210.78472222222226,null,null,null,379]
[11,132,{"$f":"INDEX($Y$2:$Y$276,MATCH(MIN(ABS($Y$2:$Y$276-B77)),ABS($Y$2:$Y$276-B77),0))","v":131},184.79999999999998,{"$f":"INDEX($Y$2:$Y$276,MATCH(MIN(ABS($Y$2:$Y$276-D77)),ABS($Y$2:$Y$276-D77),0))","v":181},250.79999999999998,{"$f":"INDEX($Y$2:$Y$276,MATCH(MIN(ABS($Y$2:$Y$276-F77)),ABS($Y$2:$Y$276-F77),0))","v":251},3540.4599999999991,3444.1325231481483,"D",1,27.033492822966508,94.575093084649424,378.3003723385977,0.25021203901124633,27.011952191235057,95.448708593122547,381.79483437249019,0.24792191774183553,315.4930555555556,228.34027777777777,null,null,null,383]
[11.5,138,{"$f":"INDEX($Y$2:$Y$276,MATCH(MIN(ABS($Y$2:$Y$276-B78)),ABS($Y$2:$Y$276-B78),0))","v":137},193.2,{"$f":"INDEX($Y$2:$Y$276,MATCH(MIN(ABS($Y$2:$Y$276-D78)),ABS($Y$2:$Y$276-D78),0))","v":193},262.2,{"$f":"INDEX($Y$2:$Y$276,MATCH(MIN(ABS($Y$2:$Y$276-F78)),ABS($Y$2:$Y$276-F78),0))","v":263},4045.5274999999992,4024.2957175925926,"D",1,25.858123569794053,90.463132515751624,361.8525300630065,0.26158531351175757,25.779467680608363,90.621945034350546,362.48778013740218,0.26112689229323766,352.49305555555554,250.21527777777777,null,null,null,389]
[12,144,{"$f":"INDEX($Y$2:$Y$276,MATCH(MIN(ABS($Y$2:$Y$276-B79)),ABS($Y$2:$Y$276-B79),0))","v":139},201.6,{"$f":"INDEX($Y$2:$Y$276,MATCH(MIN(ABS($Y$2:$Y$276-D79)),ABS($Y$2:$Y$276-D79),0))","v":199},273.59999999999997,{"$f":"INDEX($Y$2:$Y$276,MATCH(MIN(ABS($Y$2:$Y$276-F79)),ABS($Y$2:$Y$276-F79),0))","v":271},4596.4799999999996,4338.0387731481478,"D",1,24.780701754385969,86.693835327595295,346.77534131038118,0.27295858801226874,25.018450184501848,88.382347315316537,353.52938926126615,0.26774381535675335,374.5069444444444,261.59027777777777,null,null,null,397]
[12.5,150,{"$f":"INDEX($Y$2:$Y$276,MATCH(MIN(ABS($Y$2:$Y$276-B80)),ABS($Y$2:$Y$276-B80),0))","v":149},210,{"$f":"INDEX($Y$2:$Y$276,MATCH(MIN(ABS($Y$2:$Y$276-D80)),ABS($Y$2:$Y$276-D80),0))","v":211},285,{"$f":"INDEX($Y$2:$Y$276,MATCH(MIN(ABS($Y$2:$Y$276-F80)),ABS($Y$2:$Y$276-F80),0))","v":283},5195.3125,5148.8640046296287,"D",1,23.789473684210527,83.226081914491473,332.90432765796589,0.28433186251277992,23.957597173144876,83.475597134410961,333.90238853764384,0.28348197189036545,414.67361111111109,292.82638888888886,null,null,null,401]
[13,156,{"$f":"INDEX($Y$2:$Y$276,MATCH(MIN(ABS($Y$2:$Y$276-B81)),ABS($Y$2:$Y$276-B81),0))","v":157},218.39999999999998,{"$f":"INDEX($Y$2:$Y$276,MATCH(MIN(ABS($Y$2:$Y$276-D81)),ABS($Y$2:$Y$276-D81),0))","v":223},296.39999999999998,{"$f":"INDEX($Y$2:$Y$276,MATCH(MIN(ABS($Y$2:$Y$276-F81)),ABS($Y$2:$Y$276-F81),0))","v":293},5844.0199999999995,5936.4716435185182,"D",1,22.874493927125506,80.025078763934133,320.10031505573653,0.29570513701329115,23.139931740614333,79.607479844865551,318.42991937946221,0.29725632473862074,453.74305555555554,319.45138888888891,null,null,null,409]
[13.5,162,{"$f":"INDEX($Y$2:$Y$276,MATCH(MIN(ABS($Y$2:$Y$276-B82)),ABS($Y$2:$Y$276-B82),0))","v":163},226.79999999999998,{"$f":"INDEX($Y$2:$Y$276,MATCH(MIN(ABS($Y$2:$Y$276-D82)),ABS($Y$2:$Y$276-D82),0))","v":227},307.8,{"$f":"INDEX($Y$2:$Y$276,MATCH(MIN(ABS($Y$2:$Y$276-F82)),ABS($Y$2:$Y$276-F82),0))","v":307},6544.5974999999999,6573.6730324074078,"D",1,22.027290448343077,77.061186957862489,308.24474783144996,0.30707841151380239,22.084690553745929,76.947404471624864,307.78961788649946,0.30753248979456915,483.95138888888891,347.50694444444446,null,null,null,419]
[14,168,{"$f":"INDEX($Y$2:$Y$276,MATCH(MIN(ABS($Y$2:$Y$276-B83)),ABS($Y$2:$Y$276-B83),0))","v":167},235.2,{"$f":"INDEX($Y$2:$Y$276,MATCH(MIN(ABS($Y$2:$Y$276-D83)),ABS($Y$2:$Y$276-D83),0))","v":233},319.2,{"$f":"INDEX($Y$2:$Y$276,MATCH(MIN(ABS($Y$2:$Y$276-F83)),ABS($Y$2:$Y$276-F83),0))","v":317},7299.0399999999991,7138.1869212962965,"D",1,21.2406015037594,74.309001709367408,297.23600683746963,0.31845168601431356,21.388012618296528,74.863024593367186,299.45209837346874,0.31609498826587823,512.9236111111112,367.63194444444446,null,null,null,421]
[14.5,174,{"$f":"INDEX($Y$2:$Y$276,MATCH(MIN(ABS($Y$2:$Y$276-B84)),ABS($Y$2:$Y$276-B84),0))","v":173},243.6,{"$f":"INDEX($Y$2:$Y$276,MATCH(MIN(ABS($Y$2:$Y$276-D84)),ABS($Y$2:$Y$276-D84),0))","v":241},330.59999999999997,{"$f":"INDEX($Y$2:$Y$276,MATCH(MIN(ABS($Y$2:$Y$276-F84)),ABS($Y$2:$Y$276-F84),0))","v":331},8109.3424999999997,7986.3327546296277,"D",1,20.508166969147009,71.746622340078858,286.98648936031543,0.32982496051482474,20.483383685800604,72.113107014783651,288.4524280591346,0.32814876324129705,553.96527777777771,397.65972222222217,null,null,null,431]
["HEIGHT ft","HEIGHT \"","PRIME height","WIDTH \"","PRIME width","DEPTH \"","PRIME depth","VOLUME","PRIME volume","TABLE","USEABLE 1=Yes 0=NO","F¹","F²","F³","minimum RT60","F¹","F²","F³","minimum RT60","Square Feet","Square Feet",null,null,null,433]
[{"$f":"B86/12","v":8},{"$f":"B71","v":96},{"$f":"INDEX($Y$2:$Y$276,MATCH(MIN(ABS($Y$2:$Y$276-B86)),ABS($Y$2:$Y$276-B86),0))","v":97},{"$f":"B86*$D$9","v":124.80000000000001},{"$f":"INDEX($Y$2:$Y$276,MATCH(MIN(ABS($Y$2:$Y$276-D86)),ABS($Y$2:$Y$276-D86),0))","v":127},{"$f":"B86*$E$9","v":182.39999999999998},{"$f":"INDEX($Y$2:$Y$276,MATCH(MIN(ABS($Y$2:$Y$276-F86)),ABS($Y$2:$Y$276-F86),0))","v":181},{"$f":"(B86/12)*(D86/12)*(F86/12)","v":1264.6399999999999},{"$f":"(C86/12)*(E86/12)*(G86/12)","v":1290.3582175925928},"E",{"$f":"IF(H86>$L$21,$N$22,$O$22)","v":0},{"$f":"565/(F86/12)","v":37.171052631578952},{"$f":"(SQRT(O86/H86)*11250)","v":133.293110711319},533.17244284527601,{"$f":"0.25*(((0.028316846592*H86)/100)^(1/3))","v":0.17753225769964021},{"$f":"565/(G86/12)","v":37.458563535911601},{"$f":"(SQRT(S86/I86)*11250)","v":132.40160328971396},{"$f":"4*Q86","v":529.60641315885584},{"$f":"0.25*(((0.028316846592*I86)/100)^(1/3))","v":0.17872764598332441},{"$f":"(E86/12)*(G86/12)","v":159.63194444444446},{"$f":"(C86/12)*(G86/12)","v":121.92361111111113},null,null,null,439]
[8.5,102,{"$f":"INDEX($Y$2:$Y$276,MATCH(MIN(ABS($Y$2:$Y$276-B87)),ABS($Y$2:$Y$276-B87),0))","v":101},132.6,{"$f":"INDEX($Y$2:$Y$276,MATCH(MIN(ABS($Y$2:$Y$276-D87)),ABS($Y$2:$Y$276-D87),0))","v":131},193.79999999999998,{"$f":"INDEX($Y$2:$Y$276,MATCH(MIN(ABS($Y$2:$Y$276-F87)),ABS($Y$2:$Y$276-F87),0))","v":193},1516.8887499999998,{"$f":"(C87/12)*(E87/12)*(G87/12)","v":1477.7679398148146},"E",1,34.984520123839012,125.45233949300612,501.80935797202449,{"$f":"0.25*(((0.028316846592*H87)/100)^(1/3))","v":0.18862802380586771},{"$f":"565/(G87/12)","v":35.129533678756481},{"$f":"(SQRT(S87/I87)*11250)","v":126.54974120183006},{"$f":"4*Q87","v":506.19896480732024},{"$f":"0.25*(((0.028316846592*I87)/100)^(1/3))","v":0.18699229769777159},175.57638888888886,135.36805555555554,null,null,null,443]
[9,108,{"$f":"INDEX($Y$2:$Y$276,MATCH(MIN(ABS($Y$2:$Y$276-B88)),ABS($Y$2:$Y$276-B88),0))","v":107},140.4,{"$f":"INDEX($Y$2:$Y$276,MATCH(MIN(ABS($Y$2:$Y$276-D88)),ABS($Y$2:$Y$276-D88),0))","v":139},205.2,{"$f":"INDEX($Y$2:$Y$276,MATCH(MIN(ABS($Y$2:$Y$276-F88)),ABS($Y$2:$Y$276-F88),0))","v":211},1800.6299999999999,1816.0896990740739,"E",1,33.040935672514621,118.482765076728,473.931060306912,{"$f":"0.25*(((0.028316846592*H88)/100)^(1/3))","v":0.19972378991209522},32.132701421800952,118.14560658988992,472.58242635955969,0.20029375245861697,203.67361111111111,156.7847222222222,null,null,null,449]
[9.5,114,{"$f":"INDEX($Y$2:$Y$276,MATCH(MIN(ABS($Y$2:$Y$276-B89)),ABS($Y$2:$Y$276-B89),0))","v":113},148.20000000000002,{"$f":"INDEX($Y$2:$Y$276,MATCH(MIN(ABS($Y$2:$Y$276-D89)),ABS($Y$2:$Y$276-D89),0))","v":149},216.6,{"$f":"INDEX($Y$2:$Y$276,MATCH(MIN(ABS($Y$2:$Y$276-F89)),ABS($Y$2:$Y$276-F89),0))","v":211},2117.7162500000004,2055.9068287037035,"E",1,31.301939058171744,112.24683007268968,448.9873202907587,{"$f":"0.25*(((0.028316846592*H89)/100)^(1/3))","v":0.21081955601832275},32.132701421800952,113.36061632307486,453.44246529229946,0.20874822004272856,218.32638888888886,165.57638888888886,null,null,null,457]
[10,120,{"$f":"INDEX($Y$2:$Y$276,MATCH(MIN(ABS($Y$2:$Y$276-B90)),ABS($Y$2:$Y$276-B90),0))","v":113},156,{"$f":"INDEX($Y$2:$Y$276,MATCH(MIN(ABS($Y$2:$Y$276-D90)),ABS($Y$2:$Y$276-D90),0))","v":157},228,{"$f":"INDEX($Y$2:$Y$276,MATCH(MIN(ABS($Y$2:$Y$276-F90)),ABS($Y$2:$Y$276-F90),0))","v":227},2470,2330.5596064814818,"E",1,29.736842105263158,106.63448856905519,426.53795427622077,{"$f":"0.25*(((0.028316846592*H90)/100)^(1/3))","v":0.22191532212455026},29.867841409691628,108.72012335242779,434.88049340971116,0.21765820485394186,247.49305555555557,178.13194444444446,null,null,null,461]
[10.5,126,{"$f":"INDEX($Y$2:$Y$276,MATCH(MIN(ABS($Y$2:$Y$276-B91)),ABS($Y$2:$Y$276-B91),0))","v":127},163.80000000000001,{"$f":"INDEX($Y$2:$Y$276,MATCH(MIN(ABS($Y$2:$Y$276-D91)),ABS($Y$2:$Y$276-D91),0))","v":163},239.39999999999998,{"$f":"INDEX($Y$2:$Y$276,MATCH(MIN(ABS($Y$2:$Y$276-F91)),ABS($Y$2:$Y$276-F91),0))","v":239},2859.3337500000002,2863.1591435185192,"E",1,28.320802005012531,101.55665578005258,{"$f":"4*M91","v":406.22662312021032},{"$f":"0.25*(((0.028316846592*H91)/100)^(1/3))","v":0.23301108823077776},28.368200836820083,101.51140654067794,406.04562616271176,0.23311495413971942,270.53472222222223,210.78472222222226,null,null,null,463]
[11,132,{"$f":"INDEX($Y$2:$Y$276,MATCH(MIN(ABS($Y$2:$Y$276-B92)),ABS($Y$2:$Y$276-B92),0))","v":131},171.6,{"$f":"INDEX($Y$2:$Y$276,MATCH(MIN(ABS($Y$2:$Y$276-D92)),ABS($Y$2:$Y$276-D92),0))","v":173},250.79999999999998,{"$f":"INDEX($Y$2:$Y$276,MATCH(MIN(ABS($Y$2:$Y$276-F92)),ABS($Y$2:$Y$276-F92),0))","v":251},3287.5699999999993,3291.9056712962961,"E",1,27.033492822966508,96.94044415368657,387.76177661474628,0.24410685433700527,27.011952191235057,96.897866327884216,387.59146531153687,0.24421411716450594,301.54861111111114,228.34027777777777,null,null,null,467]
[11.5,138,{"$f":"INDEX($Y$2:$Y$276,MATCH(MIN(ABS($Y$2:$Y$276-B93)),ABS($Y$2:$Y$276-B93),0))","v":137},179.4,{"$f":"INDEX($Y$2:$Y$276,MATCH(MIN(ABS($Y$2:$Y$276-D93)),ABS($Y$2:$Y$276-D93),0))","v":179},262.2,{"$f":"INDEX($Y$2:$Y$276,MATCH(MIN(ABS($Y$2:$Y$276-F93)),ABS($Y$2:$Y$276-F93),0))","v":263},3756.5612499999997,3732.3778935185182,"E",1,25.858123569794053,92.725642233961054,370.90256893584422,0.25520262044323277,25.779467680608363,92.925478330709652,371.70191332283861,0.25465380760454182,326.92361111111114,250.21527777777777,null,null,null,479]
[12,144,{"$f":"INDEX($Y$2:$Y$276,MATCH(MIN(ABS($Y$2:$Y$276-B94)),ABS($Y$2:$Y$276-B94),0))","v":139},187.20000000000002,{"$f":"INDEX($Y$2:$Y$276,MATCH(MIN(ABS($Y$2:$Y$276-D94)),ABS($Y$2:$Y$276-D94),0))","v":191},273.59999999999997,{"$f":"INDEX($Y$2:$Y$276,MATCH(MIN(ABS($Y$2:$Y$276-F94)),ABS($Y$2:$Y$276-F94),0))","v":271},4268.16,4163.6452546296296,"E",1,24.780701754385969,88.862073807545997,355.44829523018399,0.26629838654946031,25.018450184501848,89.599468758207209,358.39787503282884,0.26410677661770143,359.45138888888886,261.59027777777777,null,null,null,487]
[12.5,150,{"$f":"INDEX($Y$2:$Y$276,MATCH(MIN(ABS($Y$2:$Y$276-B95)),ABS($Y$2:$Y$276-B95),0))","v":149},195,{"$f":"INDEX($Y$2:$Y$276,MATCH(MIN(ABS($Y$2:$Y$276-D95)),ABS($Y$2:$Y$276-D95),0))","v":193},285,{"$f":"INDEX($Y$2:$Y$276,MATCH(MIN(ABS($Y$2:$Y$276-F95)),ABS($Y$2:$Y$276-F95),0))","v":283},4824.21875,4709.6244212962956,"E",1,23.789473684210527,85.307590855244172,341.23036342097669,0.27739415265568784,23.957597173144876,85.993953655163125,343.9758146206525,0.27518012458504715,379.29861111111109,292.82638888888886,null,null,null,491]
[13,156,{"$f":"INDEX($Y$2:$Y$276,MATCH(MIN(ABS($Y$2:$Y$276-B96)),ABS($Y$2:$Y$276-B96),0))","v":157},202.8,{"$f":"INDEX($Y$2:$Y$276,MATCH(MIN(ABS($Y$2:$Y$276-D96)),ABS($Y$2:$Y$276-D96),0))","v":199},296.39999999999998,{"$f":"INDEX($Y$2:$Y$276,MATCH(MIN(ABS($Y$2:$Y$276-F96)),ABS($Y$2:$Y$276-F96),0))","v":293},5426.59,5297.5688657407409,"E",1,22.874493927125506,82.026529668503997,328.10611867401599,0.28848991876191532,23.139931740614333,82.687108341053801,330.7484333642152,0.28618520293132044,404.90972222222223,319.45138888888891,null,null,null,499]
[13.5,162,{"$f":"INDEX($Y$2:$Y$276,MATCH(MIN(ABS($Y$2:$Y$276-B97)),ABS($Y$2:$Y$276-B97),0))","v":163},210.6,{"$f":"INDEX($Y$2:$Y$276,MATCH(MIN(ABS($Y$2:$Y$276-D97)),ABS($Y$2:$Y$276-D97),0))","v":211},307.8,{"$f":"INDEX($Y$2:$Y$276,MATCH(MIN(ABS($Y$2:$Y$276-F97)),ABS($Y$2:$Y$276-F97),0))","v":307},6077.1262500000012,6110.3304398148148,"E",1,22.027290448343077,78.988510051151991,315.95404020460796,0.29958568486814285,22.084690553745929,78.845172759851792,315.38069103940717,0.30013031935974466,449.84027777777771,347.50694444444446,null,null,null,503]
[14,168,{"$f":"INDEX($Y$2:$Y$276,MATCH(MIN(ABS($Y$2:$Y$276-B98)),ABS($Y$2:$Y$276-B98),0))","v":167},218.4,{"$f":"INDEX($Y$2:$Y$276,MATCH(MIN(ABS($Y$2:$Y$276-D98)),ABS($Y$2:$Y$276-D98),0))","v":223},319.2,{"$f":"INDEX($Y$2:$Y$276,MATCH(MIN(ABS($Y$2:$Y$276-F98)),ABS($Y$2:$Y$276-F98),0))","v":317},6777.6799999999994,6831.8269675925922,"E",1,21.2406015037594,76.167491835039428,304.66996734015771,0.31068145097437033,21.388012618296528,75.96573112592624,303.86292450370496,0.31150660343361536,490.90972222222223,367.63194444444446,null,null,null,509]
[14.5,174,{"$f":"INDEX($Y$2:$Y$276,MATCH(MIN(ABS($Y$2:$Y$276-B99)),ABS($Y$2:$Y$276-B99),0))","v":173},226.20000000000002,{"$f":"INDEX($Y$2:$Y$276,MATCH(MIN(ABS($Y$2:$Y$276-D99)),ABS($Y$2:$Y$276-D99),0))","v":227},330.59999999999997,{"$f":"INDEX($Y$2:$Y$276,MATCH(MIN(ABS($Y$2:$Y$276-F99)),ABS($Y$2:$Y$276-F99),0))","v":331},7530.1037500000002,7522.3964120370365,"E",1,20.508166969147009,73.541026599348413,294.16410639739365,0.32177721708059787,20.483383685800604,73.566134381717305,294.26453752686922,0.32166739600048222,521.78472222222229,397.65972222222217,null,null,null,521]
["HEIGHT ft","HEIGHT \"","PRIME height","WIDTH \"","PRIME width","DEPTH \"","PRIME depth","VOLUME","PRIME volume","TABLE","USEABLE 1=Yes 0=NO","F¹","F²","F³","minimum RT60","F¹","F²","F³","minimum RT60","Square Feet","Square Feet",null,null,null,523]
[{"$f":"B101/12","v":8},{"$f":"B86","v":96},{"$f":"INDEX($Y$2:$Y$276,MATCH(MIN(ABS($Y$2:$Y$276-B101)),ABS($Y$2:$Y$276-B101),0))","v":97},{"$f":"B101*$D$10","v":144},{"$f":"INDEX($Y$2:$Y$276,MATCH(MIN(ABS($Y$2:$Y$276-D101)),ABS($Y$2:$Y$276-D101),0))","v":139},{"$f":"B101*$E$10","v":201.60000000000002},{"$f":"INDEX($Y$2:$Y$276,MATCH(MIN(ABS($Y$2:$Y$276-F101)),ABS($Y$2:$Y$276-F101),0))","v":199},{"$f":"(B101/12)*(D101/12)*(F101/12)","v":1612.8000000000002},{"$f":"(C101/12)*(E101/12)*(G101/12)","v":1552.7297453703704},"F",{"$f":"IF(H101>$L$21,$N$22,$O$22)","v":1},{"$f":"565/(F101/12)","v":33.63095238095238},{"$f":"(SQRT(O101/H101)*11250)","v":122.91451444067438},491.65805776269752,0.19252264053656645,{"$f":"565/(G101/12)","v":34.070351758793976},{"$f":"(SQRT(S101/I101)*11250)","v":124.47956171434868},{"$f":"4*Q101","v":497.91824685739471},{"$f":"0.25*(((0.028316846592*I101)/100)^(1/3))","v":0.19010210635776079},{"$f":"(E101/12)*(G101/12)","v":192.09027777777777},{"$f":"(C101/12)*(G101/12)","v":134.04861111111111},null,null,null,541]
[8.5,102,{"$f":"INDEX($Y$2:$Y$276,MATCH(MIN(ABS($Y$2:$Y$276-B102)),ABS($Y$2:$Y$276-B102),0))","v":101},153,{"$f":"INDEX($Y$2:$Y$276,MATCH(MIN(ABS($Y$2:$Y$276-D102)),ABS($Y$2:$Y$276-D102),0))","v":151},214.20000000000002,{"$f":"INDEX($Y$2:$Y$276,MATCH(MIN(ABS($Y$2:$Y$276-F102)),ABS($Y$2:$Y$276-F102),0))","v":211},1934.4937500000001,{"$f":"(C102/12)*(E102/12)*(G102/12)","v":1862.2459490740739},"F",1,31.652661064425768,115.68424888534058,462.73699554136232,0.20455530557010185,{"$f":"565/(G102/12)","v":32.132701421800952},{"$f":"(SQRT(S102/I102)*11250)","v":117.16133960816654},{"$f":"4*Q102","v":468.64535843266617},{"$f":"0.25*(((0.028316846592*I102)/100)^(1/3))","v":0.20197641098616378},221.25694444444443,147.99305555555554,null,null,null,547]
[9,108,{"$f":"INDEX($Y$2:$Y$276,MATCH(MIN(ABS($Y$2:$Y$276-B103)),ABS($Y$2:$Y$276-B103),0))","v":107},162,{"$f":"INDEX($Y$2:$Y$276,MATCH(MIN(ABS($Y$2:$Y$276-D103)),ABS($Y$2:$Y$276-D103),0))","v":163},226.8,{"$f":"INDEX($Y$2:$Y$276,MATCH(MIN(ABS($Y$2:$Y$276-F103)),ABS($Y$2:$Y$276-F103),0))","v":227},2296.3500000000004,2291.1498842592596,"F",1,29.894179894179892,109.25734616948833,437.02938467795332,0.21658797060363727,29.867841409691628,109.33994247561127,437.35976990244507,0.21642435824096828,256.95138888888891,168.67361111111111,null,null,null,557]
[9.5,114,{"$f":"INDEX($Y$2:$Y$276,MATCH(MIN(ABS($Y$2:$Y$276-B104)),ABS($Y$2:$Y$276-B104),0))","v":113},171,{"$f":"INDEX($Y$2:$Y$276,MATCH(MIN(ABS($Y$2:$Y$276-D104)),ABS($Y$2:$Y$276-D104),0))","v":173},239.4,{"$f":"INDEX($Y$2:$Y$276,MATCH(MIN(ABS($Y$2:$Y$276-F104)),ABS($Y$2:$Y$276-F104),0))","v":239},2700.7312499999998,2703.8258101851852,"F",1,28.320802005012531,103.50695952898894,414.02783811595577,0.22862063563717264,28.368200836820083,103.46745614686233,413.86982458744933,0.22870792190734815,287.13194444444446,187.54861111111111,null,null,null,563]
[10,120,{"$f":"INDEX($Y$2:$Y$276,MATCH(MIN(ABS($Y$2:$Y$276-B105)),ABS($Y$2:$Y$276-B105),0))","v":113},180,{"$f":"INDEX($Y$2:$Y$276,MATCH(MIN(ABS($Y$2:$Y$276-D105)),ABS($Y$2:$Y$276-D105),0))","v":179},252,{"$f":"INDEX($Y$2:$Y$276,MATCH(MIN(ABS($Y$2:$Y$276-F105)),ABS($Y$2:$Y$276-F105),0))","v":251},3150,2938.0653935185187,"F",1,26.904761904761905,98.331611552539499,393.326446210158,0.24065330067070803,27.011952191235057,100.64128861260801,402.56515445043203,0.2351304042963539,312.00694444444446,196.96527777777777,null,null,null,569]
[10.5,126,{"$f":"INDEX($Y$2:$Y$276,MATCH(MIN(ABS($Y$2:$Y$276-B106)),ABS($Y$2:$Y$276-B106),0))","v":127},189,{"$f":"INDEX($Y$2:$Y$276,MATCH(MIN(ABS($Y$2:$Y$276-D106)),ABS($Y$2:$Y$276-D106),0))","v":191},264.60000000000002,{"$f":"INDEX($Y$2:$Y$276,MATCH(MIN(ABS($Y$2:$Y$276-F106)),ABS($Y$2:$Y$276-F106),0))","v":263},3646.5187500000002,3691.8929398148148,"F",1,25.62358276643991,93.649153859561437,374.59661543824575,0.25268596570424345,25.779467680608363,93.263914950756202,373.05565980302481,0.25372971843272046,348.84027777777777,231.95138888888891,null,null,null,571]
[11,132,{"$f":"INDEX($Y$2:$Y$276,MATCH(MIN(ABS($Y$2:$Y$276-B107)),ABS($Y$2:$Y$276-B107),0))","v":131},198,{"$f":"INDEX($Y$2:$Y$276,MATCH(MIN(ABS($Y$2:$Y$276-D107)),ABS($Y$2:$Y$276-D107),0))","v":197},277.2,{"$f":"INDEX($Y$2:$Y$276,MATCH(MIN(ABS($Y$2:$Y$276-F107)),ABS($Y$2:$Y$276-F107),0))","v":277},4192.6499999999996,4136.8859953703704,"F",1,24.458874458874462,89.392374138672267,357.56949655468907,0.26471863073777885,24.476534296028881,89.792243733737465,359.16897493494986,0.2635397657570438,378.95138888888891,251.99305555555554,null,null,null,577]
[11.5,138,{"$f":"INDEX($Y$2:$Y$276,MATCH(MIN(ABS($Y$2:$Y$276-B108)),ABS($Y$2:$Y$276-B108),0))","v":137},207,{"$f":"INDEX($Y$2:$Y$276,MATCH(MIN(ABS($Y$2:$Y$276-D108)),ABS($Y$2:$Y$276-D108),0))","v":211},289.8,{"$f":"INDEX($Y$2:$Y$276,MATCH(MIN(ABS($Y$2:$Y$276-F108)),ABS($Y$2:$Y$276-F108),0))","v":293},4790.7562500000004,4901.4762731481478,"F",1,23.395445134575567,85.505749176121299,342.02299670448519,0.27675129577131424,23.139931740614333,84.857006395372423,339.42802558148969,0.27886709519461711,429.32638888888886,278.75694444444446,null,null,null,587]
[12,144,{"$f":"INDEX($Y$2:$Y$276,MATCH(MIN(ABS($Y$2:$Y$276-B109)),ABS($Y$2:$Y$276-B109),0))","v":139},216,{"$f":"INDEX($Y$2:$Y$276,MATCH(MIN(ABS($Y$2:$Y$276-D109)),ABS($Y$2:$Y$276-D109),0))","v":211},302.40000000000003,{"$f":"INDEX($Y$2:$Y$276,MATCH(MIN(ABS($Y$2:$Y$276-F109)),ABS($Y$2:$Y$276-F109),0))","v":307},5443.2000000000007,5210.6498842592591,"F",1,22.420634920634917,81.943009627116254,327.77203850846502,0.28878396080484969,22.084690553745929,83.144343878226508,332.57737551290603,0.28461138517187268,449.84027777777771,296.34027777777777,null,null,null,593]
[12.5,150,{"$f":"INDEX($Y$2:$Y$276,MATCH(MIN(ABS($Y$2:$Y$276-B110)),ABS($Y$2:$Y$276-B110),0))","v":149},225,{"$f":"INDEX($Y$2:$Y$276,MATCH(MIN(ABS($Y$2:$Y$276-D110)),ABS($Y$2:$Y$276-D110),0))","v":223},315,{"$f":"INDEX($Y$2:$Y$276,MATCH(MIN(ABS($Y$2:$Y$276-F110)),ABS($Y$2:$Y$276-F110),0))","v":313},6152.34375,6018.5480324074069,"F",1,21.523809523809526,78.665289242031591,314.66115696812636,0.30081662583838503,21.661341853035143,79.243946815443636,316.97578726177454,0.29861999346777585,484.71527777777771,323.86805555555554,null,null,null,599]
[13,156,{"$f":"INDEX($Y$2:$Y$276,MATCH(MIN(ABS($Y$2:$Y$276-B111)),ABS($Y$2:$Y$276-B111),0))","v":157},234,{"$f":"INDEX($Y$2:$Y$276,MATCH(MIN(ABS($Y$2:$Y$276-D111)),ABS($Y$2:$Y$276-D111),0))","v":233},327.60000000000002,{"$f":"INDEX($Y$2:$Y$276,MATCH(MIN(ABS($Y$2:$Y$276-F111)),ABS($Y$2:$Y$276-F111),0))","v":331},6920.55,7007.1244212962965,"F",1,20.695970695970697,75.63970119426115,302.5588047770446,0.31284929087192048,20.483383685800604,75.32689483659037,301.30757934636148,0.31414844501055622,535.57638888888891,360.88194444444446,null,null,null,601]
[13.5,162,{"$f":"INDEX($Y$2:$Y$276,MATCH(MIN(ABS($Y$2:$Y$276-B112)),ABS($Y$2:$Y$276-B112),0))","v":163},243,{"$f":"INDEX($Y$2:$Y$276,MATCH(MIN(ABS($Y$2:$Y$276-D112)),ABS($Y$2:$Y$276-D112),0))","v":241},340.2,{"$f":"INDEX($Y$2:$Y$276,MATCH(MIN(ABS($Y$2:$Y$276-F112)),ABS($Y$2:$Y$276-F112),0))","v":337},7750.1812499999996,7661.0943287037026,"F",1,19.929453262786598,72.838230779658886,291.35292311863554,0.32488195590545582,20.118694362017806,73.11947618837597,292.47790475350388,0.32363233592407037,564.00694444444434,381.46527777777777,null,null,null,607]
[14,168,{"$f":"INDEX($Y$2:$Y$276,MATCH(MIN(ABS($Y$2:$Y$276-B113)),ABS($Y$2:$Y$276-B113),0))","v":167},252,{"$f":"INDEX($Y$2:$Y$276,MATCH(MIN(ABS($Y$2:$Y$276-D113)),ABS($Y$2:$Y$276-D113),0))","v":251},352.8,{"$f":"INDEX($Y$2:$Y$276,MATCH(MIN(ABS($Y$2:$Y$276-F113)),ABS($Y$2:$Y$276-F113),0))","v":353},8643.6,8562.9056712962956,"F",1,19.217687074829932,70.236865394671071,280.94746157868428,0.33691462093899127,19.206798866855522,70.456806534223858,281.82722613689543,0.33586289308888889,615.2986111111112,409.38194444444446,null,null,null,613]
[14.5,174,{"$f":"INDEX($Y$2:$Y$276,MATCH(MIN(ABS($Y$2:$Y$276-B114)),ABS($Y$2:$Y$276-B114),0))","v":173},261,{"$f":"INDEX($Y$2:$Y$276,MATCH(MIN(ABS($Y$2:$Y$276-D114)),ABS($Y$2:$Y$276-D114),0))","v":263},365.40000000000003,{"$f":"INDEX($Y$2:$Y$276,MATCH(MIN(ABS($Y$2:$Y$276-F114)),ABS($Y$2:$Y$276-F114),0))","v":367},9603.1687500000007,9663.2714120370365,"F",1,18.555008210180624,67.814904518992762,271.25961807597105,0.34894728597252667,18.474114441416894,67.67401586833067,270.69606347332268,0.34967374961801984,670.28472222222229,440.90972222222217,null,null,null,617]
["HEIGHT ft","HEIGHT \"","PRIME height","WIDTH \"","PRIME width","DEPTH \"","PRIME depth","VOLUME","PRIME volume","TABLE","USEABLE 1=Yes 0=NO","F¹","F²","F³","minimum RT60","F¹","F²","F³","minimum RT60","Square Feet","Square Feet",null,null,null,619]
[{"$f":"B116/12","v":8},{"$f":"B101","v":96},{"$f":"INDEX($Y$2:$Y$276,MATCH(MIN(ABS($Y$2:$Y$276-B116)),ABS($Y$2:$Y$276-B116),0))","v":97},{"$f":"B116*$D$11","v":144},{"$f":"INDEX($Y$2:$Y$276,MATCH(MIN(ABS($Y$2:$Y$276-D116)),ABS($Y$2:$Y$276-D116),0))","v":139},{"$f":"B116*$E$11","v":240},{"$f":"INDEX($Y$2:$Y$276,MATCH(MIN(ABS($Y$2:$Y$276-F116)),ABS($Y$2:$Y$276-F116),0))","v":239},{"$f":"(B116/12)*(D116/12)*(F116/12)","v":1920},{"$f":"(C116/12)*(E116/12)*(G116/12)","v":1864.8362268518522},"G",{"$f":"IF(H116>$L$21,$N$22,$O$22)","v":1},{"$f":"565/(F116/12)","v":28.25},{"$f":"(SQRT(O116/H116)*11250)","v":115.97461297405982},463.89845189623929,0.20404316318504528,{"$f":"565/(G116/12)","v":28.368200836820083},{"$f":"(SQRT(S116/I116)*11250)","v":117.10706834811504},{"$f":"4*Q116","v":468.42827339246014},{"$f":"0.25*(((0.028316846592*I116)/100)^(1/3))","v":0.20207001348582088},{"$f":"(E116/12)*(G116/12)","v":230.70138888888891},{"$f":"(C116/12)*(G116/12)","v":160.99305555555557},null,null,null,631]
[8.5,102,{"$f":"INDEX($Y$2:$Y$276,MATCH(MIN(ABS($Y$2:$Y$276-B117)),ABS($Y$2:$Y$276-B117),0))","v":101},153,{"$f":"INDEX($Y$2:$Y$276,MATCH(MIN(ABS($Y$2:$Y$276-D117)),ABS($Y$2:$Y$276-D117),0))","v":151},255,{"$f":"INDEX($Y$2:$Y$276,MATCH(MIN(ABS($Y$2:$Y$276-F117)),ABS($Y$2:$Y$276-F117),0))","v":257},2302.96875,{"$f":"(C117/12)*(E117/12)*(G117/12)","v":2268.2332175925926},"G",1,26.588235294117649,109.15257691676217,436.61030766704869,0.2167958608841106,{"$f":"565/(G117/12)","v":26.381322957198442},{"$f":"(SQRT(S117/I117)*11250)","v":109.70694110088175},{"$f":"4*Q117","v":438.827764403527},{"$f":"0.25*(((0.028316846592*I117)/100)^(1/3))","v":0.21570036173580237},269.4930555555556,180.25694444444443,null,null,null,641]
[9,108,{"$f":"INDEX($Y$2:$Y$276,MATCH(MIN(ABS($Y$2:$Y$276-B118)),ABS($Y$2:$Y$276-B118),0))","v":107},162,{"$f":"INDEX($Y$2:$Y$276,MATCH(MIN(ABS($Y$2:$Y$276-D118)),ABS($Y$2:$Y$276-D118),0))","v":163},270,{"$f":"INDEX($Y$2:$Y$276,MATCH(MIN(ABS($Y$2:$Y$276-F118)),ABS($Y$2:$Y$276-F118),0))","v":269},2733.75,2715.0630787037039,"G",1,25.111111111111111,103.08854486583095,412.35417946332382,0.22954855858317594,25.204460966542751,103.32451295359915,413.29805181439662,0.2290243254378124,304.4930555555556,199.88194444444443,null,null,null,643]
[9.5,114,{"$f":"INDEX($Y$2:$Y$276,MATCH(MIN(ABS($Y$2:$Y$276-B119)),ABS($Y$2:$Y$276-B119),0))","v":113},171,{"$f":"INDEX($Y$2:$Y$276,MATCH(MIN(ABS($Y$2:$Y$276-D119)),ABS($Y$2:$Y$276-D119),0))","v":173},285,{"$f":"INDEX($Y$2:$Y$276,MATCH(MIN(ABS($Y$2:$Y$276-F119)),ABS($Y$2:$Y$276-F119),0))","v":283},3215.15625,3201.6012731481478,"G",1,23.789473684210527,97.662831978155637,390.65132791262255,0.24230125628224125,23.957597173144876,97.800466600273325,391.2018664010933,0.24196026566117038,339.99305555555554,222.07638888888886,null,null,null,647]
[10,120,{"$f":"INDEX($Y$2:$Y$276,MATCH(MIN(ABS($Y$2:$Y$276-B120)),ABS($Y$2:$Y$276-B120),0))","v":113},180,{"$f":"INDEX($Y$2:$Y$276,MATCH(MIN(ABS($Y$2:$Y$276-D120)),ABS($Y$2:$Y$276-D120),0))","v":179},300,{"$f":"INDEX($Y$2:$Y$276,MATCH(MIN(ABS($Y$2:$Y$276-F120)),ABS($Y$2:$Y$276-F120),0))","v":293},3750,3429.6938657407409,"G",1,22.6,92.779690379247853,371.11876151699141,0.25505395398130659,23.139931740614333,95.582464141930345,382.32985656772138,0.24757498242826376,364.21527777777777,229.92361111111111,null,null,null,653]
[10.5,126,{"$f":"INDEX($Y$2:$Y$276,MATCH(MIN(ABS($Y$2:$Y$276-B121)),ABS($Y$2:$Y$276-B121),0))","v":127},189,{"$f":"INDEX($Y$2:$Y$276,MATCH(MIN(ABS($Y$2:$Y$276-D121)),ABS($Y$2:$Y$276-D121),0))","v":191},315,{"$f":"INDEX($Y$2:$Y$276,MATCH(MIN(ABS($Y$2:$Y$276-F121)),ABS($Y$2:$Y$276-F121),0))","v":313},4341.09375,4393.7737268518513,"G",1,21.523809523809526,88.361609884997975,353.4464395399919,0.26780665168037193,21.661341853035143,88.007046335123761,352.02818534049504,0.26888559343621887,415.15972222222217,276.04861111111109,null,null,null,659]
[11,132,{"$f":"INDEX($Y$2:$Y$276,MATCH(MIN(ABS($Y$2:$Y$276-B122)),ABS($Y$2:$Y$276-B122),0))","v":131},198,{"$f":"INDEX($Y$2:$Y$276,MATCH(MIN(ABS($Y$2:$Y$276-D122)),ABS($Y$2:$Y$276-D122),0))","v":197},330,{"$f":"INDEX($Y$2:$Y$276,MATCH(MIN(ABS($Y$2:$Y$276-F122)),ABS($Y$2:$Y$276-F122),0))","v":331},4991.25,4943.3547453703704,"G",1,20.545454545454547,84.345173072043508,337.38069228817403,0.28055934937943727,20.483383685800604,84.616699648593112,338.46679859437245,0.27965906232059012,452.82638888888891,301.11805555555554,null,null,null,661]
[11.5,138,{"$f":"INDEX($Y$2:$Y$276,MATCH(MIN(ABS($Y$2:$Y$276-B123)),ABS($Y$2:$Y$276-B123),0))","v":137},207,{"$f":"INDEX($Y$2:$Y$276,MATCH(MIN(ABS($Y$2:$Y$276-D123)),ABS($Y$2:$Y$276-D123),0))","v":211},345,{"$f":"INDEX($Y$2:$Y$276,MATCH(MIN(ABS($Y$2:$Y$276-F123)),ABS($Y$2:$Y$276-F123),0))","v":347},5703.28125,5804.8200231481478,"G",1,19.652173913043477,80.677991634128574,322.7119665365143,0.29331204707850256,19.538904899135446,80.204811368111095,320.81924547244438,0.29504248531649979,508.45138888888886,330.13194444444446,null,null,null,673]
[12,144,{"$f":"INDEX($Y$2:$Y$276,MATCH(MIN(ABS($Y$2:$Y$276-B124)),ABS($Y$2:$Y$276-B124),0))","v":139},216,{"$f":"INDEX($Y$2:$Y$276,MATCH(MIN(ABS($Y$2:$Y$276-D124)),ABS($Y$2:$Y$276-D124),0))","v":211},360,{"$f":"INDEX($Y$2:$Y$276,MATCH(MIN(ABS($Y$2:$Y$276-F124)),ABS($Y$2:$Y$276-F124),0))","v":359},6480,6093.2355324074078,"G",1,18.833333333333332,77.316408649373216,309.26563459749286,0.3060647447775679,18.885793871866294,78.918838734286581,315.67535493714632,0.29985016581481605,526.03472222222217,346.53472222222223,null,null,null,677]
[12.5,150,{"$f":"INDEX($Y$2:$Y$276,MATCH(MIN(ABS($Y$2:$Y$276-B125)),ABS($Y$2:$Y$276-B125),0))","v":149},225,{"$f":"INDEX($Y$2:$Y$276,MATCH(MIN(ABS($Y$2:$Y$276-D125)),ABS($Y$2:$Y$276-D125),0))","v":223},375,{"$f":"INDEX($Y$2:$Y$276,MATCH(MIN(ABS($Y$2:$Y$276-F125)),ABS($Y$2:$Y$276-F125),0))","v":373},7324.21875,7172.2633101851843,"G",1,18.079999999999998,74.223752303398285,296.89500921359314,0.31881744247663324,18.176943699731904,74.74427489179601,298.97709956718404,0.31659718305710549,577.63194444444434,385.95138888888886,null,null,null,683]
[13,156,{"$f":"INDEX($Y$2:$Y$276,MATCH(MIN(ABS($Y$2:$Y$276-B126)),ABS($Y$2:$Y$276-B126),0))","v":157},234,{"$f":"INDEX($Y$2:$Y$276,MATCH(MIN(ABS($Y$2:$Y$276-D126)),ABS($Y$2:$Y$276-D126),0))","v":233},390,{"$f":"INDEX($Y$2:$Y$276,MATCH(MIN(ABS($Y$2:$Y$276-F126)),ABS($Y$2:$Y$276-F126),0))","v":389},8238.75,8234.9589120370383,"G",1,17.384615384615383,71.368992599421432,285.47597039768573,0.33157014017569858,17.429305912596401,71.379942851168906,285.51977140467562,0.33151927467536552,629.42361111111109,424.11805555555554,null,null,null,691]
[13.5,162,{"$f":"INDEX($Y$2:$Y$276,MATCH(MIN(ABS($Y$2:$Y$276-B127)),ABS($Y$2:$Y$276-B127),0))","v":163},243,{"$f":"INDEX($Y$2:$Y$276,MATCH(MIN(ABS($Y$2:$Y$276-D127)),ABS($Y$2:$Y$276-D127),0))","v":241},405,{"$f":"INDEX($Y$2:$Y$276,MATCH(MIN(ABS($Y$2:$Y$276-F127)),ABS($Y$2:$Y$276-F127),0))","v":401},9226.40625,9116.0202546296277,"G",1,16.74074074074074,68.725696577220631,274.90278630888253,0.34432283787476387,16.90773067331671,69.001984455600606,276.00793782240243,0.34294414960797359,671.11805555555543,453.90972222222223,null,null,null,701]
[14,168,{"$f":"INDEX($Y$2:$Y$276,MATCH(MIN(ABS($Y$2:$Y$276-B128)),ABS($Y$2:$Y$276-B128),0))","v":167},252,{"$f":"INDEX($Y$2:$Y$276,MATCH(MIN(ABS($Y$2:$Y$276-D128)),ABS($Y$2:$Y$276-D128),0))","v":251},420,{"$f":"INDEX($Y$2:$Y$276,MATCH(MIN(ABS($Y$2:$Y$276-F128)),ABS($Y$2:$Y$276-F128),0))","v":419},10290,10163.902199074073,"G",1,16.142857142857142,66.271207413748471,265.08482965499388,0.35707553557382926,16.181384248210026,66.544144940997413,266.17657976398965,0.35561095422250177,730.34027777777771,485.92361111111109,null,null,null,709]
[14.5,174,{"$f":"INDEX($Y$2:$Y$276,MATCH(MIN(ABS($Y$2:$Y$276-B129)),ABS($Y$2:$Y$276-B129),0))","v":173},261,{"$f":"INDEX($Y$2:$Y$276,MATCH(MIN(ABS($Y$2:$Y$276-D129)),ABS($Y$2:$Y$276-D129),0))","v":263},435,{"$f":"INDEX($Y$2:$Y$276,MATCH(MIN(ABS($Y$2:$Y$276-F129)),ABS($Y$2:$Y$276-F129),0))","v":433},11432.34375,11401.080439814816,"G",1,15.586206896551724,63.985993364998521,255.94397345999408,0.36982823327289455,15.658198614318705,64.044426080511144,256.17770432204458,0.36949081018604846,790.82638888888903,520.20138888888891,null,null,null,719]
["HEIGHT ft","HEIGHT \"","PRIME height","WIDTH \"","PRIME width","DEPTH \"","PRIME depth","VOLUME","PRIME volume","TABLE","USEABLE 1=Yes 0=NO","F¹","F²","F³","minimum RT60","F¹","F²","F³","minimum RT60","Square Feet","Square Feet",null,null,null,727]
[{"$f":"B131/12","v":8},96,{"$f":"INDEX($Y$2:$Y$276,MATCH(MIN(ABS($Y$2:$Y$276-B131)),ABS($Y$2:$Y$276-B131),0))","v":97},{"$f":"B131*$D$12","v":120.96000000000001},{"$f":"INDEX($Y$2:$Y$276,MATCH(MIN(ABS($Y$2:$Y$276-D131)),ABS($Y$2:$Y$276-D131),0))","v":127},{"$f":"B131*$E$12","v":152.64000000000001},{"$f":"INDEX($Y$2:$Y$276,MATCH(MIN(ABS($Y$2:$Y$276-F131)),ABS($Y$2:$Y$276-F131),0))","v":151},{"$f":"(B131/12)*(D131/12)*(F131/12)","v":1025.7408},{"$f":"(C131/12)*(E131/12)*(G131/12)","v":1076.486689814815},"H",{"$f":"IF(H131>$L$21,$N$22,$O$22)","v":0},{"$f":"565/(F131/12)","v":44.418238993710688},{"$f":"(SQRT(O131/H131)*11250)","v":142.92804870776794},{"$f":"4*M131","v":571.71219483107177},{"$f":"0.25*(((0.028316846592*H131)/100)^(1/3))","v":0.1655646116653551},{"$f":"565/(G131/12)","v":44.900662251655625},{"$f":"(SQRT(S131/I131)*11250)","v":140.64591409474966},{"$f":"4*Q131","v":562.58365637899863},{"$f":"0.25*(((0.028316846592*I131)/100)^(1/3))","v":0.16825107954751412},{"$f":"(E131/12)*(G131/12)","v":133.17361111111111},{"$f":"(C131/12)*(G131/12)","v":101.71527777777779},null,null,null,733]
[8.5,102,{"$f":"INDEX($Y$2:$Y$276,MATCH(MIN(ABS($Y$2:$Y$276-B132)),ABS($Y$2:$Y$276-B132),0))","v":101},128.52000000000001,{"$f":"INDEX($Y$2:$Y$276,MATCH(MIN(ABS($Y$2:$Y$276-D132)),ABS($Y$2:$Y$276-D132),0))","v":127},162.18,{"$f":"INDEX($Y$2:$Y$276,MATCH(MIN(ABS($Y$2:$Y$276-F132)),ABS($Y$2:$Y$276-F132),0))","v":163},1230.3380250000002,{"$f":"(C132/12)*(E132/12)*(G132/12)","v":1209.9542824074074},"H",0,41.805401405845352,134.52051643084039,538.08206572336155,0.1759123998944398,{"$f":"565/(G132/12)","v":41.595092024539873},{"$f":"(SQRT(S132/I132)*11250)","v":135.27172278369289},{"$f":"4*Q132","v":541.08689113477158},{"$f":"0.25*(((0.028316846592*I132)/100)^(1/3))","v":0.17493550310014422},143.75694444444446,114.32638888888889,null,null,null,739]
[9,108,{"$f":"INDEX($Y$2:$Y$276,MATCH(MIN(ABS($Y$2:$Y$276-B133)),ABS($Y$2:$Y$276-B133),0))","v":107},136.08000000000001,{"$f":"INDEX($Y$2:$Y$276,MATCH(MIN(ABS($Y$2:$Y$276-D133)),ABS($Y$2:$Y$276-D133),0))","v":137},171.72,{"$f":"INDEX($Y$2:$Y$276,MATCH(MIN(ABS($Y$2:$Y$276-F133)),ABS($Y$2:$Y$276-F133),0))","v":173},1460.4786000000004,1467.5966435185182,"H",0,39.482879105520617,127.04715440690481,508.18861762761924,0.18626018812352449,39.190751445086704,126.84142277374362,507.36569109497447,0.18656229457942508,164.59027777777777,128.54861111111109,null,null,null,743]
[9.5,114,{"$f":"INDEX($Y$2:$Y$276,MATCH(MIN(ABS($Y$2:$Y$276-B134)),ABS($Y$2:$Y$276-B134),0))","v":113},143.64000000000001,{"$f":"INDEX($Y$2:$Y$276,MATCH(MIN(ABS($Y$2:$Y$276-D134)),ABS($Y$2:$Y$276-D134),0))","v":139},181.26000000000002,{"$f":"INDEX($Y$2:$Y$276,MATCH(MIN(ABS($Y$2:$Y$276-F134)),ABS($Y$2:$Y$276-F134),0))","v":181},1717.6650750000003,1645.2355324074074,"H",1,37.404832836809,120.36046206969931,481.44184827879724,0.19660797635260921,37.458563535911601,122.10140124288313,488.40560497153251,0.19380471181748901,174.7152777777778,142.03472222222223,null,null,null,751]
[10,120,{"$f":"INDEX($Y$2:$Y$276,MATCH(MIN(ABS($Y$2:$Y$276-B135)),ABS($Y$2:$Y$276-B135),0))","v":113},151.19999999999999,{"$f":"INDEX($Y$2:$Y$276,MATCH(MIN(ABS($Y$2:$Y$276-D135)),ABS($Y$2:$Y$276-D135),0))","v":151},190.8,{"$f":"INDEX($Y$2:$Y$276,MATCH(MIN(ABS($Y$2:$Y$276-F135)),ABS($Y$2:$Y$276-F135),0))","v":191},2003.4,1886.0144675925926,"H",1,35.534591194968556,114.34243896621435,457.36975586485738,0.20695576458169387,35.497382198952884,116.66708176014865,466.66832704059459,0.20283208016669266,200.28472222222223,149.88194444444443,null,null,null,757]
[10.5,126,{"$f":"INDEX($Y$2:$Y$276,MATCH(MIN(ABS($Y$2:$Y$276-B136)),ABS($Y$2:$Y$276-B136),0))","v":127},158.76,{"$f":"INDEX($Y$2:$Y$276,MATCH(MIN(ABS($Y$2:$Y$276-D136)),ABS($Y$2:$Y$276-D136),0))","v":157},200.34,{"$f":"INDEX($Y$2:$Y$276,MATCH(MIN(ABS($Y$2:$Y$276-F136)),ABS($Y$2:$Y$276-F136),0))","v":199},2319.1859249999998,2296.2158564814818,"H",1,33.842467804731953,108.89756092020414,435.59024368081657,0.21730355281077857,34.070351758793976,109.25947371038795,437.0378948415518,0.21658375312253308,216.96527777777777,175.50694444444443,null,null,null,761]
[11,132,{"$f":"INDEX($Y$2:$Y$276,MATCH(MIN(ABS($Y$2:$Y$276-B137)),ABS($Y$2:$Y$276-B137),0))","v":131},166.32,{"$f":"INDEX($Y$2:$Y$276,MATCH(MIN(ABS($Y$2:$Y$276-D137)),ABS($Y$2:$Y$276-D137),0))","v":167},209.88000000000002,{"$f":"INDEX($Y$2:$Y$276,MATCH(MIN(ABS($Y$2:$Y$276-F137)),ABS($Y$2:$Y$276-F137),0))","v":211},2666.5254,2671.3234953703695,"H",1,32.304173813607775,103.94767178746758,415.79068714987034,0.22765134103986326,32.132701421800952,103.88539931563167,415.54159726252669,0.22778780306259891,244.70138888888886,191.95138888888886,null,null,null,769]
[11.5,138,{"$f":"INDEX($Y$2:$Y$276,MATCH(MIN(ABS($Y$2:$Y$276-B138)),ABS($Y$2:$Y$276-B138),0))","v":137},173.88,{"$f":"INDEX($Y$2:$Y$276,MATCH(MIN(ABS($Y$2:$Y$276-D138)),ABS($Y$2:$Y$276-D138),0))","v":173},219.42000000000002,{"$f":"INDEX($Y$2:$Y$276,MATCH(MIN(ABS($Y$2:$Y$276-F138)),ABS($Y$2:$Y$276-F138),0))","v":223},3046.920975,3058.63599537037,"H",1,30.89964451736396,99.428207796708122,397.71283118683249,0.23799912926894795,30.40358744394619,99.301103887625345,397.20441555050138,0.23830376454996774,267.90972222222217,212.1597222222222,null,null,null,773]
[12,144,{"$f":"INDEX($Y$2:$Y$276,MATCH(MIN(ABS($Y$2:$Y$276-B139)),ABS($Y$2:$Y$276-B139),0))","v":139},181.44,{"$f":"INDEX($Y$2:$Y$276,MATCH(MIN(ABS($Y$2:$Y$276-D139)),ABS($Y$2:$Y$276-D139),0))","v":181},228.96,{"$f":"INDEX($Y$2:$Y$276,MATCH(MIN(ABS($Y$2:$Y$276-F139)),ABS($Y$2:$Y$276-F139),0))","v":229},3461.8752000000004,3334.1498842592596,"H",1,29.612159329140457,95.285365805178628,381.14146322071451,0.24834691749803264,29.606986899563321,96.48688853024602,385.94755412098408,0.24525432668471414,287.84027777777777,221.04861111111111,null,null,null,787]
[12.5,150,{"$f":"INDEX($Y$2:$Y$276,MATCH(MIN(ABS($Y$2:$Y$276-B140)),ABS($Y$2:$Y$276-B140),0))","v":149},189,{"$f":"INDEX($Y$2:$Y$276,MATCH(MIN(ABS($Y$2:$Y$276-D140)),ABS($Y$2:$Y$276-D140),0))","v":191},238.5,{"$f":"INDEX($Y$2:$Y$276,MATCH(MIN(ABS($Y$2:$Y$276-F140)),ABS($Y$2:$Y$276-F140),0))","v":239},3912.890625,3936.1695601851852,"H",1,28.427672955974842,91.473951172971482,365.89580469188593,0.25869470572711734,28.368200836820083,91.29326553757474,365.17306215029896,0.25920670863338685,317.00694444444446,247.29861111111111,null,null,null,797]
[13,156,{"$f":"INDEX($Y$2:$Y$276,MATCH(MIN(ABS($Y$2:$Y$276-B141)),ABS($Y$2:$Y$276-B141),0))","v":157},196.56,{"$f":"INDEX($Y$2:$Y$276,MATCH(MIN(ABS($Y$2:$Y$276-D141)),ABS($Y$2:$Y$276-D141),0))","v":197},248.04000000000002,{"$f":"INDEX($Y$2:$Y$276,MATCH(MIN(ABS($Y$2:$Y$276-F141)),ABS($Y$2:$Y$276-F141),0))","v":251},4401.4698000000008,4492.5804398148157,"H",1,27.334300919206576,87.955722281703345,351.82288912681338,0.26904249395620206,27.011952191235057,87.357068993784125,349.4282759751365,0.27088622767405751,343.38194444444451,273.65972222222223,null,null,null,809]
[13.5,162,{"$f":"INDEX($Y$2:$Y$276,MATCH(MIN(ABS($Y$2:$Y$276-B142)),ABS($Y$2:$Y$276-B142),0))","v":163},204.12,{"$f":"INDEX($Y$2:$Y$276,MATCH(MIN(ABS($Y$2:$Y$276-D142)),ABS($Y$2:$Y$276-D142),0))","v":199},257.58000000000004,{"$f":"INDEX($Y$2:$Y$276,MATCH(MIN(ABS($Y$2:$Y$276-F142)),ABS($Y$2:$Y$276-F142),0))","v":257},4929.115275000001,4824.2528935185182,"H",1,26.321919403680404,84.69810293793654,338.79241175174616,0.27939028218528672,26.381322957198442,85.30738960071875,341.229558402875,0.27739480707529679,355.15972222222223,290.90972222222223,null,null,null,811]
[14,168,{"$f":"INDEX($Y$2:$Y$276,MATCH(MIN(ABS($Y$2:$Y$276-B143)),ABS($Y$2:$Y$276-B143),0))","v":167},211.68,{"$f":"INDEX($Y$2:$Y$276,MATCH(MIN(ABS($Y$2:$Y$276-D143)),ABS($Y$2:$Y$276-D143),0))","v":211},267.12,{"$f":"INDEX($Y$2:$Y$276,MATCH(MIN(ABS($Y$2:$Y$276-F143)),ABS($Y$2:$Y$276-F143),0))","v":269},5497.3296000000009,5485.3894675925922,"H",1,25.381850853548965,81.673170690153114,326.69268276061246,0.28973807041437144,25.204460966542751,81.732387497701566,326.92954999080627,0.28952814918142483,394.15972222222223,311.96527777777777,null,null,null,821]
[14.5,174,{"$f":"INDEX($Y$2:$Y$276,MATCH(MIN(ABS($Y$2:$Y$276-B144)),ABS($Y$2:$Y$276-B144),0))","v":173},219.24,{"$f":"INDEX($Y$2:$Y$276,MATCH(MIN(ABS($Y$2:$Y$276-D144)),ABS($Y$2:$Y$276-D144),0))","v":223},276.66000000000003,{"$f":"INDEX($Y$2:$Y$276,MATCH(MIN(ABS($Y$2:$Y$276-F144)),ABS($Y$2:$Y$276-F144),0))","v":277},6107.6153250000016,6184.2494212962947,"H",1,24.506614617219689,78.856854459458162,315.42741783783265,0.30008585864345616,24.476534296028881,78.529773062442999,314.119092249772,0.30133573493931087,428.96527777777771,332.78472222222217,null,null,null,823]
["HEIGHT ft","HEIGHT \"","PRIME height","WIDTH \"","PRIME width","DEPTH \"","PRIME depth","VOLUME","PRIME volume","TABLE","USEABLE 1=Yes 0=NO","F¹","F²","F³","minimum RT60","F¹","F²","F³","minimum RT60","Square Feet","Square Feet",null,null,null,827]
[{"$f":"B146/12","v":8},96,{"$f":"INDEX($Y$2:$Y$276,MATCH(MIN(ABS($Y$2:$Y$276-B146)),ABS($Y$2:$Y$276-B146),0))","v":97},{"$f":"B146*$D$13","v":188.16},{"$f":"INDEX($Y$2:$Y$276,MATCH(MIN(ABS($Y$2:$Y$276-D146)),ABS($Y$2:$Y$276-D146),0))","v":191},{"$f":"B146*$E$13","v":248.64},{"$f":"INDEX($Y$2:$Y$276,MATCH(MIN(ABS($Y$2:$Y$276-F146)),ABS($Y$2:$Y$276-F146),0))","v":251},{"$f":"(B146/12)*(D146/12)*(F146/12)","v":2599.1167999999998},{"$f":"(C146/12)*(E146/12)*(G146/12)","v":2691.1325231481483},"I",{"$f":"IF(H146>$L$21,$N$22,$O$22)","v":1},{"$f":"565/(F146/12)","v":27.268339768339771},{"$f":"(SQRT(O146/H146)*11250)","v":104.83864743679467},{"$f":"4*M146","v":419.35458974717869},{"$f":"0.25*(((0.028316846592*H146)/100)^(1/3))","v":0.22571663655480723},{"$f":"565/(G146/12)","v":27.011952191235057},{"$f":"(SQRT(S146/I146)*11250)","v":103.62987631985105},{"$f":"4*Q146","v":414.5195052794042},{"$f":"0.25*(((0.028316846592*I146)/100)^(1/3))","v":0.22834946562466926},{"$f":"(E146/12)*(G146/12)","v":332.92361111111114},{"$f":"(C146/12)*(G146/12)","v":169.07638888888891},null,null,null,829]
[8.5,102,{"$f":"INDEX($Y$2:$Y$276,MATCH(MIN(ABS($Y$2:$Y$276-B147)),ABS($Y$2:$Y$276-B147),0))","v":101},199.92,{"$f":"INDEX($Y$2:$Y$276,MATCH(MIN(ABS($Y$2:$Y$276-D147)),ABS($Y$2:$Y$276-D147),0))","v":199},264.18,{"$f":"INDEX($Y$2:$Y$276,MATCH(MIN(ABS($Y$2:$Y$276-F147)),ABS($Y$2:$Y$276-F147),0))","v":263},3117.5441500000002,{"$f":"(C147/12)*(E147/12)*(G147/12)","v":3059.0491898148143},"I",1,25.664319781966839,98.671668175806758,394.68667270322703,0.23982392633948268,{"$f":"565/(G147/12)","v":25.779467680608363},{"$f":"(SQRT(S147/I147)*11250)","v":99.29663272579019},{"$f":"4*Q147","v":397.18653090316076},{"$f":"0.25*(((0.028316846592*I147)/100)^(1/3))","v":0.23831449497121146},363.45138888888886,184.46527777777777,null,null,null,839]
[9,108,{"$f":"INDEX($Y$2:$Y$276,MATCH(MIN(ABS($Y$2:$Y$276-B148)),ABS($Y$2:$Y$276-B148),0))","v":107},211.68,{"$f":"INDEX($Y$2:$Y$276,MATCH(MIN(ABS($Y$2:$Y$276-D148)),ABS($Y$2:$Y$276-D148),0))","v":211},279.71999999999997,{"$f":"INDEX($Y$2:$Y$276,MATCH(MIN(ABS($Y$2:$Y$276-F148)),ABS($Y$2:$Y$276-F148),0))","v":281},3700.6955999999996,3671.3755787037035,"I",1,24.238524238524239,93.189908832706394,372.75963533082557,0.25393121612415814,24.128113879003557,93.437326418408901,373.7493056736356,0.25325881837011061,411.74305555555554,208.79861111111111,null,null,null,853]
[9.5,114,{"$f":"INDEX($Y$2:$Y$276,MATCH(MIN(ABS($Y$2:$Y$276-B149)),ABS($Y$2:$Y$276-B149),0))","v":113},223.44,{"$f":"INDEX($Y$2:$Y$276,MATCH(MIN(ABS($Y$2:$Y$276-D149)),ABS($Y$2:$Y$276-D149),0))","v":223},295.26,{"$f":"INDEX($Y$2:$Y$276,MATCH(MIN(ABS($Y$2:$Y$276-F149)),ABS($Y$2:$Y$276-F149),0))","v":293},4352.3784500000002,4272.7471064814818,"I",1,22.962812436496648,88.285176788879724,353.1407071555189,0.2680385059088336,23.139931740614333,88.8302624426709,355.3210497706836,0.266393751742664,453.74305555555554,229.92361111111111,null,null,null,857]
[10,120,{"$f":"INDEX($Y$2:$Y$276,MATCH(MIN(ABS($Y$2:$Y$276-B150)),ABS($Y$2:$Y$276-B150),0))","v":113},235.2,{"$f":"INDEX($Y$2:$Y$276,MATCH(MIN(ABS($Y$2:$Y$276-D150)),ABS($Y$2:$Y$276-D150),0))","v":233},310.79999999999995,{"$f":"INDEX($Y$2:$Y$276,MATCH(MIN(ABS($Y$2:$Y$276-F150)),ABS($Y$2:$Y$276-F150),0))","v":311},5076.3999999999987,4738.6105324074078,"I",1,21.814671814671819,83.87091794943575,335.483671797743,0.28214579569350906,21.80064308681672,85.818253056876273,343.27301222750509,0.27574351653028051,503.21527777777783,244.04861111111111,null,null,null,859]
[10.5,126,{"$f":"INDEX($Y$2:$Y$276,MATCH(MIN(ABS($Y$2:$Y$276-B151)),ABS($Y$2:$Y$276-B151),0))","v":127},246.96,{"$f":"INDEX($Y$2:$Y$276,MATCH(MIN(ABS($Y$2:$Y$276-D151)),ABS($Y$2:$Y$276-D151),0))","v":251},326.33999999999997,{"$f":"INDEX($Y$2:$Y$276,MATCH(MIN(ABS($Y$2:$Y$276-F151)),ABS($Y$2:$Y$276-F151),0))","v":331},5876.5675499999998,6106.0688657407409,"I",1,20.775877918735063,79.877064713748325,319.5082588549933,0.29625308547818452,20.483383685800604,78.863511149258429,315.45404459703371,0.30006052907791536,576.95138888888891,291.92361111111114,null,null,null,863]
[11,132,{"$f":"INDEX($Y$2:$Y$276,MATCH(MIN(ABS($Y$2:$Y$276-B152)),ABS($Y$2:$Y$276-B152),0))","v":131},258.71999999999997,{"$f":"INDEX($Y$2:$Y$276,MATCH(MIN(ABS($Y$2:$Y$276-D152)),ABS($Y$2:$Y$276-D152),0))","v":257},341.88,{"$f":"INDEX($Y$2:$Y$276,MATCH(MIN(ABS($Y$2:$Y$276-F152)),ABS($Y$2:$Y$276-F152),0))","v":337},6756.6883999999991,6565.8443287037035,"I",1,19.831519831519831,76.246289044941577,304.98515617976631,0.31036037526285992,20.118694362017806,76.97797475514642,307.91189902058568,0.30741035933536942,601.45138888888891,306.57638888888886,null,null,null,877]
[11.5,138,{"$f":"INDEX($Y$2:$Y$276,MATCH(MIN(ABS($Y$2:$Y$276-B153)),ABS($Y$2:$Y$276-B153),0))","v":137},270.48,{"$f":"INDEX($Y$2:$Y$276,MATCH(MIN(ABS($Y$2:$Y$276-D153)),ABS($Y$2:$Y$276-D153),0))","v":271},357.41999999999996,{"$f":"INDEX($Y$2:$Y$276,MATCH(MIN(ABS($Y$2:$Y$276-F153)),ABS($Y$2:$Y$276-F153),0))","v":359},7720.5698499999999,7713.3061342592582,"I",1,18.969279838845058,72.931232999509348,291.72493199803739,0.32446766504753538,18.885793871866294,72.954119231500357,291.81647692600143,0.32436587720698457,675.61805555555554,341.54861111111109,null,null,null,881]
[12,144,{"$f":"INDEX($Y$2:$Y$276,MATCH(MIN(ABS($Y$2:$Y$276-B154)),ABS($Y$2:$Y$276-B154),0))","v":139},282.24,{"$f":"INDEX($Y$2:$Y$276,MATCH(MIN(ABS($Y$2:$Y$276-D154)),ABS($Y$2:$Y$276-D154),0))","v":283},372.96,{"$f":"INDEX($Y$2:$Y$276,MATCH(MIN(ABS($Y$2:$Y$276-F154)),ABS($Y$2:$Y$276-F154),0))","v":373},8772.0192000000006,8491.1464120370365,"I",1,18.17889317889318,69.892431624529777,279.56972649811911,0.33857495483221084,18.176943699731904,70.654728457140905,282.61891382856362,0.33492205542539183,733.04861111111109,360.04861111111114,null,null,null,883]
[12.5,150,{"$f":"INDEX($Y$2:$Y$276,MATCH(MIN(ABS($Y$2:$Y$276-B155)),ABS($Y$2:$Y$276-B155),0))","v":149},294,{"$f":"INDEX($Y$2:$Y$276,MATCH(MIN(ABS($Y$2:$Y$276-D155)),ABS($Y$2:$Y$276-D155),0))","v":293},388.5,{"$f":"INDEX($Y$2:$Y$276,MATCH(MIN(ABS($Y$2:$Y$276-F155)),ABS($Y$2:$Y$276-F155),0))","v":389},9914.84375,9827.8778935185164,"I",1,17.451737451737451,67.096734359548591,268.38693743819437,0.3526822446168863,17.429305912596401,67.294064094461575,269.1762563778463,0.35164805690991296,791.50694444444446,402.5069444444444,null,null,null,887]
[13,156,{"$f":"INDEX($Y$2:$Y$276,MATCH(MIN(ABS($Y$2:$Y$276-B156)),ABS($Y$2:$Y$276-B156),0))","v":157},305.76,{"$f":"INDEX($Y$2:$Y$276,MATCH(MIN(ABS($Y$2:$Y$276-D156)),ABS($Y$2:$Y$276-D156),0))","v":307},404.03999999999996,{"$f":"INDEX($Y$2:$Y$276,MATCH(MIN(ABS($Y$2:$Y$276-F156)),ABS($Y$2:$Y$276-F156),0))","v":401},11152.850799999998,11185.068865740739,"I",1,16.780516780516784,64.516090730335193,258.06436292134077,0.36678953440156176,16.90773067331671,64.45408596810789,257.81634387243156,0.36714238554399015,854.90972222222217,437.20138888888886,null,null,null,907]
[13.5,162,{"$f":"INDEX($Y$2:$Y$276,MATCH(MIN(ABS($Y$2:$Y$276-B157)),ABS($Y$2:$Y$276-B157),0))","v":163},317.52,{"$f":"INDEX($Y$2:$Y$276,MATCH(MIN(ABS($Y$2:$Y$276-D157)),ABS($Y$2:$Y$276-D157),0))","v":317},419.58,{"$f":"INDEX($Y$2:$Y$276,MATCH(MIN(ABS($Y$2:$Y$276-F157)),ABS($Y$2:$Y$276-F157),0))","v":419},12489.847649999998,12529.021412037036,"I",1,16.159016159016161,62.12660588847092,248.50642355388368,0.38089682418623716,16.181384248210026,62.061789074224308,248.24715629689723,0.38129462964864302,922.38194444444446,474.28472222222223,null,null,null,911]
[14,168,{"$f":"INDEX($Y$2:$Y$276,MATCH(MIN(ABS($Y$2:$Y$276-B158)),ABS($Y$2:$Y$276-B158),0))","v":167},329.28,{"$f":"INDEX($Y$2:$Y$276,MATCH(MIN(ABS($Y$2:$Y$276-D158)),ABS($Y$2:$Y$276-D158),0))","v":331},435.12,{"$f":"INDEX($Y$2:$Y$276,MATCH(MIN(ABS($Y$2:$Y$276-F158)),ABS($Y$2:$Y$276-F158),0))","v":433},13929.641599999997,13851.23900462963,"I",1,15.581908439051297,59.907798535311251,239.631194141245,0.39500411397091267,15.658198614318705,60.02061858932192,240.08247435728768,0.39426162936278891,995.29861111111109,502.15972222222223,null,null,null,919]
[14.5,174,{"$f":"INDEX($Y$2:$Y$276,MATCH(MIN(ABS($Y$2:$Y$276-B159)),ABS($Y$2:$Y$276-B159),0))","v":173},341.04,{"$f":"INDEX($Y$2:$Y$276,MATCH(MIN(ABS($Y$2:$Y$276-D159)),ABS($Y$2:$Y$276-D159),0))","v":337},450.65999999999997,{"$f":"INDEX($Y$2:$Y$276,MATCH(MIN(ABS($Y$2:$Y$276-F159)),ABS($Y$2:$Y$276-F159),0))","v":449},15476.03995,15148.813078703703,"I",1,15.044601251497804,57.842012378921197,231.36804951568479,0.40911140375558813,15.100222717149222,58.255527505787107,233.02211002314843,0.40620740886841672,1050.7847222222222,539.42361111111109,null,null,null,929]
["HEIGHT ft","HEIGHT \"","PRIME height","WIDTH \"","PRIME width","DEPTH \"","PRIME depth","VOLUME","PRIME volume","TABLE","USEABLE 1=Yes 0=NO","F¹","F²","F³","minimum RT60","F¹","F²","F³","minimum RT60","Square Feet","Square Feet",null,null,null,937]
[{"$f":"B161/12","v":8},96,{"$f":"INDEX($Y$2:$Y$276,MATCH(MIN(ABS($Y$2:$Y$276-B161)),ABS($Y$2:$Y$276-B161),0))","v":97},{"$f":"B161*$D$14","v":155.52000000000001},{"$f":"INDEX($Y$2:$Y$276,MATCH(MIN(ABS($Y$2:$Y$276-D161)),ABS($Y$2:$Y$276-D161),0))","v":157},{"$f":"B161*$E$14","v":251.52},{"$f":"INDEX($Y$2:$Y$276,MATCH(MIN(ABS($Y$2:$Y$276-F161)),ABS($Y$2:$Y$276-F161),0))","v":251},{"$f":"(B161/12)*(D161/12)*(F161/12)","v":2173.1328000000003},{"$f":"(C161/12)*(E161/12)*(G161/12)","v":2212.08275462963},"J",{"$f":"IF(H161>$L$21,$N$22,$O$22)","v":1},{"$f":"565/(F161/12)","v":26.956106870229007},{"$f":"(SQRT(O161/H161)*11250)","v":111.28447616358743},{"$f":"4*M161","v":445.13790465434971},{"$f":"0.25*(((0.028316846592*H161)/100)^(1/3))","v":0.21264265867238205},{"$f":"565/(G161/12)","v":27.011952191235057},{"$f":"(SQRT(S161/I161)*11250)","v":110.62744564582697},{"$f":"4*Q161","v":442.50978258330787},{"$f":"0.25*(((0.028316846592*I161)/100)^(1/3))","v":0.21390557055929993},{"$f":"(E161/12)*(G161/12)","v":273.65972222222223},{"$f":"(C161/12)*(G161/12)","v":169.07638888888891},null,null,null,941]
[8.5,102,{"$f":"INDEX($Y$2:$Y$276,MATCH(MIN(ABS($Y$2:$Y$276-B162)),ABS($Y$2:$Y$276-B162),0))","v":101},165.24,{"$f":"INDEX($Y$2:$Y$276,MATCH(MIN(ABS($Y$2:$Y$276-D162)),ABS($Y$2:$Y$276-D162),0))","v":167},267.24,{"$f":"INDEX($Y$2:$Y$276,MATCH(MIN(ABS($Y$2:$Y$276-F162)),ABS($Y$2:$Y$276-F162),0))","v":269},2606.5921500000004,{"$f":"(C162/12)*(E162/12)*(G162/12)","v":2625.7077546296296},"J",1,25.37045352492142,104.73833050690581,418.95332202762324,0.22593282483940591,{"$f":"565/(G162/12)","v":25.204460966542751},{"$f":"(SQRT(S162/I162)*11250)","v":104.48354016936787},{"$f":"4*Q162","v":417.93416067747148},{"$f":"0.25*(((0.028316846592*I162)/100)^(1/3))","v":0.22648377765559516},311.96527777777777,188.67361111111111,null,null,null,947]
[9,108,{"$f":"INDEX($Y$2:$Y$276,MATCH(MIN(ABS($Y$2:$Y$276-B163)),ABS($Y$2:$Y$276-B163),0))","v":107},174.96,{"$f":"INDEX($Y$2:$Y$276,MATCH(MIN(ABS($Y$2:$Y$276-D163)),ABS($Y$2:$Y$276-D163),0))","v":173},282.96000000000004,{"$f":"INDEX($Y$2:$Y$276,MATCH(MIN(ABS($Y$2:$Y$276-F163)),ABS($Y$2:$Y$276-F163),0))","v":283},3094.1676000000002,3031.6047453703695,"J",1,23.960983884648005,98.919534367633261,395.67813747053304,0.2392229910064298,23.957597173144876,99.595369851656315,398.38147940662526,0.23759966869579344,339.99305555555554,210.2847222222222,null,null,null,953]
[9.5,114,{"$f":"INDEX($Y$2:$Y$276,MATCH(MIN(ABS($Y$2:$Y$276-B164)),ABS($Y$2:$Y$276-B164),0))","v":113},184.68,{"$f":"INDEX($Y$2:$Y$276,MATCH(MIN(ABS($Y$2:$Y$276-D164)),ABS($Y$2:$Y$276-D164),0))","v":181},298.68,{"$f":"INDEX($Y$2:$Y$276,MATCH(MIN(ABS($Y$2:$Y$276-F164)),ABS($Y$2:$Y$276-F164),0))","v":293},3639.0424500000004,3468.0144675925931,"J",1,22.699879469666531,93.713243085126251,374.852972340505,0.25251315717345368,23.139931740614333,95.229106150663142,380.91642460265257,0.24849363641983288,368.28472222222223,229.92361111111111,null,null,null,967]
[10,120,{"$f":"INDEX($Y$2:$Y$276,MATCH(MIN(ABS($Y$2:$Y$276-B165)),ABS($Y$2:$Y$276-B165),0))","v":113},194.4,{"$f":"INDEX($Y$2:$Y$276,MATCH(MIN(ABS($Y$2:$Y$276-D165)),ABS($Y$2:$Y$276-D165),0))","v":193},314.40000000000003,{"$f":"INDEX($Y$2:$Y$276,MATCH(MIN(ABS($Y$2:$Y$276-F165)),ABS($Y$2:$Y$276-F165),0))","v":313},4244.4000000000005,3950.3570601851843,"J",1,21.564885496183205,89.027580930869959,356.11032372347984,0.26580332334047757,21.661341853035143,91.183842780623124,364.7353711224925,0.25951776278304867,419.5069444444444,245.61805555555554,null,null,null,971]
[10.5,126,{"$f":"INDEX($Y$2:$Y$276,MATCH(MIN(ABS($Y$2:$Y$276-B166)),ABS($Y$2:$Y$276-B166),0))","v":127},204.12,{"$f":"INDEX($Y$2:$Y$276,MATCH(MIN(ABS($Y$2:$Y$276-D166)),ABS($Y$2:$Y$276-D166),0))","v":199},330.12,{"$f":"INDEX($Y$2:$Y$276,MATCH(MIN(ABS($Y$2:$Y$276-F166)),ABS($Y$2:$Y$276-F166),0))","v":331},4913.4235500000004,4841.0665509259252,"J",1,20.537986186841149,84.788172315114238,339.15268926045695,0.2790934895075014,20.483383685800604,85.20851380154599,340.83405520618396,0.27771669548776012,457.42361111111109,291.92361111111114,null,null,null,977]
[11,132,{"$f":"INDEX($Y$2:$Y$276,MATCH(MIN(ABS($Y$2:$Y$276-B167)),ABS($Y$2:$Y$276-B167),0))","v":131},213.84,{"$f":"INDEX($Y$2:$Y$276,MATCH(MIN(ABS($Y$2:$Y$276-D167)),ABS($Y$2:$Y$276-D167),0))","v":211},345.84000000000003,{"$f":"INDEX($Y$2:$Y$276,MATCH(MIN(ABS($Y$2:$Y$276-F167)),ABS($Y$2:$Y$276-F167),0))","v":347},5649.2964000000011,5550.5943287037035,"J",1,19.604441360166547,80.934164482609035,323.73665793043614,0.29238365567452529,19.538904899135446,81.411079271779286,325.64431708711714,0.29067084102140744,508.45138888888886,315.67361111111109,null,null,null,983]
[11.5,138,{"$f":"INDEX($Y$2:$Y$276,MATCH(MIN(ABS($Y$2:$Y$276-B168)),ABS($Y$2:$Y$276-B168),0))","v":137},223.56,{"$f":"INDEX($Y$2:$Y$276,MATCH(MIN(ABS($Y$2:$Y$276-D168)),ABS($Y$2:$Y$276-D168),0))","v":223},361.56,{"$f":"INDEX($Y$2:$Y$276,MATCH(MIN(ABS($Y$2:$Y$276-F168)),ABS($Y$2:$Y$276-F168),0))","v":359},6455.2018499999995,6347.1116898148148,"J",1,18.752074344507136,77.415287765973872,309.66115106389549,0.30567382184154918,18.885793871866294,77.852272584095871,311.40909033638349,0.30395807463201452,555.95138888888891,341.54861111111109,null,null,null,991]
[12,144,{"$f":"INDEX($Y$2:$Y$276,MATCH(MIN(ABS($Y$2:$Y$276-B169)),ABS($Y$2:$Y$276-B169),0))","v":139},233.28000000000003,{"$f":"INDEX($Y$2:$Y$276,MATCH(MIN(ABS($Y$2:$Y$276-D169)),ABS($Y$2:$Y$276-D169),0))","v":233},377.28000000000003,{"$f":"INDEX($Y$2:$Y$276,MATCH(MIN(ABS($Y$2:$Y$276-F169)),ABS($Y$2:$Y$276-F169),0))","v":379},7334.3232000000016,7103.3987268518531,"J",1,17.970737913486005,74.189650775724957,296.75860310289983,0.31896398800857306,17.889182058047496,74.985037053936892,299.94014821574757,0.31558065195549773,613.24305555555554,365.84027777777777,null,null,null,997]
[12.5,150,{"$f":"INDEX($Y$2:$Y$276,MATCH(MIN(ABS($Y$2:$Y$276-B170)),ABS($Y$2:$Y$276-B170),0))","v":149},243.00000000000003,{"$f":"INDEX($Y$2:$Y$276,MATCH(MIN(ABS($Y$2:$Y$276-D170)),ABS($Y$2:$Y$276-D170),0))","v":241},393,{"$f":"INDEX($Y$2:$Y$276,MATCH(MIN(ABS($Y$2:$Y$276-F170)),ABS($Y$2:$Y$276-F170),0))","v":389},8289.8437500000018,8083.6811342592582,"J",1,17.251908396946565,71.222064744695956,284.88825897878382,0.33225415417559695,17.429305912596401,71.822461203086974,287.28984481234789,0.32947669133025304,651.03472222222217,402.5069444444444,null,null,null,1009]
[13,156,{"$f":"INDEX($Y$2:$Y$276,MATCH(MIN(ABS($Y$2:$Y$276-B171)),ABS($Y$2:$Y$276-B171),0))","v":157},252.72000000000003,{"$f":"INDEX($Y$2:$Y$276,MATCH(MIN(ABS($Y$2:$Y$276-D171)),ABS($Y$2:$Y$276-D171),0))","v":251},408.72,{"$f":"INDEX($Y$2:$Y$276,MATCH(MIN(ABS($Y$2:$Y$276-F171)),ABS($Y$2:$Y$276-F171),0))","v":409},9324.9468000000015,9327.2355324074088,"J",1,16.588373458602465,68.482754562207646,273.93101824883058,0.34554432034262078,16.577017114914423,68.477152633633878,273.90861053453551,0.34557258837841348,712.90972222222229,445.92361111111114,null,null,null,1013]
[13.5,162,{"$f":"INDEX($Y$2:$Y$276,MATCH(MIN(ABS($Y$2:$Y$276-B172)),ABS($Y$2:$Y$276-B172),0))","v":163},262.44,{"$f":"INDEX($Y$2:$Y$276,MATCH(MIN(ABS($Y$2:$Y$276-D172)),ABS($Y$2:$Y$276-D172),0))","v":263},424.44,{"$f":"INDEX($Y$2:$Y$276,MATCH(MIN(ABS($Y$2:$Y$276-F172)),ABS($Y$2:$Y$276-F172),0))","v":421},10442.815649999999,10444.357060185186,"J",1,15.973989256432006,65.946356245088865,263.78542498035546,0.35883448650964467,16.104513064133016,65.943111897107727,263.77244758843091,0.3588521408773015,768.90972222222229,476.54861111111114,null,null,null,1019]
[14,168,{"$f":"INDEX($Y$2:$Y$276,MATCH(MIN(ABS($Y$2:$Y$276-B173)),ABS($Y$2:$Y$276-B173),0))","v":167},272.16000000000003,{"$f":"INDEX($Y$2:$Y$276,MATCH(MIN(ABS($Y$2:$Y$276-D173)),ABS($Y$2:$Y$276-D173),0))","v":271},440.16,{"$f":"INDEX($Y$2:$Y$276,MATCH(MIN(ABS($Y$2:$Y$276-F173)),ABS($Y$2:$Y$276-F173),0))","v":439},11646.633600000001,11497.582754629628,"J",1,15.403489640130861,63.591129236335675,254.3645169453427,0.37212465267666855,15.444191343963553,63.864741708695021,255.45896683478009,0.37053037790908011,826.17361111111109,509.11805555555554,null,null,null,1021]
[14.5,174,{"$f":"INDEX($Y$2:$Y$276,MATCH(MIN(ABS($Y$2:$Y$276-B174)),ABS($Y$2:$Y$276-B174),0))","v":173},281.88,{"$f":"INDEX($Y$2:$Y$276,MATCH(MIN(ABS($Y$2:$Y$276-D174)),ABS($Y$2:$Y$276-D174),0))","v":281},455.88,{"$f":"INDEX($Y$2:$Y$276,MATCH(MIN(ABS($Y$2:$Y$276-F174)),ABS($Y$2:$Y$276-F174),0))","v":457},12939.583949999998,12856.563078703704,"J",1,14.872334824953935,61.398331676462035,245.59332670584814,0.38541481884369244,14.835886214442013,61.530207517462117,246.12083006984847,0.38458877086791599,891.78472222222229,549.03472222222229,null,null,null,1031]
["HEIGHT ft","HEIGHT \"","PRIME height","WIDTH \"","PRIME width","DEPTH \"","PRIME depth","VOLUME","PRIME volume","TABLE","USEABLE 1=Yes 0=NO","F¹","F²","F³","minimum RT60","F¹","F²","F³","minimum RT60","Square Feet","Square Feet",null,null,null,1033]
[{"$f":"B176/12","v":8},96,{"$f":"INDEX($Y$2:$Y$276,MATCH(MIN(ABS($Y$2:$Y$276-B176)),ABS($Y$2:$Y$276-B176),0))","v":97},{"$f":"B176*$D$15","v":143.04},{"$f":"INDEX($Y$2:$Y$276,MATCH(MIN(ABS($Y$2:$Y$276-D176)),ABS($Y$2:$Y$276-D176),0))","v":139},{"$f":"B176*$E$15","v":221.76},{"$f":"INDEX($Y$2:$Y$276,MATCH(MIN(ABS($Y$2:$Y$276-F176)),ABS($Y$2:$Y$276-F176),0))","v":223},{"$f":"(B176/12)*(D176/12)*(F176/12)","v":1762.2528},{"$f":"(C176/12)*(E176/12)*(G176/12)","v":1739.9936342592594},"K",{"$f":"IF(H176>$L$21,$N$22,$O$22)","v":1},{"$f":"565/(F176/12)","v":30.573593073593074},{"$f":"(SQRT(O176/H176)*11250)","v":119.33667641363533},{"$f":"4*M176","v":477.34670565454132},{"$f":"0.25*(((0.028316846592*H176)/100)^(1/3))","v":0.19829467010097446},{"$f":"565/(G176/12)","v":30.40358744394619},{"$f":"(SQRT(S176/I176)*11250)","v":119.84340000619761},{"$f":"4*Q176","v":479.37360002479045},{"$f":"0.25*(((0.028316846592*I176)/100)^(1/3))","v":0.19745623771659349},{"$f":"(E176/12)*(G176/12)","v":215.25694444444443},{"$f":"(C176/12)*(G176/12)","v":150.21527777777777},null,null,null,1039]
[8.5,102,{"$f":"INDEX($Y$2:$Y$276,MATCH(MIN(ABS($Y$2:$Y$276-B177)),ABS($Y$2:$Y$276-B177),0))","v":101},151.97999999999999,{"$f":"INDEX($Y$2:$Y$276,MATCH(MIN(ABS($Y$2:$Y$276-D177)),ABS($Y$2:$Y$276-D177),0))","v":151},235.62,{"$f":"INDEX($Y$2:$Y$276,MATCH(MIN(ABS($Y$2:$Y$276-F177)),ABS($Y$2:$Y$276-F177),0))","v":233},2113.7568375000001,{"$f":"(C177/12)*(E177/12)*(G177/12)","v":2056.4137731481483},"K",1,28.775146422205243,112.31687191871561,449.26748767486242,0.21068808698228536,{"$f":"565/(G177/12)","v":29.098712446351929},{"$f":"(SQRT(S177/I177)*11250)","v":113.35130038702881},{"$f":"4*Q177","v":453.40520154811526},{"$f":"0.25*(((0.028316846592*I177)/100)^(1/3))","v":0.20876537630878816},244.32638888888891,163.42361111111111,null,null,null,1049]
[9,108,{"$f":"INDEX($Y$2:$Y$276,MATCH(MIN(ABS($Y$2:$Y$276-B178)),ABS($Y$2:$Y$276-B178),0))","v":107},160.91999999999999,{"$f":"INDEX($Y$2:$Y$276,MATCH(MIN(ABS($Y$2:$Y$276-D178)),ABS($Y$2:$Y$276-D178),0))","v":163},249.48000000000002,{"$f":"INDEX($Y$2:$Y$276,MATCH(MIN(ABS($Y$2:$Y$276-F178)),ABS($Y$2:$Y$276-F178),0))","v":251},2509.1451000000002,2533.3859953703704,"K",1,27.176527176527173,106.07704570100918,424.30818280403673,0.22308150386359626,27.011952191235057,105.73762538862431,422.95050155449724,0.2237976008390142,284.1180555555556,186.50694444444443,null,null,null,1051]
[9.5,114,{"$f":"INDEX($Y$2:$Y$276,MATCH(MIN(ABS($Y$2:$Y$276-B179)),ABS($Y$2:$Y$276-B179),0))","v":113},169.85999999999999,{"$f":"INDEX($Y$2:$Y$276,MATCH(MIN(ABS($Y$2:$Y$276-D179)),ABS($Y$2:$Y$276-D179),0))","v":167},263.34000000000003,{"$f":"INDEX($Y$2:$Y$276,MATCH(MIN(ABS($Y$2:$Y$276-F179)),ABS($Y$2:$Y$276-F179),0))","v":263},2950.9990125000004,2872.1487268518513,"K",1,25.746183640920478,100.4940432956929,401.97617318277162,0.23547492074490717,25.779467680608363,101.40538847343585,405.6215538937434,0.23335867291300333,305.00694444444446,206.38194444444443,null,null,null,1061]
[10,{"$f":"B165","v":120},{"$f":"INDEX($Y$2:$Y$276,MATCH(MIN(ABS($Y$2:$Y$276-B180)),ABS($Y$2:$Y$276-B180),0))","v":113},178.8,{"$f":"INDEX($Y$2:$Y$276,MATCH(MIN(ABS($Y$2:$Y$276-D180)),ABS($Y$2:$Y$276-D180),0))","v":179},277.2,{"$f":"INDEX($Y$2:$Y$276,MATCH(MIN(ABS($Y$2:$Y$276-F180)),ABS($Y$2:$Y$276-F180),0))","v":277},3441.8999999999996,3242.4068287037035,"K",1,24.458874458874462,95.469341130908262,381.87736452363305,0.24786833762621807,24.476534296028881,97.388461775196561,389.55384710078624,0.24298388586331893,344.32638888888886,217.36805555555554,null,null,null,1063]
[10.5,126,{"$f":"INDEX($Y$2:$Y$276,MATCH(MIN(ABS($Y$2:$Y$276-B181)),ABS($Y$2:$Y$276-B181),0))","v":127},187.74,{"$f":"INDEX($Y$2:$Y$276,MATCH(MIN(ABS($Y$2:$Y$276-D181)),ABS($Y$2:$Y$276-D181),0))","v":191},291.06,{"$f":"INDEX($Y$2:$Y$276,MATCH(MIN(ABS($Y$2:$Y$276-F181)),ABS($Y$2:$Y$276-F181),0))","v":293},3984.4294875000001,4113.0214120370374,"K",1,23.29416615130901,90.923182029436447,363.69272811774579,0.26026175450752898,23.139931740614333,89.965573195758964,359.86229278303585,0.26303202480461807,388.63194444444446,258.40972222222223,null,null,null,1069]
[11,132,{"$f":"INDEX($Y$2:$Y$276,MATCH(MIN(ABS($Y$2:$Y$276-B182)),ABS($Y$2:$Y$276-B182),0))","v":131},196.68,{"$f":"INDEX($Y$2:$Y$276,MATCH(MIN(ABS($Y$2:$Y$276-D182)),ABS($Y$2:$Y$276-D182),0))","v":197},304.92,{"$f":"INDEX($Y$2:$Y$276,MATCH(MIN(ABS($Y$2:$Y$276-F182)),ABS($Y$2:$Y$276-F182),0))","v":307},4581.1689000000006,4584.9241898148148,"K",1,22.2353404171586,86.790310119007515,347.16124047603006,0.27265517138883988,22.084690553745929,86.766608397368032,347.06643358947213,0.27272965161914026,419.99305555555554,279.28472222222217,null,null,null,1087]
[11.5,138,{"$f":"INDEX($Y$2:$Y$276,MATCH(MIN(ABS($Y$2:$Y$276-B183)),ABS($Y$2:$Y$276-B183),0))","v":137},205.62,{"$f":"INDEX($Y$2:$Y$276,MATCH(MIN(ABS($Y$2:$Y$276-D183)),ABS($Y$2:$Y$276-D183),0))","v":211},318.78000000000003,{"$f":"INDEX($Y$2:$Y$276,MATCH(MIN(ABS($Y$2:$Y$276-F183)),ABS($Y$2:$Y$276-F183),0))","v":317},5234.6996625000002,5302.9623842592591,"K",1,21.268586485977789,83.016818374702837,332.06727349881135,0.28504858827015078,21.388012618296528,82.659065793011308,330.63626317204523,0.2862822928539473,464.49305555555554,301.59027777777777,null,null,null,1091]
[12,144,{"$f":"INDEX($Y$2:$Y$276,MATCH(MIN(ABS($Y$2:$Y$276-B184)),ABS($Y$2:$Y$276-B184),0))","v":139},214.56,{"$f":"INDEX($Y$2:$Y$276,MATCH(MIN(ABS($Y$2:$Y$276-D184)),ABS($Y$2:$Y$276-D184),0))","v":211},332.64,{"$f":"INDEX($Y$2:$Y$276,MATCH(MIN(ABS($Y$2:$Y$276-F184)),ABS($Y$2:$Y$276-F184),0))","v":331},5947.6031999999996,5617.9971064814818,"K",1,20.382395382395384,79.557784275756902,318.23113710302761,0.29744200515146169,20.483383685800604,81.084187838747468,324.33675135498987,0.29184268241607014,485.0069444444444,319.50694444444446,null,null,null,1093]
[12.5,150,{"$f":"INDEX($Y$2:$Y$276,MATCH(MIN(ABS($Y$2:$Y$276-B185)),ABS($Y$2:$Y$276-B185),0))","v":149},223.5,{"$f":"INDEX($Y$2:$Y$276,MATCH(MIN(ABS($Y$2:$Y$276-D185)),ABS($Y$2:$Y$276-D185),0))","v":223},346.5,{"$f":"INDEX($Y$2:$Y$276,MATCH(MIN(ABS($Y$2:$Y$276-F185)),ABS($Y$2:$Y$276-F185),0))","v":347},6722.4609375,6672.3200231481478,"K",1,19.567099567099568,76.375472904726621,305.50189161890648,0.30983542203277259,19.538904899135446,76.566310234351761,306.26524093740704,0.30906317423366825,537.36805555555554,359.04861111111109,null,null,null,1097]
[13,156,{"$f":"INDEX($Y$2:$Y$276,MATCH(MIN(ABS($Y$2:$Y$276-B186)),ABS($Y$2:$Y$276-B186),0))","v":157},232.44,{"$f":"INDEX($Y$2:$Y$276,MATCH(MIN(ABS($Y$2:$Y$276-D186)),ABS($Y$2:$Y$276-D186),0))","v":233},360.36,{"$f":"INDEX($Y$2:$Y$276,MATCH(MIN(ABS($Y$2:$Y$276-F186)),ABS($Y$2:$Y$276-F186),0))","v":359},7561.8543,7599.8721064814827,"K",1,18.814518814518813,73.437954716083283,293.75181886433313,0.32222883891408349,18.885793871866294,73.315293948380116,293.26117579352047,0.32276794657673746,580.88194444444446,391.40972222222223,null,null,null,1103]
[13.5,162,{"$f":"INDEX($Y$2:$Y$276,MATCH(MIN(ABS($Y$2:$Y$276-B187)),ABS($Y$2:$Y$276-B187),0))","v":163},241.38,{"$f":"INDEX($Y$2:$Y$276,MATCH(MIN(ABS($Y$2:$Y$276-D187)),ABS($Y$2:$Y$276-D187),0))","v":241},374.22,{"$f":"INDEX($Y$2:$Y$276,MATCH(MIN(ABS($Y$2:$Y$276-F187)),ABS($Y$2:$Y$276-F187),0))","v":373},8468.3647124999989,8479.4901620370365,"K",1,18.11768478435145,70.71803046733946,282.87212186935784,0.33462225579539434,18.176943699731904,70.687088582584039,282.74835433033616,0.33476873011599567,624.25694444444434,422.21527777777777,null,null,null,1109]
[14,168,{"$f":"INDEX($Y$2:$Y$276,MATCH(MIN(ABS($Y$2:$Y$276-B188)),ABS($Y$2:$Y$276-B188),0))","v":167},250.32,{"$f":"INDEX($Y$2:$Y$276,MATCH(MIN(ABS($Y$2:$Y$276-D188)),ABS($Y$2:$Y$276-D188),0))","v":251},388.08,{"$f":"INDEX($Y$2:$Y$276,MATCH(MIN(ABS($Y$2:$Y$276-F188)),ABS($Y$2:$Y$276-F188),0))","v":389},9444.5735999999979,9436.1765046296296,"K",1,17.470624613481757,68.192386522077328,272.76954608830931,0.34701567267670524,17.429305912596401,68.212608279001188,272.85043311600475,0.34691279922326784,678.04861111111109,451.1319444444444,null,null,null,1117]
[14.5,174,{"$f":"INDEX($Y$2:$Y$276,MATCH(MIN(ABS($Y$2:$Y$276-B189)),ABS($Y$2:$Y$276-B189),0))","v":173},259.26,{"$f":"INDEX($Y$2:$Y$276,MATCH(MIN(ABS($Y$2:$Y$276-D189)),ABS($Y$2:$Y$276-D189),0))","v":257},401.94,{"$f":"INDEX($Y$2:$Y$276,MATCH(MIN(ABS($Y$2:$Y$276-F189)),ABS($Y$2:$Y$276-F189),0))","v":401},10493.062387499998,10317.627893518518,"K",1,16.868189281982385,65.840924917867767,263.36369967147107,0.35940908955801615,16.90773067331671,66.212002249884321,264.84800899953729,0.35739482384298227,715.67361111111109,481.7569444444444,null,null,null,1123]
["HEIGHT ft","HEIGHT \"","PRIME height","WIDTH \"","PRIME width","DEPTH \"","PRIME depth","VOLUME","PRIME volume","TABLE","USEABLE 1=Yes 0=NO","F¹","F²","F³","minimum RT60","F¹","F²","F³","minimum RT60","Square Feet","Square Feet",null,null,null,1129]
[{"$f":"B191/12","v":8},{"$f":"B176","v":96},{"$f":"INDEX($Y$2:$Y$276,MATCH(MIN(ABS($Y$2:$Y$276-B191)),ABS($Y$2:$Y$276-B191),0))","v":97},{"$f":"B191*$D$16","v":102.72},{"$f":"INDEX($Y$2:$Y$276,MATCH(MIN(ABS($Y$2:$Y$276-D191)),ABS($Y$2:$Y$276-D191),0))","v":103},{"$f":"B191*$E$16","v":179.52},{"$f":"INDEX($Y$2:$Y$276,MATCH(MIN(ABS($Y$2:$Y$276-F191)),ABS($Y$2:$Y$276-F191),0))","v":179},{"$f":"(B191/12)*(D191/12)*(F191/12)","v":1024.4608000000001},{"$f":"(C191/12)*(E191/12)*(G191/12)","v":1034.947337962963},"L",{"$f":"IF(H191>$L$21,$N$22,$O$22)","v":0},{"$f":"565/(F191/12)","v":37.767379679144383},{"$f":"(SQRT(O191/H191)*11250)","v":142.98755050005559},{"$f":"4*M191","v":571.95020200022236},{"$f":"0.25*(((0.028316846592*H191)/100)^(1/3))","v":0.16549571482014697},{"$f":"565/(G191/12)","v":37.877094972067042},{"$f":"(SQRT(S191/I191)*11250)","v":142.50297272984636},{"$f":"4*Q191","v":570.01189091938545},{"$f":"0.25*(((0.028316846592*I191)/100)^(1/3))","v":0.16605847883082314},{"$f":"(E191/12)*(G191/12)","v":128.03472222222223},{"$f":"(C191/12)*(G191/12)","v":120.5763888888889},null,null,null,1151]
[8.5,102,{"$f":"INDEX($Y$2:$Y$276,MATCH(MIN(ABS($Y$2:$Y$276-B192)),ABS($Y$2:$Y$276-B192),0))","v":101},109.14,{"$f":"INDEX($Y$2:$Y$276,MATCH(MIN(ABS($Y$2:$Y$276-D192)),ABS($Y$2:$Y$276-D192),0))","v":109},190.74,{"$f":"INDEX($Y$2:$Y$276,MATCH(MIN(ABS($Y$2:$Y$276-F192)),ABS($Y$2:$Y$276-F192),0))","v":191},1228.8027125000001,{"$f":"(C192/12)*(E192/12)*(G192/12)","v":1216.851273148148},"L",0,35.545769109782945,134.57651811769935,538.3060724707974,0.17583919699640613,{"$f":"565/(G192/12)","v":35.497382198952884},{"$f":"(SQRT(S192/I192)*11250)","v":135.01566956736605},{"$f":"4*Q192","v":540.06267826946419},{"$f":"0.25*(((0.028316846592*I192)/100)^(1/3))","v":0.17526726309779544},144.57638888888889,133.96527777777777,null,null,null,1153]
[9,108,{"$f":"INDEX($Y$2:$Y$276,MATCH(MIN(ABS($Y$2:$Y$276-B193)),ABS($Y$2:$Y$276-B193),0))","v":107},115.56,{"$f":"INDEX($Y$2:$Y$276,MATCH(MIN(ABS($Y$2:$Y$276-D193)),ABS($Y$2:$Y$276-D193),0))","v":113},201.96,{"$f":"INDEX($Y$2:$Y$276,MATCH(MIN(ABS($Y$2:$Y$276-F193)),ABS($Y$2:$Y$276-F193),0))","v":199},1458.6561000000002,1392.4241898148146,"L",0,33.57100415923945,127.1000448889383,508.4001795557532,0.18618267917266532,34.070351758793976,129.08412096127404,516.33648384509615,0.18332097475790873,156.1597222222222,147.86805555555554,null,null,null,1163]
[9.5,114,{"$f":"INDEX($Y$2:$Y$276,MATCH(MIN(ABS($Y$2:$Y$276-B194)),ABS($Y$2:$Y$276-B194),0))","v":113},121.98,{"$f":"INDEX($Y$2:$Y$276,MATCH(MIN(ABS($Y$2:$Y$276-D194)),ABS($Y$2:$Y$276-D194),0))","v":127},213.18,{"$f":"INDEX($Y$2:$Y$276,MATCH(MIN(ABS($Y$2:$Y$276-F194)),ABS($Y$2:$Y$276-F194),0))","v":211},1715.5216375000002,1752.3501157407406,"L",1,31.804109203490007,120.41056884215206,481.64227536860824,0.19652616134892451,32.132701421800952,119.56104830425025,478.244193217001,0.19792254430699346,186.09027777777777,165.57638888888886,null,null,null,1171]
[10,120,{"$f":"INDEX($Y$2:$Y$276,MATCH(MIN(ABS($Y$2:$Y$276-B195)),ABS($Y$2:$Y$276-B195),0))","v":113},128.4,{"$f":"INDEX($Y$2:$Y$276,MATCH(MIN(ABS($Y$2:$Y$276-D195)),ABS($Y$2:$Y$276-D195),0))","v":127},224.4,{"$f":"INDEX($Y$2:$Y$276,MATCH(MIN(ABS($Y$2:$Y$276-F195)),ABS($Y$2:$Y$276-F195),0))","v":223},2000.9,1852.009837962963,"L",1,30.213903743315509,114.39004040004446,457.56016160017782,0.20686964352518369,30.40358744394619,117.37679450598347,469.50717802393388,0.20160566643504868,196.67361111111111,174.99305555555554,null,null,null,1181]
[10.5,126,{"$f":"INDEX($Y$2:$Y$276,MATCH(MIN(ABS($Y$2:$Y$276-B196)),ABS($Y$2:$Y$276-B196),0))","v":127},134.82000000000002,{"$f":"INDEX($Y$2:$Y$276,MATCH(MIN(ABS($Y$2:$Y$276-D196)),ABS($Y$2:$Y$276-D196),0))","v":137},235.62,{"$f":"INDEX($Y$2:$Y$276,MATCH(MIN(ABS($Y$2:$Y$276-F196)),ABS($Y$2:$Y$276-F196),0))","v":233},2316.2918625000007,2346.0457175925926,"L",1,28.775146422205243,108.94289561908994,435.77158247635975,0.21721312570144288,29.098712446351929,108.48037665784699,433.92150663138796,0.21813923964354912,221.67361111111111,205.49305555555557,null,null,null,1187]
[11,132,{"$f":"INDEX($Y$2:$Y$276,MATCH(MIN(ABS($Y$2:$Y$276-B197)),ABS($Y$2:$Y$276-B197),0))","v":131},141.24,{"$f":"INDEX($Y$2:$Y$276,MATCH(MIN(ABS($Y$2:$Y$276-D197)),ABS($Y$2:$Y$276-D197),0))","v":139},246.84,{"$f":"INDEX($Y$2:$Y$276,MATCH(MIN(ABS($Y$2:$Y$276-F197)),ABS($Y$2:$Y$276-F197),0))","v":251},2663.1979000000006,2644.9415509259261,"L",1,27.467185221195916,103.99094581822223,415.96378327288892,0.22755660787770207,27.011952191235057,104.22965854711053,416.91863418844213,0.22703544471166812,242.28472222222226,228.34027777777777,null,null,null,1193]
[11.5,138,{"$f":"INDEX($Y$2:$Y$276,MATCH(MIN(ABS($Y$2:$Y$276-B198)),ABS($Y$2:$Y$276-B198),0))","v":137},147.66,{"$f":"INDEX($Y$2:$Y$276,MATCH(MIN(ABS($Y$2:$Y$276-D198)),ABS($Y$2:$Y$276-D198),0))","v":149},258.06,{"$f":"INDEX($Y$2:$Y$276,MATCH(MIN(ABS($Y$2:$Y$276-F198)),ABS($Y$2:$Y$276-F198),0))","v":257},3043.1187874999996,3035.9612268518517,"L",1,26.272959776796096,99.469600347864755,397.87840139145902,0.23790009005396121,26.381322957198442,99.54770860550741,398.19083442202964,0.23771342617402416,265.92361111111109,244.50694444444446,null,null,null,1201]
[12,144,{"$f":"INDEX($Y$2:$Y$276,MATCH(MIN(ABS($Y$2:$Y$276-B199)),ABS($Y$2:$Y$276-B199),0))","v":139},154.08000000000001,{"$f":"INDEX($Y$2:$Y$276,MATCH(MIN(ABS($Y$2:$Y$276-D199)),ABS($Y$2:$Y$276-D199),0))","v":157},269.28000000000003,{"$f":"INDEX($Y$2:$Y$276,MATCH(MIN(ABS($Y$2:$Y$276-F199)),ABS($Y$2:$Y$276-F199),0))","v":269},3457.5552000000007,3397.2146990740744,"L",1,25.178253119429588,95.325033666703717,381.30013466681487,0.24824357223022042,25.204460966542751,95.886104811747174,383.5444192469887,0.24679099152945733,293.28472222222223,259.65972222222223,null,null,null,1213]
[12.5,150,{"$f":"INDEX($Y$2:$Y$276,MATCH(MIN(ABS($Y$2:$Y$276-B200)),ABS($Y$2:$Y$276-B200),0))","v":149},160.5,{"$f":"INDEX($Y$2:$Y$276,MATCH(MIN(ABS($Y$2:$Y$276-D200)),ABS($Y$2:$Y$276-D200),0))","v":163},280.5,{"$f":"INDEX($Y$2:$Y$276,MATCH(MIN(ABS($Y$2:$Y$276-F200)),ABS($Y$2:$Y$276-F200),0))","v":281},3908.0078125,3949.4484953703709,"L",1,24.171122994652407,91.512032320035573,366.04812928014229,0.25858705440647961,24.128113879003557,91.190834480792489,364.76333792316996,0.25949786527474827,318.07638888888891,290.75694444444446,null,null,null,1217]
[13,156,{"$f":"INDEX($Y$2:$Y$276,MATCH(MIN(ABS($Y$2:$Y$276-B201)),ABS($Y$2:$Y$276-B201),0))","v":157},166.92000000000002,{"$f":"INDEX($Y$2:$Y$276,MATCH(MIN(ABS($Y$2:$Y$276-D201)),ABS($Y$2:$Y$276-D201),0))","v":167},291.72000000000003,{"$f":"INDEX($Y$2:$Y$276,MATCH(MIN(ABS($Y$2:$Y$276-F201)),ABS($Y$2:$Y$276-F201),0))","v":293},4395.9773000000005,4445.6984953703704,"L",1,23.241464417935003,87.992338769264961,351.96935507705984,0.2689305365827388,23.139931740614333,87.663069412511518,350.65227765004607,0.26994066074774226,339.79861111111109,319.45138888888891,null,null,null,1223]
[13.5,162,{"$f":"INDEX($Y$2:$Y$276,MATCH(MIN(ABS($Y$2:$Y$276-B202)),ABS($Y$2:$Y$276-B202),0))","v":163},173.34,{"$f":"INDEX($Y$2:$Y$276,MATCH(MIN(ABS($Y$2:$Y$276-D202)),ABS($Y$2:$Y$276-D202),0))","v":173},302.94,{"$f":"INDEX($Y$2:$Y$276,MATCH(MIN(ABS($Y$2:$Y$276-F202)),ABS($Y$2:$Y$276-F202),0))","v":307},4922.9643374999996,5009.8917824074069,"L",1,22.380669439492969,84.73336325929219,338.93345303716876,0.27927401875899793,22.084690553745929,84.24042705476424,336.96170821905696,0.28090820177116183,368.82638888888886,347.50694444444446,null,null,null,1229]
[14,168,{"$f":"INDEX($Y$2:$Y$276,MATCH(MIN(ABS($Y$2:$Y$276-B203)),ABS($Y$2:$Y$276-B203),0))","v":167},179.76000000000002,{"$f":"INDEX($Y$2:$Y$276,MATCH(MIN(ABS($Y$2:$Y$276-D203)),ABS($Y$2:$Y$276-D203),0))","v":179},314.16000000000003,{"$f":"INDEX($Y$2:$Y$276,MATCH(MIN(ABS($Y$2:$Y$276-F203)),ABS($Y$2:$Y$276-F203),0))","v":313},5490.4696000000013,5414.6464120370365,"L",1,21.581359816653933,81.707171714317468,326.82868685726987,0.28961750093525718,21.661341853035143,82.086796553756344,328.34718621502537,0.2882781138242102,389.07638888888886,362.99305555555554,null,null,null,1231]
[14.5,174,{"$f":"INDEX($Y$2:$Y$276,MATCH(MIN(ABS($Y$2:$Y$276-B204)),ABS($Y$2:$Y$276-B204),0))","v":173},186.18,{"$f":"INDEX($Y$2:$Y$276,MATCH(MIN(ABS($Y$2:$Y$276-D204)),ABS($Y$2:$Y$276-D204),0))","v":191},325.38,{"$f":"INDEX($Y$2:$Y$276,MATCH(MIN(ABS($Y$2:$Y$276-F204)),ABS($Y$2:$Y$276-F204),0))","v":331},6099.9937624999993,6329.4172453703695,"L",1,20.837174995390008,78.889683034513425,315.5587321380537,0.29996098311151631,20.483383685800604,77.92475271713711,311.69901086854844,0.30367535417516228,439.03472222222217,397.65972222222217,null,null,null,1237]
["HEIGHT ft","HEIGHT \"","PRIME height","WIDTH \"","PRIME width","DEPTH \"","PRIME depth","VOLUME","PRIME volume","TABLE","USEABLE 1=Yes 0=NO","F¹","F²","F³","minimum RT60","F¹","F²","F³","minimum RT60","Square Feet","Square Feet",null,null,null,1249]
["USER INPUT",null,null,null,null,null,null,null,null,null,null,null,null,null,null,null,null,null,null,{"$f":"(E206/12)*(G206/12)","v":0},{"$f":"(C206/12)*(G206/12)","v":0},null,null,null,1259]
[null,null,null,null,null,null,null,null,null,null,null,null,null,null,null,null,null,null,null,0,0,null,null,null,1277]
[{"$f":"B208/12","v":12},144,{"$f":"INDEX($Y$2:$Y$276,MATCH(MIN(ABS($Y$2:$Y$276-B208)),ABS($Y$2:$Y$276-B208),0))","v":139},48,{"$f":"INDEX($Y$2:$Y$276,MATCH(MIN(ABS($Y$2:$Y$276-D208)),ABS($Y$2:$Y$276-D208),0))","v":47},60,{"$f":"INDEX($Y$2:$Y$276,MATCH(MIN(ABS($Y$2:$Y$276-F208)),ABS($Y$2:$Y$276-F208),0))","v":59},{"$f":"(B208/12)*(D208/12)*(F208/12)","v":240},{"$f":"(C208/12)*(E208/12)*(G208/12)","v":223.0596064814815},null,{"$f":"IF(H208>$L$21,$N$22,$O$22)","v":0},{"$f":"565/(F208/12)","v":113},{"$f":"(SQRT(O208/H208)*11250)","v":231.94922594811965},{"$f":"4*M208","v":927.79690379247859},{"$f":"0.25*(((0.028316846592*H208)/100)^(1/3))","v":0.10202158159252264},{"$f":"565/(G208/12)","v":114.91525423728812},{"$f":"(SQRT(S208/I208)*11250)","v":237.67839032746082},{"$f":"4*Q208","v":950.71356130984327},{"$f":"0.25*(((0.028316846592*I208)/100)^(1/3))","v":9.9562382797130963E-2},19.256944444444446,56.951388888888893,null,null,null,1279]
[null,null,null,null,null,null,null,null,null,null,null,null,null,null,null,null,null,null,null,null,null,null,null,null,1283]
[null,null,"ONLY WRITE IN THE YELLOW CELLS",null,null,null,null,null,null,null,null,null,null,null,null,null,null,null,null,null,null,null,null,null,1289]
[null,null,null,null,null,null,null,null,null,null,null,null,null,null,null,null,null,null,null,null,null,null,null,null,1291]
[null,null,null,null,null,null,null,null,null,null,null,null,null,null,null,null,null,null,null,null,null,null,null,null,1297]
[null,null,null,null,null,null,null,null,null,null,null,null,null,null,null,null,null,null,null,null,null,null,null,null,1423]
[null,null,"Dolby Certification Ratios",null,null,null,null,null,null,null,null,null,null,null,null,null,null,null,null,null,null,null,null,null,1427]
[null,"Table","Height","Width","Length",null,null,null,null,null,null,null,null,null,null,null,null,null,null,null,null,null,null,null,1429]
[null,"M",1,{"$f":"1/F216","v":1.1764705882352942},{"$f":"G216*D216","v":1.411764705882353},0.85,1.2,null,null,null,null,null,null,null,null,null,null,null,null,null,null,null,null,null,1433]
[null,"N",1,{"$f":"1/F217","v":1.2048192771084338},{"$f":"G217*D217","v":1.4819277108433735},{"$f":"F216-0.02","v":0.83},{"$f":"G216+0.03","v":1.23},null,null,null,null,null,null,null,null,null,null,null,null,null,null,null,null,null,1439]
[null,"O",1,1.2345679012345681,1.5555555555555558,{"$f":"F217-0.02","v":0.80999999999999994},{"$f":"G217+0.03","v":1.26},null,null,null,null,null,null,null,null,null,null,null,null,null,null,null,null,null,1447]
[null,"P",1,1.2658227848101267,1.6329113924050636,0.78999999999999992,1.29,null,null,null,null,null,null,null,null,null,null,null,null,null,null,null,null,null,1451]
[null,"Q",1,1.2987012987012989,1.7142857142857146,0.76999999999999991,1.32,null,null,null,null,null,null,null,null,null,null,null,null,null,null,null,null,null,1453]
[null,"R",1,1.3333333333333335,1.8000000000000003,0.74999999999999989,1.35,null,null,null,null,null,null,null,null,null,null,null,null,null,null,null,null,null,1459]
[null,"S",1,1.3698630136986303,1.89041095890411,0.72999999999999987,1.3800000000000001,null,null,null,null,null,null,null,null,null,null,null,null,null,null,null,null,null,1471]
[null,"T",1,1.4084507042253525,1.9859154929577472,0.70999999999999985,1.4100000000000001,null,null,null,null,null,null,null,null,null,null,null,null,null,null,null,null,null,1481]
[null,"U",1,1.449275362318841,2.0869565217391313,0.68999999999999984,1.4400000000000002,null,null,null,null,null,null,null,null,null,null,null,null,null,null,null,null,null,1483]
[null,"V",1,1.4925373134328361,2.1940298507462694,0.66999999999999982,1.4700000000000002,null,null,null,null,null,null,null,null,null,null,null,null,null,null,null,null,null,1487]
[null,"W",1,1.538461538461539,2.3076923076923088,0.6499999999999998,1.5000000000000002,null,null,null,null,null,null,null,null,null,null,null,null,null,null,null,null,null,1489]
[null,"X",1,1.5873015873015879,2.4285714285714297,0.62999999999999978,1.5300000000000002,null,null,null,null,null,null,null,null,null,null,null,null,null,null,null,null,null,1493]
[null,null,null,null,null,"DOLBY CERTIFICATION RATIOS",null,null,null,null,null,null,null,null,null,null,null,null,null,null,null,null,null,null,1499]
[null,null,null,null,null,null,null,null,null,null,null,null,null,null,null,null,null,null,null,null,null,null,null,null,1511]
["HEIGHT ft","HEIGHT \"","PRIME height","WIDTH \"","PRIME width","DEPTH \"","PRIME depth","VOLUME","PRIME volume","TABLE","USEABLE 1=Yes 0=NO","F¹","F²","F³","minimum RT60","F¹","F²","F³","minimum RT60","Square Feet","Square Feet",null,null,null,1129]
[{"$f":"B231/12","v":8},{"$f":"B191","v":96},{"$f":"INDEX($Y$2:$Y$276,MATCH(MIN(ABS($Y$2:$Y$276-B231)),ABS($Y$2:$Y$276-B231),0))","v":97},{"$f":"B231*$D$216","v":112.94117647058823},{"$f":"INDEX($Y$2:$Y$276,MATCH(MIN(ABS($Y$2:$Y$276-D231)),ABS($Y$2:$Y$276-D231),0))","v":113},{"$f":"B231*$E$216","v":135.52941176470588},{"$f":"INDEX($Y$2:$Y$276,MATCH(MIN(ABS($Y$2:$Y$276-F231)),ABS($Y$2:$Y$276-F231),0))","v":137},{"$f":"(B231/12)*(D231/12)*(F231/12)","v":850.38062283737031},{"$f":"(C231/12)*(E231/12)*(G231/12)","v":869.01446759259261},"M",{"$f":"IF(H231>$L$21,$N$22,$O$22)","v":0},{"$f":"565/(F231/12)","v":50.026041666666664},{"$f":"(SQRT(O231/H231)*11250)","v":152.14542215996096},{"$f":"4*M231","v":608.58168863984383},{"$f":"0.25*(((0.028316846592*H231)/100)^(1/3))","v":0.1555342680998259},{"$f":"565/(G231/12)","v":49.489051094890513},{"$f":"(SQRT(S231/I231)*11250)","v":151.05009608250546},{"$f":"4*Q231","v":604.20038433002185},{"$f":"0.25*(((0.028316846592*I231)/100)^(1/3))","v":0.15666211074412742},{"$f":"(E231/12)*(G231/12)","v":107.50694444444443},{"$f":"(C231/12)*(G231/12)","v":92.284722222222229},null,null,null,1151]
[8.5,{"$f":"B192","v":102},{"$f":"INDEX($Y$2:$Y$276,MATCH(MIN(ABS($Y$2:$Y$276-B232)),ABS($Y$2:$Y$276-B232),0))","v":101},{"$f":"B232*$D$216","v":120},{"$f":"INDEX($Y$2:$Y$276,MATCH(MIN(ABS($Y$2:$Y$276-D232)),ABS($Y$2:$Y$276-D232),0))","v":113},{"$f":"B232*$E$216","v":144},{"$f":"INDEX($Y$2:$Y$276,MATCH(MIN(ABS($Y$2:$Y$276-F232)),ABS($Y$2:$Y$276-F232),0))","v":139},1020,{"$f":"(C232/12)*(E232/12)*(G232/12)","v":918.0596064814813},"M",0,47.083333333333336,143.19569144466914,572.78276577867655,0.16525515985606501,{"$f":"565/(G232/12)","v":48.776978417266186},{"$f":"(SQRT(S232/I232)*11250)","v":148.31089247726425},{"$f":"4*Q232","v":593.24356990905699},{"$f":"0.25*(((0.028316846592*I232)/100)^(1/3))","v":0.1595555557998963},109.07638888888889,97.493055555555557,null,null,null,1153]
[9,108,{"$f":"INDEX($Y$2:$Y$276,MATCH(MIN(ABS($Y$2:$Y$276-B233)),ABS($Y$2:$Y$276-B233),0))","v":107},127.05882352941177,{"$f":"INDEX($Y$2:$Y$276,MATCH(MIN(ABS($Y$2:$Y$276-D233)),ABS($Y$2:$Y$276-D233),0))","v":127},152.47058823529412,{"$f":"INDEX($Y$2:$Y$276,MATCH(MIN(ABS($Y$2:$Y$276-F233)),ABS($Y$2:$Y$276-F233),0))","v":151},1210.7958477508651,1187.4646990740741,"M",0,44.467592592592595,135.24037525329862,540.96150101319449,0.17497605161230412,44.900662251655625,136.12036517414268,544.48146069657071,0.17384486773977392,133.17361111111111,112.20138888888889,null,null,null,1163]
[9.5,114,{"$f":"INDEX($Y$2:$Y$276,MATCH(MIN(ABS($Y$2:$Y$276-B234)),ABS($Y$2:$Y$276-B234),0))","v":113},134.11764705882354,{"$f":"INDEX($Y$2:$Y$276,MATCH(MIN(ABS($Y$2:$Y$276-D234)),ABS($Y$2:$Y$276-D234),0))","v":137},160.94117647058823,{"$f":"INDEX($Y$2:$Y$276,MATCH(MIN(ABS($Y$2:$Y$276-F234)),ABS($Y$2:$Y$276-F234),0))","v":163},1424.0138408304499,1460.302662037037,"M",0,42.127192982456137,128.1224607662829,512.48984306513159,0.18469694336854323,41.595092024539873,127.05225643598212,508.20902574392846,0.18625270848544168,155.07638888888889,127.90972222222221,null,null,null,1171]
[10,120,{"$f":"INDEX($Y$2:$Y$276,MATCH(MIN(ABS($Y$2:$Y$276-B235)),ABS($Y$2:$Y$276-B235),0))","v":113},141.1764705882353,{"$f":"INDEX($Y$2:$Y$276,MATCH(MIN(ABS($Y$2:$Y$276-D235)),ABS($Y$2:$Y$276-D235),0))","v":139},169.41176470588238,{"$f":"INDEX($Y$2:$Y$276,MATCH(MIN(ABS($Y$2:$Y$276-F235)),ABS($Y$2:$Y$276-F235),0))","v":167},1660.899653979239,1517.9797453703702,"M",1,40.020833333333329,121.71633772796875,486.865350911875,0.19441783512478236,40.598802395209582,125.42227744841514,501.68910979366058,0.18867323542359721,161.20138888888889,131.04861111111109,null,null,null,1181]
[10.5,126,{"$f":"INDEX($Y$2:$Y$276,MATCH(MIN(ABS($Y$2:$Y$276-B236)),ABS($Y$2:$Y$276-B236),0))","v":127},148.23529411764707,{"$f":"INDEX($Y$2:$Y$276,MATCH(MIN(ABS($Y$2:$Y$276-D236)),ABS($Y$2:$Y$276-D236),0))","v":149},177.88235294117649,{"$f":"INDEX($Y$2:$Y$276,MATCH(MIN(ABS($Y$2:$Y$276-F236)),ABS($Y$2:$Y$276-F236),0))","v":179},1922.6989619377168,1960.1950231481483,"M",1,38.11507936507936,115.92032164568452,463.6812865827381,0.2041387268810215,37.877094972067042,115.17642142654471,460.70568570617883,0.20545721587191765,185.21527777777777,157.86805555555557,null,null,null,1187]
[11,132,{"$f":"INDEX($Y$2:$Y$276,MATCH(MIN(ABS($Y$2:$Y$276-B237)),ABS($Y$2:$Y$276-B237),0))","v":131},155.29411764705884,{"$f":"INDEX($Y$2:$Y$276,MATCH(MIN(ABS($Y$2:$Y$276-D237)),ABS($Y$2:$Y$276-D237),0))","v":157},186.35294117647061,{"$f":"INDEX($Y$2:$Y$276,MATCH(MIN(ABS($Y$2:$Y$276-F237)),ABS($Y$2:$Y$276-F237),0))","v":191},2210.6574394463673,2273.3200231481478,"M",1,36.382575757575751,110.65121611633523,442.60486446534094,0.21385961863726061,35.497382198952884,109.62505284511738,438.50021138046952,0.21586148664230748,208.24305555555557,173.75694444444443,null,null,null,1193]
[11.5,138,{"$f":"INDEX($Y$2:$Y$276,MATCH(MIN(ABS($Y$2:$Y$276-B238)),ABS($Y$2:$Y$276-B238),0))","v":137},162.35294117647058,{"$f":"INDEX($Y$2:$Y$276,MATCH(MIN(ABS($Y$2:$Y$276-D238)),ABS($Y$2:$Y$276-D238),0))","v":163},194.82352941176472,{"$f":"INDEX($Y$2:$Y$276,MATCH(MIN(ABS($Y$2:$Y$276-F238)),ABS($Y$2:$Y$276-F238),0))","v":193},2526.0207612456752,2494.1452546296296,"M",1,34.800724637681157,105.84029367649457,423.36117470597827,0.22358051039349972,35.129533678756481,106.28927073466303,425.15708293865214,0.22263608280333524,218.46527777777777,183.61805555555554,null,null,null,1201]
[12,144,{"$f":"INDEX($Y$2:$Y$276,MATCH(MIN(ABS($Y$2:$Y$276-B239)),ABS($Y$2:$Y$276-B239),0))","v":139},169.41176470588235,{"$f":"INDEX($Y$2:$Y$276,MATCH(MIN(ABS($Y$2:$Y$276-D239)),ABS($Y$2:$Y$276-D239),0))","v":167},203.29411764705884,{"$f":"INDEX($Y$2:$Y$276,MATCH(MIN(ABS($Y$2:$Y$276-F239)),ABS($Y$2:$Y$276-F239),0))","v":199},2870.0346020761244,2673.2563657407404,"M",1,33.350694444444443,101.43028143997398,405.72112575989593,0.23330140214973882,34.070351758793976,103.86035552422079,415.44142209688317,0.22784272941247563,230.7847222222222,192.09027777777777,null,null,null,1213]
[12.5,150,{"$f":"INDEX($Y$2:$Y$276,MATCH(MIN(ABS($Y$2:$Y$276-B240)),ABS($Y$2:$Y$276-B240),0))","v":149},176.47058823529412,{"$f":"INDEX($Y$2:$Y$276,MATCH(MIN(ABS($Y$2:$Y$276-D240)),ABS($Y$2:$Y$276-D240),0))","v":179},211.76470588235296,{"$f":"INDEX($Y$2:$Y$276,MATCH(MIN(ABS($Y$2:$Y$276-F240)),ABS($Y$2:$Y$276-F240),0))","v":211},3243.9446366782008,3256.7019675925922,"M",1,32.016666666666666,97.373070182375002,389.49228072950001,0.24302229390597793,32.132701421800952,97.245758763097385,388.98303505238954,0.24334045187550593,262.28472222222217,218.32638888888886,null,null,null,1217]
[13,156,{"$f":"INDEX($Y$2:$Y$276,MATCH(MIN(ABS($Y$2:$Y$276-B241)),ABS($Y$2:$Y$276-B241),0))","v":157},183.52941176470588,{"$f":"INDEX($Y$2:$Y$276,MATCH(MIN(ABS($Y$2:$Y$276-D241)),ABS($Y$2:$Y$276-D241),0))","v":181},220.23529411764707,{"$f":"INDEX($Y$2:$Y$276,MATCH(MIN(ABS($Y$2:$Y$276-F241)),ABS($Y$2:$Y$276-F241),0))","v":223},3648.9965397923884,3667.2401620370374,"M",1,30.785256410256405,93.627952098437504,374.51180839375002,0.2527431856622171,30.40358744394619,93.472435211103942,373.88974084441577,0.25316369287849083,280.29861111111109,243.13194444444443,null,null,null,1223]
[13.5,162,{"$f":"INDEX($Y$2:$Y$276,MATCH(MIN(ABS($Y$2:$Y$276-B242)),ABS($Y$2:$Y$276-B242),0))","v":163},190.58823529411765,{"$f":"INDEX($Y$2:$Y$276,MATCH(MIN(ABS($Y$2:$Y$276-D242)),ABS($Y$2:$Y$276-D242),0))","v":191},228.70588235294119,{"$f":"INDEX($Y$2:$Y$276,MATCH(MIN(ABS($Y$2:$Y$276-F242)),ABS($Y$2:$Y$276-F242),0))","v":229},4086.4359861591693,4125.8431712962956,"M",1,29.645061728395063,90.160250168865744,360.64100067546298,0.26246407741845618,29.606986899563321,89.872282050398155,359.48912820159262,0.26330506292383304,303.74305555555554,259.21527777777777,null,null,null,1229]
[14,168,{"$f":"INDEX($Y$2:$Y$276,MATCH(MIN(ABS($Y$2:$Y$276-B243)),ABS($Y$2:$Y$276-B243),0))","v":167},197.64705882352942,{"$f":"INDEX($Y$2:$Y$276,MATCH(MIN(ABS($Y$2:$Y$276-D243)),ABS($Y$2:$Y$276-D243),0))","v":197},237.1764705882353,{"$f":"INDEX($Y$2:$Y$276,MATCH(MIN(ABS($Y$2:$Y$276-F243)),ABS($Y$2:$Y$276-F243),0))","v":239},4557.508650519032,4550.2667824074078,"M",1,28.586309523809522,86.940241234263397,347.76096493705359,0.27218496917469531,28.368200836820083,86.986339340321322,347.94535736128529,0.27204072570300142,326.96527777777783,277.17361111111114,null,null,null,1231]
[14.5,174,{"$f":"INDEX($Y$2:$Y$276,MATCH(MIN(ABS($Y$2:$Y$276-B244)),ABS($Y$2:$Y$276-B244),0))","v":173},204.70588235294119,{"$f":"INDEX($Y$2:$Y$276,MATCH(MIN(ABS($Y$2:$Y$276-D244)),ABS($Y$2:$Y$276-D244),0))","v":199},245.64705882352942,{"$f":"INDEX($Y$2:$Y$276,MATCH(MIN(ABS($Y$2:$Y$276-F244)),ABS($Y$2:$Y$276-F244),0))","v":241},5063.4602076124575,4801.4508101851843,"M",1,27.600574712643677,83.942301881357764,335.76920752543106,0.28190586093093439,28.132780082987555,85.4422179510738,341.7688718042952,0.27695707634765537,333.04861111111109,289.53472222222217,null,null,null,1237]
["HEIGHT ft","HEIGHT \"","PRIME height","WIDTH \"","PRIME width","DEPTH \"","PRIME depth","VOLUME","PRIME volume","TABLE","USEABLE 1=Yes 0=NO","F¹","F²","F³","minimum RT60","F¹","F²","F³","minimum RT60","Square Feet","Square Feet",null,null,null,1129]
[{"$f":"B246/12","v":8},{"$f":"B231","v":96},{"$f":"INDEX($Y$2:$Y$276,MATCH(MIN(ABS($Y$2:$Y$276-B246)),ABS($Y$2:$Y$276-B246),0))","v":97},{"$f":"B246*$D$217","v":115.66265060240966},{"$f":"INDEX($Y$2:$Y$276,MATCH(MIN(ABS($Y$2:$Y$276-D246)),ABS($Y$2:$Y$276-D246),0))","v":113},{"$f":"B246*$E$217","v":142.26506024096386},{"$f":"INDEX($Y$2:$Y$276,MATCH(MIN(ABS($Y$2:$Y$276-F246)),ABS($Y$2:$Y$276-F246),0))","v":139},{"$f":"(B246/12)*(D246/12)*(F246/12)","v":914.15299753229795},{"$f":"(C246/12)*(E246/12)*(G246/12)","v":881.70081018518522},"N",{"$f":"IF(H246>$L$21,$N$22,$O$22)","v":0},{"$f":"565/(F246/12)","v":47.657520325203251},{"$f":"(SQRT(O246/H246)*11250)","v":148.52185981551594},{"$f":"4*M246","v":594.08743926206375},{"$f":"0.25*(((0.028316846592*H246)/100)^(1/3))","v":0.15932891568811625},{"$f":"565/(G246/12)","v":48.776978417266186},{"$f":"(SQRT(S246/I246)*11250)","v":150.32213251333644},{"$f":"4*Q246","v":601.28853005334577},{"$f":"0.25*(((0.028316846592*I246)/100)^(1/3))","v":0.15742077686590245},{"$f":"(E246/12)*(G246/12)","v":109.07638888888889},{"$f":"(C246/12)*(G246/12)","v":93.631944444444457},null,null,null,1151]
[8.5,{"$f":"B232","v":102},{"$f":"INDEX($Y$2:$Y$276,MATCH(MIN(ABS($Y$2:$Y$276-B247)),ABS($Y$2:$Y$276-B247),0))","v":101},{"$f":"B247*$D$217","v":122.89156626506025},{"$f":"INDEX($Y$2:$Y$276,MATCH(MIN(ABS($Y$2:$Y$276-D247)),ABS($Y$2:$Y$276-D247),0))","v":127},{"$f":"B247*$E$217","v":151.15662650602408},{"$f":"INDEX($Y$2:$Y$276,MATCH(MIN(ABS($Y$2:$Y$276-F247)),ABS($Y$2:$Y$276-F247),0))","v":151},1096.4925968935986,{"$f":"(C247/12)*(E247/12)*(G247/12)","v":1120.8778935185185},"N",0,44.854136776661889,139.78527982636794,559.14111930547176,0.16928697291862349,{"$f":"565/(G247/12)","v":44.900662251655625},{"$f":"(SQRT(S247/I247)*11250)","v":138.76413734898509},{"$f":"4*Q247","v":555.05654939594035},{"$f":"0.25*(((0.028316846592*I247)/100)^(1/3))","v":0.17053272792576932},133.17361111111111,105.90972222222221,null,null,null,1153]
[9,108,{"$f":"INDEX($Y$2:$Y$276,MATCH(MIN(ABS($Y$2:$Y$276-B248)),ABS($Y$2:$Y$276-B248),0))","v":107},130.12048192771084,{"$f":"INDEX($Y$2:$Y$276,MATCH(MIN(ABS($Y$2:$Y$276-D248)),ABS($Y$2:$Y$276-D248),0))","v":131},160.04819277108433,{"$f":"INDEX($Y$2:$Y$276,MATCH(MIN(ABS($Y$2:$Y$276-F248)),ABS($Y$2:$Y$276-F248),0))","v":163},1301.5967484395412,1322.2054398148148,"N",0,42.362240289069561,132.0194309471253,528.0777237885012,0.17924503014913076,41.595092024539873,131.3299245978794,525.31969839151759,0.18018609964823401,148.28472222222223,121.11805555555556,null,null,null,1163]
[9.5,114,{"$f":"INDEX($Y$2:$Y$276,MATCH(MIN(ABS($Y$2:$Y$276-B249)),ABS($Y$2:$Y$276-B249),0))","v":113},137.34939759036146,{"$f":"INDEX($Y$2:$Y$276,MATCH(MIN(ABS($Y$2:$Y$276-D249)),ABS($Y$2:$Y$276-D249),0))","v":137},168.93975903614458,{"$f":"INDEX($Y$2:$Y$276,MATCH(MIN(ABS($Y$2:$Y$276-F249)),ABS($Y$2:$Y$276-F249),0))","v":167},1530.8045434751054,1496.138310185185,"N",1,40.132648694907999,125.071039844645,500.28415937858,0.18920308737963804,40.598802395209582,126.0296587249983,504.1186348999932,0.18776395270595758,158.88194444444443,131.04861111111109,null,null,null,1171]
[10,120,{"$f":"INDEX($Y$2:$Y$276,MATCH(MIN(ABS($Y$2:$Y$276-B250)),ABS($Y$2:$Y$276-B250),0))","v":113},144.57831325301206,{"$f":"INDEX($Y$2:$Y$276,MATCH(MIN(ABS($Y$2:$Y$276-D250)),ABS($Y$2:$Y$276-D250),0))","v":149},177.83132530120483,{"$f":"INDEX($Y$2:$Y$276,MATCH(MIN(ABS($Y$2:$Y$276-F250)),ABS($Y$2:$Y$276-F250),0))","v":179},1785.4550733052695,1744.1105324074072,"N",1,38.126016260162601,118.81748785241275,475.26995140965101,0.19916114461014531,37.877094972067042,119.74903064610375,478.99612258441499,0.19761184497870926,185.21527777777777,140.46527777777777,null,null,null,1181]
[10.5,126,{"$f":"INDEX($Y$2:$Y$276,MATCH(MIN(ABS($Y$2:$Y$276-B251)),ABS($Y$2:$Y$276-B251),0))","v":127},151.80722891566268,{"$f":"INDEX($Y$2:$Y$276,MATCH(MIN(ABS($Y$2:$Y$276-D251)),ABS($Y$2:$Y$276-D251),0))","v":151},186.72289156626505,{"$f":"INDEX($Y$2:$Y$276,MATCH(MIN(ABS($Y$2:$Y$276-F251)),ABS($Y$2:$Y$276-F251),0))","v":191},2066.8874292350129,2119.6799768518517,"N",1,36.310491676345336,113.1595122403931,452.63804896157239,0.20911920184065258,35.497382198952884,112.21215656537122,448.84862626148487,0.21088469916896008,200.28472222222223,168.45138888888889,null,null,null,1187]
[11,132,{"$f":"INDEX($Y$2:$Y$276,MATCH(MIN(ABS($Y$2:$Y$276-B252)),ABS($Y$2:$Y$276-B252),0))","v":131},159.03614457831327,{"$f":"INDEX($Y$2:$Y$276,MATCH(MIN(ABS($Y$2:$Y$276-D252)),ABS($Y$2:$Y$276-D252),0))","v":157},195.6144578313253,{"$f":"INDEX($Y$2:$Y$276,MATCH(MIN(ABS($Y$2:$Y$276-F252)),ABS($Y$2:$Y$276-F252),0))","v":197},2376.4407025693135,2344.7332175925926,"N",1,34.660014781966005,108.01589804764797,432.06359219059186,0.21907725907115982,34.416243654822331,108.50061406126194,434.00245624504777,0.21809855257618557,214.78472222222226,179.21527777777777,null,null,null,1193]
[11.5,138,{"$f":"INDEX($Y$2:$Y$276,MATCH(MIN(ABS($Y$2:$Y$276-B253)),ABS($Y$2:$Y$276-B253),0))","v":137},166.26506024096386,{"$f":"INDEX($Y$2:$Y$276,MATCH(MIN(ABS($Y$2:$Y$276-D253)),ABS($Y$2:$Y$276-D253),0))","v":167},204.50602409638554,{"$f":"INDEX($Y$2:$Y$276,MATCH(MIN(ABS($Y$2:$Y$276-F253)),ABS($Y$2:$Y$276-F253),0))","v":199},2715.453984613152,2634.79224537037,"N",1,33.153057617532696,103.31955465427194,413.27821861708776,0.2290353163016671,34.070351758793976,104.36331908546396,417.45327634185583,0.22674467511913893,230.7847222222222,189.32638888888886,null,null,null,1201]
[12,144,{"$f":"INDEX($Y$2:$Y$276,MATCH(MIN(ABS($Y$2:$Y$276-B254)),ABS($Y$2:$Y$276-B254),0))","v":139},173.49397590361448,{"$f":"INDEX($Y$2:$Y$276,MATCH(MIN(ABS($Y$2:$Y$276-D254)),ABS($Y$2:$Y$276-D254),0))","v":173},213.39759036144579,{"$f":"INDEX($Y$2:$Y$276,MATCH(MIN(ABS($Y$2:$Y$276-F254)),ABS($Y$2:$Y$276-F254),0))","v":211},3085.2663666715057,2936.2945601851852,"N",1,31.771680216802167,99.014573210343954,396.05829284137582,0.23899337353217434,32.132701421800952,100.66151627595616,402.64606510382464,0.23508315546843056,253.49305555555551,203.67361111111111,null,null,null,1213]
[12.5,150,{"$f":"INDEX($Y$2:$Y$276,MATCH(MIN(ABS($Y$2:$Y$276-B255)),ABS($Y$2:$Y$276-B255),0))","v":149},180.72289156626508,{"$f":"INDEX($Y$2:$Y$276,MATCH(MIN(ABS($Y$2:$Y$276-D255)),ABS($Y$2:$Y$276-D255),0))","v":181},222.28915662650601,{"$f":"INDEX($Y$2:$Y$276,MATCH(MIN(ABS($Y$2:$Y$276-F255)),ABS($Y$2:$Y$276-F255),0))","v":223},3487.216940049354,3480.3744212962961,"N",1,30.500813008130081,95.053990281930211,380.21596112772085,0.24895143076268161,30.40358744394619,95.116242485900443,380.46496994360177,0.24878849565463398,280.29861111111109,230.74305555555554,null,null,null,1217]
[13,156,{"$f":"INDEX($Y$2:$Y$276,MATCH(MIN(ABS($Y$2:$Y$276-B256)),ABS($Y$2:$Y$276-B256),0))","v":157},187.95180722891567,{"$f":"INDEX($Y$2:$Y$276,MATCH(MIN(ABS($Y$2:$Y$276-D256)),ABS($Y$2:$Y$276-D256),0))","v":191},231.18072289156626,{"$f":"INDEX($Y$2:$Y$276,MATCH(MIN(ABS($Y$2:$Y$276-F256)),ABS($Y$2:$Y$276-F256),0))","v":233},3922.6447960516771,4043.3859953703709,"N",1,29.327704815509694,91.398067578779035,365.59227031511614,0.25890948799318886,29.098712446351929,90.479100405537451,361.91640162214981,0.26153914853623256,309.04861111111114,254.03472222222226,null,null,null,1223]
[13.5,162,{"$f":"INDEX($Y$2:$Y$276,MATCH(MIN(ABS($Y$2:$Y$276-B257)),ABS($Y$2:$Y$276-B257),0))","v":163},195.18072289156629,{"$f":"INDEX($Y$2:$Y$276,MATCH(MIN(ABS($Y$2:$Y$276-D257)),ABS($Y$2:$Y$276-D257),0))","v":197},240.07228915662651,{"$f":"INDEX($Y$2:$Y$276,MATCH(MIN(ABS($Y$2:$Y$276-F257)),ABS($Y$2:$Y$276-F257),0))","v":241},4392.8890259834525,4478.4438657407409,"N",1,28.241493526046373,88.012953964750182,352.05181585900073,0.26886754522369616,28.132780082987555,87.448889024886853,349.79555609954741,0.27060180116929938,329.70138888888891,272.79861111111109,null,null,null,1229]
[14,168,{"$f":"INDEX($Y$2:$Y$276,MATCH(MIN(ABS($Y$2:$Y$276-B258)),ABS($Y$2:$Y$276-B258),0))","v":167},202.40963855421688,{"$f":"INDEX($Y$2:$Y$276,MATCH(MIN(ABS($Y$2:$Y$276-D258)),ABS($Y$2:$Y$276-D258),0))","v":199},248.96385542168676,{"$f":"INDEX($Y$2:$Y$276,MATCH(MIN(ABS($Y$2:$Y$276-F258)),ABS($Y$2:$Y$276-F258),0))","v":251},4899.28872114966,4827.2471064814808,"N",1,27.232868757258998,84.86963418029481,339.47853672117924,0.2788256024542034,27.011952191235057,85.289747984549635,341.15899193819854,0.27745218434313224,346.86805555555554,291.09027777777777,null,null,null,1231]
[14.5,174,{"$f":"INDEX($Y$2:$Y$276,MATCH(MIN(ABS($Y$2:$Y$276-B259)),ABS($Y$2:$Y$276-B259),0))","v":173},209.63855421686748,{"$f":"INDEX($Y$2:$Y$276,MATCH(MIN(ABS($Y$2:$Y$276-D259)),ABS($Y$2:$Y$276-D259),0))","v":211},257.85542168674698,{"$f":"INDEX($Y$2:$Y$276,MATCH(MIN(ABS($Y$2:$Y$276-F259)),ABS($Y$2:$Y$276-F259),0))","v":257},5443.1829728552757,5428.9762731481478,"N",1,26.293804317353519,81.943095070629496,327.77238028251799,0.28878365968471065,26.381322957198442,82.014509821619797,328.05803928647919,0.28853219914204198,376.57638888888886,308.75694444444446,null,null,null,1237]
["HEIGHT ft","HEIGHT \"","PRIME height","WIDTH \"","PRIME width","DEPTH \"","PRIME depth","VOLUME","PRIME volume","TABLE","USEABLE 1=Yes 0=NO","F¹","F²","F³","minimum RT60","F¹","F²","F³","minimum RT60","Square Feet","Square Feet",null,null,null,1129]
[{"$f":"B261/12","v":8},{"$f":"B246","v":96},{"$f":"INDEX($Y$2:$Y$276,MATCH(MIN(ABS($Y$2:$Y$276-B261)),ABS($Y$2:$Y$276-B261),0))","v":97},{"$f":"B261*$D$218","v":118.51851851851853},{"$f":"INDEX($Y$2:$Y$276,MATCH(MIN(ABS($Y$2:$Y$276-D261)),ABS($Y$2:$Y$276-D261),0))","v":113},{"$f":"B261*$E$218","v":149.33333333333337},{"$f":"INDEX($Y$2:$Y$276,MATCH(MIN(ABS($Y$2:$Y$276-F261)),ABS($Y$2:$Y$276-F261),0))","v":149},{"$f":"(B261/12)*(D261/12)*(F261/12)","v":983.26474622770957},{"$f":"(C261/12)*(E261/12)*(G261/12)","v":945.13252314814815},"O",{"$f":"IF(H261>$L$21,$N$22,$O$22)","v":0},{"$f":"565/(F261/12)","v":45.401785714285701},{"$f":"(SQRT(O261/H261)*11250)","v":144.95722017469313},{"$f":"4*M261","v":579.82888069877254},{"$f":"0.25*(((0.028316846592*H261)/100)^(1/3))","v":0.16324696936013561},{"$f":"565/(G261/12)","v":45.503355704697988},{"$f":"(SQRT(S261/I261)*11250)","v":146.88105122664527},{"$f":"4*Q261","v":587.52420490658108},{"$f":"0.25*(((0.028316846592*I261)/100)^(1/3))","v":0.16110877940187138},{"$f":"(E261/12)*(G261/12)","v":116.9236111111111},{"$f":"(C261/12)*(G261/12)","v":100.36805555555556},null,null,null,1151]
[8.5,{"$f":"B247","v":102},{"$f":"INDEX($Y$2:$Y$276,MATCH(MIN(ABS($Y$2:$Y$276-B262)),ABS($Y$2:$Y$276-B262),0))","v":101},{"$f":"B262*$D$218","v":125.92592592592594},{"$f":"INDEX($Y$2:$Y$276,MATCH(MIN(ABS($Y$2:$Y$276-D262)),ABS($Y$2:$Y$276-D262),0))","v":127},{"$f":"B262*$E$218","v":158.66666666666669},{"$f":"INDEX($Y$2:$Y$276,MATCH(MIN(ABS($Y$2:$Y$276-F262)),ABS($Y$2:$Y$276-F262),0))","v":157},1179.3895747599452,{"$f":"(C262/12)*(E262/12)*(G262/12)","v":1165.416087962963},"O",0,42.731092436974784,136.43032487029942,545.72129948119766,0.17344990494514406,{"$f":"565/(G262/12)","v":43.184713375796179},{"$f":"(SQRT(S262/I262)*11250)","v":136.97343228040899},{"$f":"4*Q262","v":547.89372912163594},{"$f":"0.25*(((0.028316846592*I262)/100)^(1/3))","v":0.17276216625677082},138.4652777777778,110.11805555555556,null,null,null,1153]
[9,108,{"$f":"INDEX($Y$2:$Y$276,MATCH(MIN(ABS($Y$2:$Y$276-B263)),ABS($Y$2:$Y$276-B263),0))","v":107},133.33333333333334,{"$f":"INDEX($Y$2:$Y$276,MATCH(MIN(ABS($Y$2:$Y$276-D263)),ABS($Y$2:$Y$276-D263),0))","v":131},168.00000000000003,{"$f":"INDEX($Y$2:$Y$276,MATCH(MIN(ABS($Y$2:$Y$276-F263)),ABS($Y$2:$Y$276-F263),0))","v":167},1400.0000000000005,1354.6521990740739,"O",0,40.357142857142854,128.850862377505,515.40344951001998,0.18365284053015254,40.598802395209582,130.27289748128396,521.09158992513585,0.18164811973870687,151.92361111111109,124.09027777777776,null,null,null,1163]
[9.5,114,{"$f":"INDEX($Y$2:$Y$276,MATCH(MIN(ABS($Y$2:$Y$276-B264)),ABS($Y$2:$Y$276-B264),0))","v":113},140.74074074074076,{"$f":"INDEX($Y$2:$Y$276,MATCH(MIN(ABS($Y$2:$Y$276-D264)),ABS($Y$2:$Y$276-D264),0))","v":139},177.33333333333337,{"$f":"INDEX($Y$2:$Y$276,MATCH(MIN(ABS($Y$2:$Y$276-F264)),ABS($Y$2:$Y$276-F264),0))","v":179},1646.5363511659814,1627.0561342592591,"O",1,38.233082706766908,122.06923804184684,488.27695216738738,0.19385577611516103,37.877094972067042,122.55447181781676,490.21788727126705,0.19308823684186732,172.78472222222223,140.46527777777777,null,null,null,1171]
[10,120,{"$f":"INDEX($Y$2:$Y$276,MATCH(MIN(ABS($Y$2:$Y$276-B265)),ABS($Y$2:$Y$276-B265),0))","v":113},148.14814814814815,{"$f":"INDEX($Y$2:$Y$276,MATCH(MIN(ABS($Y$2:$Y$276-D265)),ABS($Y$2:$Y$276-D265),0))","v":149},186.66666666666669,{"$f":"INDEX($Y$2:$Y$276,MATCH(MIN(ABS($Y$2:$Y$276-F265)),ABS($Y$2:$Y$276-F265),0))","v":191},1920.4389574759946,1861.0341435185182,"O",1,36.321428571428569,115.96577613975451,463.86310455901804,0.20405871170016948,35.497382198952884,117.18676381616903,468.74705526467613,0.20193259127378943,197.63194444444443,149.88194444444443,null,null,null,1181]
[10.5,126,{"$f":"INDEX($Y$2:$Y$276,MATCH(MIN(ABS($Y$2:$Y$276-B266)),ABS($Y$2:$Y$276-B266),0))","v":127},155.55555555555557,{"$f":"INDEX($Y$2:$Y$276,MATCH(MIN(ABS($Y$2:$Y$276-D266)),ABS($Y$2:$Y$276-D266),0))","v":157},196.00000000000003,{"$f":"INDEX($Y$2:$Y$276,MATCH(MIN(ABS($Y$2:$Y$276-F266)),ABS($Y$2:$Y$276-F266),0))","v":197},2223.1481481481487,2273.1383101851857,"O",1,34.591836734693871,110.44359632357572,441.77438529430287,0.21426164728517796,34.416243654822331,109.62797388197896,438.51189552791584,0.21585573501398533,214.78472222222226,173.74305555555557,null,null,null,1187]
[11,132,{"$f":"INDEX($Y$2:$Y$276,MATCH(MIN(ABS($Y$2:$Y$276-B267)),ABS($Y$2:$Y$276-B267),0))","v":131},162.96296296296299,{"$f":"INDEX($Y$2:$Y$276,MATCH(MIN(ABS($Y$2:$Y$276-D267)),ABS($Y$2:$Y$276-D267),0))","v":163},205.33333333333337,{"$f":"INDEX($Y$2:$Y$276,MATCH(MIN(ABS($Y$2:$Y$276-F267)),ABS($Y$2:$Y$276-F267),0))","v":211},2556.1042524005497,2607.3396990740739,"O",1,33.01948051948051,105.42343285432226,421.69373141728903,0.22446458287018645,32.132701421800952,104.72831972515692,418.91327890062769,0.22595442133026258,238.84027777777777,191.95138888888886,null,null,null,1193]
[11.5,138,{"$f":"INDEX($Y$2:$Y$276,MATCH(MIN(ABS($Y$2:$Y$276-B268)),ABS($Y$2:$Y$276-B268),0))","v":137},170.37037037037038,{"$f":"INDEX($Y$2:$Y$276,MATCH(MIN(ABS($Y$2:$Y$276-D268)),ABS($Y$2:$Y$276-D268),0))","v":173},214.66666666666671,{"$f":"INDEX($Y$2:$Y$276,MATCH(MIN(ABS($Y$2:$Y$276-F268)),ABS($Y$2:$Y$276-F268),0))","v":211},2920.7475994513043,2894.0457175925922,"O",1,31.583850931677013,100.83980533891696,403.35922135566784,0.23466751845519493,32.132701421800952,101.14898884863078,404.59595539452312,0.2339502070139467,253.49305555555551,200.74305555555554,null,null,null,1201]
[12,144,{"$f":"INDEX($Y$2:$Y$276,MATCH(MIN(ABS($Y$2:$Y$276-B269)),ABS($Y$2:$Y$276-B269),0))","v":139},177.7777777777778,{"$f":"INDEX($Y$2:$Y$276,MATCH(MIN(ABS($Y$2:$Y$276-D269)),ABS($Y$2:$Y$276-D269),0))","v":179},224.00000000000003,{"$f":"INDEX($Y$2:$Y$276,MATCH(MIN(ABS($Y$2:$Y$276-F269)),ABS($Y$2:$Y$276-F269),0))","v":223},3318.5185185185192,3210.916087962963,"O",1,30.267857142857142,96.638146783128732,386.55258713251493,0.24487045404020338,30.40358744394619,97.705802485923599,390.82320994369439,0.24219469344001124,277.20138888888886,215.25694444444443,null,null,null,1213]
[12.5,150,{"$f":"INDEX($Y$2:$Y$276,MATCH(MIN(ABS($Y$2:$Y$276-B270)),ABS($Y$2:$Y$276-B270),0))","v":149},185.18518518518522,{"$f":"INDEX($Y$2:$Y$276,MATCH(MIN(ABS($Y$2:$Y$276-D270)),ABS($Y$2:$Y$276-D270),0))","v":181},233.33333333333337,{"$f":"INDEX($Y$2:$Y$276,MATCH(MIN(ABS($Y$2:$Y$276-F270)),ABS($Y$2:$Y$276-F270),0))","v":233},3750.8573388203026,3636.4450231481483,"O",1,29.057142857142853,92.772620911803585,371.09048364721434,0.25507338962521187,29.098712446351929,93.735550160728096,374.94220064291238,0.25245306439032211,292.8680555555556,241.09027777777777,null,null,null,1217]
[13,156,{"$f":"INDEX($Y$2:$Y$276,MATCH(MIN(ABS($Y$2:$Y$276-B271)),ABS($Y$2:$Y$276-B271),0))","v":157},192.59259259259261,{"$f":"INDEX($Y$2:$Y$276,MATCH(MIN(ABS($Y$2:$Y$276-D271)),ABS($Y$2:$Y$276-D271),0))","v":193},242.66666666666671,{"$f":"INDEX($Y$2:$Y$276,MATCH(MIN(ABS($Y$2:$Y$276-F271)),ABS($Y$2:$Y$276-F271),0))","v":241},4219.2043895747602,4226.0075231481478,"O",1,27.939560439560434,89.204443184426552,356.81777273770621,0.26527632521022032,28.132780082987555,89.156549620429075,356.6261984817163,0.26541882768157621,323.0069444444444,262.75694444444446,null,null,null,1223]
[13.5,162,{"$f":"INDEX($Y$2:$Y$276,MATCH(MIN(ABS($Y$2:$Y$276-B272)),ABS($Y$2:$Y$276-B272),0))","v":163},200.00000000000003,{"$f":"INDEX($Y$2:$Y$276,MATCH(MIN(ABS($Y$2:$Y$276-D272)),ABS($Y$2:$Y$276-D272),0))","v":199},252.00000000000003,{"$f":"INDEX($Y$2:$Y$276,MATCH(MIN(ABS($Y$2:$Y$276-F272)),ABS($Y$2:$Y$276-F272),0))","v":251},4725.0000000000018,4711.6244212962965,"O",1,26.904761904761902,85.900574918336659,343.60229967334664,0.27547926079522883,27.011952191235057,85.981784303156957,343.92713721262783,0.275219071948472,346.86805555555554,284.1180555555556,null,null,null,1229]
[14,168,{"$f":"INDEX($Y$2:$Y$276,MATCH(MIN(ABS($Y$2:$Y$276-B273)),ABS($Y$2:$Y$276-B273),0))","v":167},207.40740740740745,{"$f":"INDEX($Y$2:$Y$276,MATCH(MIN(ABS($Y$2:$Y$276-D273)),ABS($Y$2:$Y$276-D273),0))","v":211},261.33333333333337,{"$f":"INDEX($Y$2:$Y$276,MATCH(MIN(ABS($Y$2:$Y$276-F273)),ABS($Y$2:$Y$276-F273),0))","v":263},5269.6844993141312,5363.0387731481478,"O",1,25.943877551020403,82.832697242681775,331.3307889707271,0.28568219638023729,25.779467680608363,82.349259042513779,329.39703617005512,0.28735931756437327,385.36805555555554,305.00694444444446,null,null,null,1231]
[14.5,174,{"$f":"INDEX($Y$2:$Y$276,MATCH(MIN(ABS($Y$2:$Y$276-B274)),ABS($Y$2:$Y$276-B274),0))","v":173},214.81481481481484,{"$f":"INDEX($Y$2:$Y$276,MATCH(MIN(ABS($Y$2:$Y$276-D274)),ABS($Y$2:$Y$276-D274),0))","v":211},270.66666666666669,{"$f":"INDEX($Y$2:$Y$276,MATCH(MIN(ABS($Y$2:$Y$276-F274)),ABS($Y$2:$Y$276-F274),0))","v":271},5854.6982167352553,5724.7181712962947,"O",1,25.04926108374384,79.976397337761711,319.90558935104684,0.29588513196524574,25.018450184501848,80.577162739250596,322.30865095700238,0.2936790782391433,397.09027777777771,325.57638888888886,null,null,null,1237]
["HEIGHT ft","HEIGHT \"","PRIME height","WIDTH \"","PRIME width","DEPTH \"","PRIME depth","VOLUME","PRIME volume","TABLE","USEABLE 1=Yes 0=NO","F¹","F²","F³","minimum RT60","F¹","F²","F³","minimum RT60","Square Feet","Square Feet",null,null,null,1129]
[{"$f":"B276/12","v":8},{"$f":"B261","v":96},{"$f":"INDEX($Y$2:$Y$276,MATCH(MIN(ABS($Y$2:$Y$276-B276)),ABS($Y$2:$Y$276-B276),0))","v":97},{"$f":"B276*$D$219","v":121.51898734177216},{"$f":"INDEX($Y$2:$Y$276,MATCH(MIN(ABS($Y$2:$Y$276-D276)),ABS($Y$2:$Y$276-D276),0))","v":127},{"$f":"B276*$E$219","v":156.75949367088612},{"$f":"INDEX($Y$2:$Y$276,MATCH(MIN(ABS($Y$2:$Y$276-F276)),ABS($Y$2:$Y$276-F276),0))","v":157},{"$f":"(B276/12)*(D276/12)*(F276/12)","v":1058.291940394168},{"$f":"(C276/12)*(E276/12)*(G276/12)","v":1119.2609953703707},"P",{"$f":"IF(H276>$L$21,$N$22,$O$22)","v":0},{"$f":"565/(F276/12)","v":43.250968992248048},{"$f":"(SQRT(O276/H276)*11250)","v":141.44735970816311},{"$f":"4*M276","v":565.78943883265242},{"$f":"0.25*(((0.028316846592*H276)/100)^(1/3))","v":0.16729776313401831},{"$f":"565/(G276/12)","v":43.184713375796179},{"$f":"(SQRT(S276/I276)*11250)","v":138.83092532275458},{"$f":"4*Q276","v":555.32370129101832},{"$f":"0.25*(((0.028316846592*I276)/100)^(1/3))","v":0.1704506890332598},{"$f":"(E276/12)*(G276/12)","v":138.4652777777778},{"$f":"(C276/12)*(G276/12)","v":105.75694444444446},null,null,null,1151]
[8.5,{"$f":"B262","v":102},{"$f":"INDEX($Y$2:$Y$276,MATCH(MIN(ABS($Y$2:$Y$276-B277)),ABS($Y$2:$Y$276-B277),0))","v":101},{"$f":"B277*$D$219","v":129.11392405063293},{"$f":"INDEX($Y$2:$Y$276,MATCH(MIN(ABS($Y$2:$Y$276-D277)),ABS($Y$2:$Y$276-D277),0))","v":131},{"$f":"B277*$E$219","v":166.55696202531649},{"$f":"INDEX($Y$2:$Y$276,MATCH(MIN(ABS($Y$2:$Y$276-F277)),ABS($Y$2:$Y$276-F277),0))","v":167},1269.3819099503291,{"$f":"(C277/12)*(E277/12)*(G277/12)","v":1278.6903935185182},"P",0,40.706794345645221,133.12692678415351,532.50770713661404,0.17775387332989448,{"$f":"565/(G277/12)","v":40.598802395209582},{"$f":"(SQRT(S277/I277)*11250)","v":132.80309831535098},{"$f":"4*Q277","v":531.21239326140392},{"$f":"0.25*(((0.028316846592*I277)/100)^(1/3))","v":0.17818731024028533},151.92361111111109,117.13194444444443,null,null,null,1153]
[9,108,{"$f":"INDEX($Y$2:$Y$276,MATCH(MIN(ABS($Y$2:$Y$276-B278)),ABS($Y$2:$Y$276-B278),0))","v":107},136.70886075949369,{"$f":"INDEX($Y$2:$Y$276,MATCH(MIN(ABS($Y$2:$Y$276-D278)),ABS($Y$2:$Y$276-D278),0))","v":137},176.35443037974687,{"$f":"INDEX($Y$2:$Y$276,MATCH(MIN(ABS($Y$2:$Y$276-F278)),ABS($Y$2:$Y$276-F278),0))","v":179},1506.8258291940399,1518.4959490740739,"P",1,38.44530577088716,125.7309864072561,502.92394562902439,0.18820998352577059,37.877094972067042,125.40806365088419,501.63225460353675,0.18869461971970825,170.29861111111109,133.00694444444443,null,null,null,1163]
[9.5,114,{"$f":"INDEX($Y$2:$Y$276,MATCH(MIN(ABS($Y$2:$Y$276-B279)),ABS($Y$2:$Y$276-B279),0))","v":113},144.30379746835445,{"$f":"INDEX($Y$2:$Y$276,MATCH(MIN(ABS($Y$2:$Y$276-D279)),ABS($Y$2:$Y$276-D279),0))","v":149},186.15189873417725,{"$f":"INDEX($Y$2:$Y$276,MATCH(MIN(ABS($Y$2:$Y$276-F279)),ABS($Y$2:$Y$276-F279),0))","v":191},1772.173930459863,1861.0341435185182,"P",1,36.42186862505099,119.11356607003209,476.45426428012837,0.19866609372164676,35.497382198952884,117.18676381616903,468.74705526467613,0.20193259127378943,197.63194444444443,149.88194444444443,null,null,null,1171]
[10,120,{"$f":"INDEX($Y$2:$Y$276,MATCH(MIN(ABS($Y$2:$Y$276-B280)),ABS($Y$2:$Y$276-B280),0))","v":113},151.8987341772152,{"$f":"INDEX($Y$2:$Y$276,MATCH(MIN(ABS($Y$2:$Y$276-D280)),ABS($Y$2:$Y$276-D280),0))","v":151},195.94936708860763,{"$f":"INDEX($Y$2:$Y$276,MATCH(MIN(ABS($Y$2:$Y$276-F280)),ABS($Y$2:$Y$276-F280),0))","v":197},2066.976446082359,1945.2609953703704,"P",1,34.600775193798448,113.15788776653049,452.63155106612197,0.20912220391752287,34.416243654822331,115.47041194676495,461.88164778705982,0.20493411672678744,206.57638888888891,154.59027777777777,null,null,null,1181]
[10.5,126,{"$f":"INDEX($Y$2:$Y$276,MATCH(MIN(ABS($Y$2:$Y$276-B281)),ABS($Y$2:$Y$276-B281),0))","v":127},159.49367088607596,{"$f":"INDEX($Y$2:$Y$276,MATCH(MIN(ABS($Y$2:$Y$276-D281)),ABS($Y$2:$Y$276-D281),0))","v":157},205.74683544303801,{"$f":"INDEX($Y$2:$Y$276,MATCH(MIN(ABS($Y$2:$Y$276-F281)),ABS($Y$2:$Y$276-F281),0))","v":211},2392.7836083960906,2434.6811342592596,"P",1,32.953119232188996,107.76941692050525,431.077667682021,0.21957831411339901,32.132701421800952,107.14764857589245,428.59059430356979,0.22085250768361492,230.04861111111111,186.09027777777777,null,null,null,1187]
[11,132,{"$f":"INDEX($Y$2:$Y$276,MATCH(MIN(ABS($Y$2:$Y$276-B282)),ABS($Y$2:$Y$276-B282),0))","v":131},167.08860759493672,{"$f":"INDEX($Y$2:$Y$276,MATCH(MIN(ABS($Y$2:$Y$276-D282)),ABS($Y$2:$Y$276-D282),0))","v":167},215.54430379746839,{"$f":"INDEX($Y$2:$Y$276,MATCH(MIN(ABS($Y$2:$Y$276-F282)),ABS($Y$2:$Y$276-F282),0))","v":211},2751.1456497356198,2671.3234953703695,"P",1,31.455250176180407,102.87080706048226,411.48322824192906,0.23003442430927515,32.132701421800952,103.88539931563167,415.54159726252669,0.22778780306259891,244.70138888888886,191.95138888888886,null,null,null,1193]
[11.5,138,{"$f":"INDEX($Y$2:$Y$276,MATCH(MIN(ABS($Y$2:$Y$276-B283)),ABS($Y$2:$Y$276-B283),0))","v":137},174.68354430379748,{"$f":"INDEX($Y$2:$Y$276,MATCH(MIN(ABS($Y$2:$Y$276-D283)),ABS($Y$2:$Y$276-D283),0))","v":173},225.34177215189877,{"$f":"INDEX($Y$2:$Y$276,MATCH(MIN(ABS($Y$2:$Y$276-F283)),ABS($Y$2:$Y$276-F283),0))","v":227},3143.6128024355075,3113.4994212962965,"P",1,30.087630603302998,98.398163275243903,393.59265310097561,0.24049053450515129,29.867841409691628,98.714377613675154,394.85751045470062,0.23972016490848386,272.71527777777777,215.96527777777777,null,null,null,1201]
[12,144,{"$f":"INDEX($Y$2:$Y$276,MATCH(MIN(ABS($Y$2:$Y$276-B284)),ABS($Y$2:$Y$276-B284),0))","v":139},182.27848101265823,{"$f":"INDEX($Y$2:$Y$276,MATCH(MIN(ABS($Y$2:$Y$276-D284)),ABS($Y$2:$Y$276-D284),0))","v":181},235.13924050632914,{"$f":"INDEX($Y$2:$Y$276,MATCH(MIN(ABS($Y$2:$Y$276-F284)),ABS($Y$2:$Y$276-F284),0))","v":233},3571.735298830316,3392.3883101851857,"P",1,28.833979328165373,94.298239805442094,377.19295922176838,0.25094664470102745,29.098712446351929,95.931556009420405,383.72622403768162,0.24667406497675062,292.8680555555556,224.90972222222226,null,null,null,1213]
[12.5,150,{"$f":"INDEX($Y$2:$Y$276,MATCH(MIN(ABS($Y$2:$Y$276-B285)),ABS($Y$2:$Y$276-B285),0))","v":149},189.87341772151899,{"$f":"INDEX($Y$2:$Y$276,MATCH(MIN(ABS($Y$2:$Y$276-D285)),ABS($Y$2:$Y$276-D285),0))","v":191},244.93670886075952,{"$f":"INDEX($Y$2:$Y$276,MATCH(MIN(ABS($Y$2:$Y$276-F285)),ABS($Y$2:$Y$276-F285),0))","v":241},4037.0633712546073,3969.1082175925922,"P",1,27.680620155038756,90.526310213224392,362.10524085289757,0.26140275489690362,28.132780082987555,91.040023555587723,364.16009422235089,0.25992773239936345,319.65972222222217,249.36805555555554,null,null,null,1217]
[13,156,{"$f":"INDEX($Y$2:$Y$276,MATCH(MIN(ABS($Y$2:$Y$276-B286)),ABS($Y$2:$Y$276-B286),0))","v":157},197.46835443037975,{"$f":"INDEX($Y$2:$Y$276,MATCH(MIN(ABS($Y$2:$Y$276-D286)),ABS($Y$2:$Y$276-D286),0))","v":197},254.7341772151899,{"$f":"INDEX($Y$2:$Y$276,MATCH(MIN(ABS($Y$2:$Y$276-F286)),ABS($Y$2:$Y$276-F286),0))","v":257},4541.1472520429425,4599.972800925927,"P",1,26.615980918306498,87.044529051177307,348.17811620470923,0.27185886509277973,26.381322957198442,86.671887300622004,346.68754920248801,0.2730277096460404,351.59027777777783,280.20138888888891,null,null,null,1223]
[13.5,162,{"$f":"INDEX($Y$2:$Y$276,MATCH(MIN(ABS($Y$2:$Y$276-B287)),ABS($Y$2:$Y$276-B287),0))","v":163},205.06329113924053,{"$f":"INDEX($Y$2:$Y$276,MATCH(MIN(ABS($Y$2:$Y$276-D287)),ABS($Y$2:$Y$276-D287),0))","v":211},264.53164556962031,{"$f":"INDEX($Y$2:$Y$276,MATCH(MIN(ABS($Y$2:$Y$276-F287)),ABS($Y$2:$Y$276-F287),0))","v":263},5085.537173529885,5234.5827546296296,"P",1,25.630203847258105,83.820657604837393,335.28263041934957,0.2823149752886559,25.779467680608363,83.0174363957655,332.069745583062,0.2850464662336355,385.36805555555554,297.70138888888891,null,null,null,1229]
[14,168,{"$f":"INDEX($Y$2:$Y$276,MATCH(MIN(ABS($Y$2:$Y$276-B288)),ABS($Y$2:$Y$276-B288),0))","v":167},212.65822784810129,{"$f":"INDEX($Y$2:$Y$276,MATCH(MIN(ABS($Y$2:$Y$276-D288)),ABS($Y$2:$Y$276-D288),0))","v":211},274.32911392405066,{"$f":"INDEX($Y$2:$Y$276,MATCH(MIN(ABS($Y$2:$Y$276-F288)),ABS($Y$2:$Y$276-F288),0))","v":277},5671.7833680499934,5648.5237268518513,"P",1,24.714839424141747,80.827062690378909,323.30825076151564,0.29277108548453201,24.476534296028881,80.937854697813577,323.75141879125431,0.29237032497017496,405.8819444444444,321.24305555555554,null,null,null,1231]
[14.5,174,{"$f":"INDEX($Y$2:$Y$276,MATCH(MIN(ABS($Y$2:$Y$276-B289)),ABS($Y$2:$Y$276-B289),0))","v":173},220.25316455696205,{"$f":"INDEX($Y$2:$Y$276,MATCH(MIN(ABS($Y$2:$Y$276-D289)),ABS($Y$2:$Y$276-D289),0))","v":223},284.12658227848107,{"$f":"INDEX($Y$2:$Y$276,MATCH(MIN(ABS($Y$2:$Y$276-F289)),ABS($Y$2:$Y$276-F289),0))","v":283},6301.4360679378324,6318.204282407406,"P",1,23.86260358192996,78.03992259760723,312.15969039042892,0.30322719568040818,23.957597173144876,77.970823348514401,311.8832933940576,0.30349592147585591,438.2569444444444,339.99305555555554,null,null,null,1237]
["HEIGHT ft","HEIGHT \"","PRIME height","WIDTH \"","PRIME width","DEPTH \"","PRIME depth","VOLUME","PRIME volume","TABLE","USEABLE 1=Yes 0=NO","F¹","F²","F³","minimum RT60","F¹","F²","F³","minimum RT60","Square Feet","Square Feet",null,null,null,1129]
[{"$f":"B291/12","v":8},{"$f":"B276","v":96},{"$f":"INDEX($Y$2:$Y$276,MATCH(MIN(ABS($Y$2:$Y$276-B291)),ABS($Y$2:$Y$276-B291),0))","v":97},{"$f":"B291*$D$220","v":124.6753246753247},{"$f":"INDEX($Y$2:$Y$276,MATCH(MIN(ABS($Y$2:$Y$276-D291)),ABS($Y$2:$Y$276-D291),0))","v":127},{"$f":"B291*$E$220","v":164.57142857142861},{"$f":"INDEX($Y$2:$Y$276,MATCH(MIN(ABS($Y$2:$Y$276-F291)),ABS($Y$2:$Y$276-F291),0))","v":163},{"$f":"(B291/12)*(D291/12)*(F291/12)","v":1139.8886827458259},{"$f":"(C291/12)*(E291/12)*(G291/12)","v":1162.0353009259263},"Q",{"$f":"IF(H291>$L$21,$N$22,$O$22)","v":0},{"$f":"565/(F291/12)","v":41.197916666666657},{"$f":"(SQRT(O291/H291)*11250)","v":137.98838365313077},{"$f":"4*M291","v":551.95353461252307},{"$f":"0.25*(((0.028316846592*H291)/100)^(1/3))","v":0.17149144191639826},{"$f":"565/(G291/12)","v":41.595092024539873},{"$f":"(SQRT(S291/I291)*11250)","v":137.10613898918319},{"$f":"4*Q291","v":548.42455595673277},{"$f":"0.25*(((0.028316846592*I291)/100)^(1/3))","v":0.17259494764312108},{"$f":"(E291/12)*(G291/12)","v":143.75694444444446},{"$f":"(C291/12)*(G291/12)","v":109.79861111111113},null,null,null,1151]
[8.5,{"$f":"B277","v":102},{"$f":"INDEX($Y$2:$Y$276,MATCH(MIN(ABS($Y$2:$Y$276-B292)),ABS($Y$2:$Y$276-B292),0))","v":101},{"$f":"B292*$D$220","v":132.46753246753249},{"$f":"INDEX($Y$2:$Y$276,MATCH(MIN(ABS($Y$2:$Y$276-D292)),ABS($Y$2:$Y$276-D292),0))","v":131},{"$f":"B292*$E$220","v":174.85714285714289},{"$f":"INDEX($Y$2:$Y$276,MATCH(MIN(ABS($Y$2:$Y$276-F292)),ABS($Y$2:$Y$276-F292),0))","v":173},1367.2541743970321,{"$f":"(C292/12)*(E292/12)*(G292/12)","v":1324.6313657407404},"Q",0,38.774509803921561,129.87141990882895,519.48567963531582,0.18220965703617317,{"$f":"565/(G292/12)","v":39.190751445086704},{"$f":"(SQRT(S292/I292)*11250)","v":131.24970319499636},{"$f":"4*Q292","v":524.99881277998543},{"$f":"0.25*(((0.028316846592*I292)/100)^(1/3))","v":0.18029623156733127},157.38194444444443,121.34027777777776,null,null,null,1153]
[9,108,{"$f":"INDEX($Y$2:$Y$276,MATCH(MIN(ABS($Y$2:$Y$276-B293)),ABS($Y$2:$Y$276-B293),0))","v":107},140.25974025974028,{"$f":"INDEX($Y$2:$Y$276,MATCH(MIN(ABS($Y$2:$Y$276-D293)),ABS($Y$2:$Y$276-D293),0))","v":139},185.14285714285717,{"$f":"INDEX($Y$2:$Y$276,MATCH(MIN(ABS($Y$2:$Y$276-F293)),ABS($Y$2:$Y$276-F293),0))","v":181},1623.0055658627093,1557.8778935185185,"Q",1,36.620370370370367,122.65634102500512,490.62536410002048,0.19292787215594806,37.458563535911601,124.34229241352563,497.36916965410251,0.19031197206570458,174.7152777777778,134.49305555555554,null,null,null,1163]
[9.5,114,{"$f":"INDEX($Y$2:$Y$276,MATCH(MIN(ABS($Y$2:$Y$276-B294)),ABS($Y$2:$Y$276-B294),0))","v":113},148.05194805194807,{"$f":"INDEX($Y$2:$Y$276,MATCH(MIN(ABS($Y$2:$Y$276-D294)),ABS($Y$2:$Y$276-D294),0))","v":149},195.42857142857147,{"$f":"INDEX($Y$2:$Y$276,MATCH(MIN(ABS($Y$2:$Y$276-F294)),ABS($Y$2:$Y$276-F294),0))","v":197},1908.8126159554736,1919.4959490740741,"Q",1,34.692982456140342,116.20074412895222,464.80297651580889,0.20364608727572295,34.416243654822331,115.98476355464507,463.93905421858028,0.20402530604150931,203.84027777777777,154.59027777777777,null,null,null,1171]
[10,120,{"$f":"INDEX($Y$2:$Y$276,MATCH(MIN(ABS($Y$2:$Y$276-B295)),ABS($Y$2:$Y$276-B295),0))","v":113},155.84415584415586,{"$f":"INDEX($Y$2:$Y$276,MATCH(MIN(ABS($Y$2:$Y$276-D295)),ABS($Y$2:$Y$276-D295),0))","v":157},205.71428571428575,{"$f":"INDEX($Y$2:$Y$276,MATCH(MIN(ABS($Y$2:$Y$276-F295)),ABS($Y$2:$Y$276-F295),0))","v":211},2226.3450834879413,2166.2910879629626,"Q",1,32.958333333333329,110.39070692250462,441.56282769001848,0.21436430239549784,32.132701421800952,111.40150817375003,445.60603269500012,0.21241926853881279,230.04861111111111,165.57638888888886,null,null,null,1181]
[10.5,126,{"$f":"INDEX($Y$2:$Y$276,MATCH(MIN(ABS($Y$2:$Y$276-B296)),ABS($Y$2:$Y$276-B296),0))","v":127},163.63636363636365,{"$f":"INDEX($Y$2:$Y$276,MATCH(MIN(ABS($Y$2:$Y$276-D296)),ABS($Y$2:$Y$276-D296),0))","v":163},216.00000000000006,{"$f":"INDEX($Y$2:$Y$276,MATCH(MIN(ABS($Y$2:$Y$276-F296)),ABS($Y$2:$Y$276-F296),0))","v":211},2577.2727272727284,2527.7262731481483,"Q",1,31.388888888888882,105.13400659286154,420.53602637144616,0.22508251751527275,32.132701421800952,105.81648407123782,423.26593628495129,0.22363081790222386,238.84027777777777,186.09027777777777,null,null,null,1187]
[11,132,{"$f":"INDEX($Y$2:$Y$276,MATCH(MIN(ABS($Y$2:$Y$276-B297)),ABS($Y$2:$Y$276-B297),0))","v":131},171.42857142857144,{"$f":"INDEX($Y$2:$Y$276,MATCH(MIN(ABS($Y$2:$Y$276-D297)),ABS($Y$2:$Y$276-D297),0))","v":173},226.28571428571433,{"$f":"INDEX($Y$2:$Y$276,MATCH(MIN(ABS($Y$2:$Y$276-F297)),ABS($Y$2:$Y$276-F297),0))","v":227},2963.2653061224496,2977.1417824074074,"Q",1,29.962121212121204,100.35518811136782,401.42075244547129,0.23580073263504761,29.867841409691628,100.19902651833304,400.79610607333217,0.23616823139553031,272.71527777777777,206.50694444444446,null,null,null,1193]
[11.5,138,{"$f":"INDEX($Y$2:$Y$276,MATCH(MIN(ABS($Y$2:$Y$276-B298)),ABS($Y$2:$Y$276-B298),0))","v":137},179.22077922077926,{"$f":"INDEX($Y$2:$Y$276,MATCH(MIN(ABS($Y$2:$Y$276-D298)),ABS($Y$2:$Y$276-D298),0))","v":179},236.57142857142861,{"$f":"INDEX($Y$2:$Y$276,MATCH(MIN(ABS($Y$2:$Y$276-F298)),ABS($Y$2:$Y$276-F298),0))","v":239},3385.9925788497235,3391.7806712962961,"Q",1,28.659420289855067,95.991919063047476,383.9676762521899,0.24651894775482253,28.368200836820083,95.937284393132046,383.74913757252818,0.24665933614942515,297.09027777777777,227.38194444444446,null,null,null,1201]
[12,144,{"$f":"INDEX($Y$2:$Y$276,MATCH(MIN(ABS($Y$2:$Y$276-B299)),ABS($Y$2:$Y$276-B299),0))","v":139},187.01298701298705,{"$f":"INDEX($Y$2:$Y$276,MATCH(MIN(ABS($Y$2:$Y$276-D299)),ABS($Y$2:$Y$276-D299),0))","v":191},246.85714285714292,{"$f":"INDEX($Y$2:$Y$276,MATCH(MIN(ABS($Y$2:$Y$276-F299)),ABS($Y$2:$Y$276-F299),0))","v":251},3847.1243042671631,3856.3651620370374,"Q",1,27.465277777777771,91.992255768753836,367.96902307501534,0.25723716287459741,27.011952191235057,91.918717844522277,367.67487137808911,0.25744296086043333,332.92361111111114,242.28472222222226,null,null,null,1213]
[12.5,150,{"$f":"INDEX($Y$2:$Y$276,MATCH(MIN(ABS($Y$2:$Y$276-B300)),ABS($Y$2:$Y$276-B300),0))","v":149},194.80519480519484,{"$f":"INDEX($Y$2:$Y$276,MATCH(MIN(ABS($Y$2:$Y$276-D300)),ABS($Y$2:$Y$276-D300),0))","v":193},257.14285714285717,{"$f":"INDEX($Y$2:$Y$276,MATCH(MIN(ABS($Y$2:$Y$276-F300)),ABS($Y$2:$Y$276-F300),0))","v":257},4348.3302411873856,4276.9380787037035,"Q",1,26.366666666666664,88.312565538003682,353.25026215201473,0.2679553779943723,26.381322957198442,88.801238031395101,355.20495212558041,0.26648082172032744,344.45138888888886,265.92361111111109,null,null,null,1217]
[13,156,{"$f":"INDEX($Y$2:$Y$276,MATCH(MIN(ABS($Y$2:$Y$276-B301)),ABS($Y$2:$Y$276-B301),0))","v":157},202.59740259740263,{"$f":"INDEX($Y$2:$Y$276,MATCH(MIN(ABS($Y$2:$Y$276-D301)),ABS($Y$2:$Y$276-D301),0))","v":199},267.4285714285715,{"$f":"INDEX($Y$2:$Y$276,MATCH(MIN(ABS($Y$2:$Y$276-F301)),ABS($Y$2:$Y$276-F301),0))","v":269},4891.2801484230085,4863.6383101851852,"Q",1,25.352564102564095,84.915928401926621,339.66371360770648,0.27867359311414724,25.204460966542751,85.076494043489646,340.30597617395858,0.27814764990541357,371.74305555555554,293.28472222222223,null,null,null,1223]
[13.5,162,{"$f":"INDEX($Y$2:$Y$276,MATCH(MIN(ABS($Y$2:$Y$276-B302)),ABS($Y$2:$Y$276-B302),0))","v":163},210.38961038961043,{"$f":"INDEX($Y$2:$Y$276,MATCH(MIN(ABS($Y$2:$Y$276-D302)),ABS($Y$2:$Y$276-D302),0))","v":211},277.71428571428578,{"$f":"INDEX($Y$2:$Y$276,MATCH(MIN(ABS($Y$2:$Y$276-F302)),ABS($Y$2:$Y$276-F302),0))","v":277},5477.6437847866446,5513.2297453703695,"Q",1,24.413580246913572,81.770894016670084,327.08357606668034,0.28939180823392208,24.476534296028881,81.594579993932371,326.37831997572948,0.29001714185119004,405.8819444444444,313.54861111111109,null,null,null,1229]
[14,168,{"$f":"INDEX($Y$2:$Y$276,MATCH(MIN(ABS($Y$2:$Y$276-B303)),ABS($Y$2:$Y$276-B303),0))","v":167},218.18181818181822,{"$f":"INDEX($Y$2:$Y$276,MATCH(MIN(ABS($Y$2:$Y$276-D303)),ABS($Y$2:$Y$276-D303),0))","v":223},288.00000000000006,{"$f":"INDEX($Y$2:$Y$276,MATCH(MIN(ABS($Y$2:$Y$276-F303)),ABS($Y$2:$Y$276-F303),0))","v":293},6109.0909090909099,6314.5908564814818,"Q",1,23.541666666666664,78.850504944646161,315.40201977858464,0.30011002335369696,23.139931740614333,77.985693040906398,311.94277216362559,0.30343805328467105,453.74305555555554,339.79861111111109,null,null,null,1231]
[14.5,174,{"$f":"INDEX($Y$2:$Y$276,MATCH(MIN(ABS($Y$2:$Y$276-B304)),ABS($Y$2:$Y$276-B304),0))","v":173},225.97402597402601,{"$f":"INDEX($Y$2:$Y$276,MATCH(MIN(ABS($Y$2:$Y$276-D304)),ABS($Y$2:$Y$276-D304),0))","v":227},298.28571428571433,{"$f":"INDEX($Y$2:$Y$276,MATCH(MIN(ABS($Y$2:$Y$276-F304)),ABS($Y$2:$Y$276-F304),0))","v":293},6787.2912801484254,6658.7980324074078,"Q",1,22.729885057471261,76.131522015520417,304.52608806208167,0.31082823847347185,23.139931740614333,76.618102810628912,306.47241124251565,0.30885425261542454,461.88194444444451,352.00694444444446,null,null,null,1237]
["HEIGHT ft","HEIGHT \"","PRIME height","WIDTH \"","PRIME width","DEPTH \"","PRIME depth","VOLUME","PRIME volume","TABLE","USEABLE 1=Yes 0=NO","F¹","F²","F³","minimum RT60","F¹","F²","F³","minimum RT60","Square Feet","Square Feet",null,null,null,1129]
[{"$f":"B306/12","v":8},{"$f":"B291","v":96},{"$f":"INDEX($Y$2:$Y$276,MATCH(MIN(ABS($Y$2:$Y$276-B306)),ABS($Y$2:$Y$276-B306),0))","v":97},{"$f":"B306*$D$221","v":128},{"$f":"INDEX($Y$2:$Y$276,MATCH(MIN(ABS($Y$2:$Y$276-D306)),ABS($Y$2:$Y$276-D306),0))","v":127},{"$f":"B306*$E$221","v":172.8},{"$f":"INDEX($Y$2:$Y$276,MATCH(MIN(ABS($Y$2:$Y$276-F306)),ABS($Y$2:$Y$276-F306),0))","v":173},{"$f":"(B306/12)*(D306/12)*(F306/12)","v":1228.8},{"$f":"(C306/12)*(E306/12)*(G306/12)","v":1233.3258101851854},"R",{"$f":"IF(H306>$L$21,$N$22,$O$22)","v":0},{"$f":"565/(F306/12)","v":39.236111111111107},{"$f":"(SQRT(O306/H306)*11250)","v":134.57661714073993},{"$f":"4*M306","v":538.30646856295971},{"$f":"0.25*(((0.028316846592*H306)/100)^(1/3))","v":0.17583906761187923},{"$f":"565/(G306/12)","v":39.190751445086704},{"$f":"(SQRT(S306/I306)*11250)","v":134.41180133566178},{"$f":"4*Q306","v":537.64720534264711},{"$f":"0.25*(((0.028316846592*I306)/100)^(1/3))","v":0.17605468154759513},{"$f":"(E306/12)*(G306/12)","v":152.57638888888889},{"$f":"(C306/12)*(G306/12)","v":116.53472222222223},null,null,null,1151]
[8.5,{"$f":"B292","v":102},{"$f":"INDEX($Y$2:$Y$276,MATCH(MIN(ABS($Y$2:$Y$276-B307)),ABS($Y$2:$Y$276-B307),0))","v":101},{"$f":"B307*$D$221","v":136.00000000000003},{"$f":"INDEX($Y$2:$Y$276,MATCH(MIN(ABS($Y$2:$Y$276-D307)),ABS($Y$2:$Y$276-D307),0))","v":137},{"$f":"B307*$E$221","v":183.60000000000002},{"$f":"INDEX($Y$2:$Y$276,MATCH(MIN(ABS($Y$2:$Y$276-F307)),ABS($Y$2:$Y$276-F307),0))","v":181},1473.9000000000005,{"$f":"(C307/12)*(E307/12)*(G307/12)","v":1449.3616898148148},"R",0,36.928104575163395,126.66034554422582,506.64138217690328,0.1868290093376217,{"$f":"565/(G307/12)","v":37.458563535911601},{"$f":"(SQRT(S307/I307)*11250)","v":127.37115359926828},{"$f":"4*Q307","v":509.48461439707313},{"$f":"0.25*(((0.028316846592*I307)/100)^(1/3))","v":0.18578639049497078},172.20138888888889,126.95138888888889,null,null,null,1153]
[9,108,{"$f":"INDEX($Y$2:$Y$276,MATCH(MIN(ABS($Y$2:$Y$276-B308)),ABS($Y$2:$Y$276-B308),0))","v":107},144.00000000000003,{"$f":"INDEX($Y$2:$Y$276,MATCH(MIN(ABS($Y$2:$Y$276-D308)),ABS($Y$2:$Y$276-D308),0))","v":149},194.40000000000003,{"$f":"INDEX($Y$2:$Y$276,MATCH(MIN(ABS($Y$2:$Y$276-F308)),ABS($Y$2:$Y$276-F308),0))","v":193},1749.6000000000006,1780.6707175925924,"R",1,34.876543209876537,119.62365968065771,478.49463872263084,0.19781895106336414,35.129533678756481,118.92380673497618,475.69522693990473,0.19898309287326982,199.70138888888886,143.4097222222222,null,null,null,1163]
[9.5,114,{"$f":"INDEX($Y$2:$Y$276,MATCH(MIN(ABS($Y$2:$Y$276-B309)),ABS($Y$2:$Y$276-B309),0))","v":113},152.00000000000003,{"$f":"INDEX($Y$2:$Y$276,MATCH(MIN(ABS($Y$2:$Y$276-D309)),ABS($Y$2:$Y$276-D309),0))","v":151},205.20000000000002,{"$f":"INDEX($Y$2:$Y$276,MATCH(MIN(ABS($Y$2:$Y$276-F309)),ABS($Y$2:$Y$276-F309),0))","v":211},2057.7000000000007,2083.5028935185182,"R",1,33.040935672514614,113.32767759220205,453.3107103688082,0.20880889278910661,32.132701421800952,112.85790188465134,451.43160753860536,0.20967806848451459,221.25694444444443,165.57638888888886,null,null,null,1171]
[10,120,{"$f":"INDEX($Y$2:$Y$276,MATCH(MIN(ABS($Y$2:$Y$276-B310)),ABS($Y$2:$Y$276-B310),0))","v":113},160.00000000000003,{"$f":"INDEX($Y$2:$Y$276,MATCH(MIN(ABS($Y$2:$Y$276-D310)),ABS($Y$2:$Y$276-D310),0))","v":163},216.00000000000003,{"$f":"INDEX($Y$2:$Y$276,MATCH(MIN(ABS($Y$2:$Y$276-F310)),ABS($Y$2:$Y$276-F310),0))","v":211},2400.0000000000014,2249.0792824074069,"R",1,31.388888888888882,107.66129371259194,430.64517485036777,0.21979883451484908,32.132701421800952,110.01749522137197,440.06998088548789,0.21509148915609588,238.84027777777777,165.57638888888886,null,null,null,1181]
[10.5,126,{"$f":"INDEX($Y$2:$Y$276,MATCH(MIN(ABS($Y$2:$Y$276-B311)),ABS($Y$2:$Y$276-B311),0))","v":127},168.00000000000003,{"$f":"INDEX($Y$2:$Y$276,MATCH(MIN(ABS($Y$2:$Y$276-D311)),ABS($Y$2:$Y$276-D311),0))","v":167},226.80000000000004,{"$f":"INDEX($Y$2:$Y$276,MATCH(MIN(ABS($Y$2:$Y$276-F311)),ABS($Y$2:$Y$276-F311),0))","v":227},2778.3000000000006,2786.1359953703704,"R",1,29.894179894179892,102.53456544056377,410.13826176225507,0.23078877624059152,29.867841409691628,102.43834917503511,409.75339670014046,0.23100554695541289,263.25694444444446,200.20138888888891,null,null,null,1187]
[11,132,{"$f":"INDEX($Y$2:$Y$276,MATCH(MIN(ABS($Y$2:$Y$276-B312)),ABS($Y$2:$Y$276-B312),0))","v":131},176.00000000000003,{"$f":"INDEX($Y$2:$Y$276,MATCH(MIN(ABS($Y$2:$Y$276-D312)),ABS($Y$2:$Y$276-D312),0))","v":179},237.60000000000002,{"$f":"INDEX($Y$2:$Y$276,MATCH(MIN(ABS($Y$2:$Y$276-F312)),ABS($Y$2:$Y$276-F312),0))","v":239},3194.400000000001,3243.2355324074074,"R",1,28.535353535353533,97.873903375083586,391.49561350033434,0.24177871796633399,28.368200836820083,97.380166247156751,389.520664988627,0.24300458494112995,297.09027777777777,217.42361111111111,null,null,null,1193]
[11.5,138,{"$f":"INDEX($Y$2:$Y$276,MATCH(MIN(ABS($Y$2:$Y$276-B313)),ABS($Y$2:$Y$276-B313),0))","v":137},184.00000000000003,{"$f":"INDEX($Y$2:$Y$276,MATCH(MIN(ABS($Y$2:$Y$276-D313)),ABS($Y$2:$Y$276-D313),0))","v":181},248.40000000000003,{"$f":"INDEX($Y$2:$Y$276,MATCH(MIN(ABS($Y$2:$Y$276-F313)),ABS($Y$2:$Y$276-F313),0))","v":251},3650.1000000000013,3601.8790509259261,"R",1,27.294685990338159,93.61851627181909,374.47406508727636,0.2527686596920764,27.011952191235057,94.034445145783948,376.13778058313579,0.25165062487157697,315.4930555555556,238.79861111111111,null,null,null,1201]
[12,144,{"$f":"INDEX($Y$2:$Y$276,MATCH(MIN(ABS($Y$2:$Y$276-B314)),ABS($Y$2:$Y$276-B314),0))","v":139},192.00000000000003,{"$f":"INDEX($Y$2:$Y$276,MATCH(MIN(ABS($Y$2:$Y$276-D314)),ABS($Y$2:$Y$276-D314),0))","v":193},259.20000000000005,{"$f":"INDEX($Y$2:$Y$276,MATCH(MIN(ABS($Y$2:$Y$276-F314)),ABS($Y$2:$Y$276-F314),0))","v":257},4147.2000000000025,3989.89525462963,"R",1,26.157407407407401,89.717744760493275,358.8709790419731,0.26375860141781887,26.381322957198442,90.881644427406869,363.52657770962747,0.26038070756180487,344.45138888888886,248.07638888888891,null,null,null,1213]
[12.5,150,{"$f":"INDEX($Y$2:$Y$276,MATCH(MIN(ABS($Y$2:$Y$276-B315)),ABS($Y$2:$Y$276-B315),0))","v":149},200.00000000000003,{"$f":"INDEX($Y$2:$Y$276,MATCH(MIN(ABS($Y$2:$Y$276-D315)),ABS($Y$2:$Y$276-D315),0))","v":199},270.00000000000006,{"$f":"INDEX($Y$2:$Y$276,MATCH(MIN(ABS($Y$2:$Y$276-F315)),ABS($Y$2:$Y$276-F315),0))","v":271},4687.5000000000009,4650.1278935185173,"R",1,25.111111111111107,86.129034970073562,344.51613988029425,0.27474854314356134,25.018450184501848,86.359153283036591,345.43661313214636,0.2740164299993989,374.5069444444444,280.40972222222217,null,null,null,1217]
[13,156,{"$f":"INDEX($Y$2:$Y$276,MATCH(MIN(ABS($Y$2:$Y$276-B316)),ABS($Y$2:$Y$276-B316),0))","v":157},208.00000000000003,{"$f":"INDEX($Y$2:$Y$276,MATCH(MIN(ABS($Y$2:$Y$276-D316)),ABS($Y$2:$Y$276-D316),0))","v":211},280.80000000000007,{"$f":"INDEX($Y$2:$Y$276,MATCH(MIN(ABS($Y$2:$Y$276-F316)),ABS($Y$2:$Y$276-F316),0))","v":281},5272.800000000002,5386.9716435185192,"R",1,24.145299145299138,82.816379778916868,331.26551911566747,0.28573848486930375,24.128113879003557,82.22712610423379,328.90850441693516,0.28778613581108886,411.74305555555554,306.3680555555556,null,null,null,1223]
[13.5,162,{"$f":"INDEX($Y$2:$Y$276,MATCH(MIN(ABS($Y$2:$Y$276-B317)),ABS($Y$2:$Y$276-B317),0))","v":163},216.00000000000003,{"$f":"INDEX($Y$2:$Y$276,MATCH(MIN(ABS($Y$2:$Y$276-D317)),ABS($Y$2:$Y$276-D317),0))","v":211},291.60000000000002,{"$f":"INDEX($Y$2:$Y$276,MATCH(MIN(ABS($Y$2:$Y$276-F317)),ABS($Y$2:$Y$276-F317),0))","v":293},5904.9000000000015,5831.6834490740739,"R",1,23.251028806584362,79.749106453771802,318.99642581508721,0.29672842659504622,23.139931740614333,80.081468320636361,320.32587328254544,0.29549691553658208,429.32638888888886,331.65972222222223,null,null,null,1229]
[14,168,{"$f":"INDEX($Y$2:$Y$276,MATCH(MIN(ABS($Y$2:$Y$276-B318)),ABS($Y$2:$Y$276-B318),0))","v":167},224.00000000000003,{"$f":"INDEX($Y$2:$Y$276,MATCH(MIN(ABS($Y$2:$Y$276-D318)),ABS($Y$2:$Y$276-D318),0))","v":223},302.40000000000003,{"$f":"INDEX($Y$2:$Y$276,MATCH(MIN(ABS($Y$2:$Y$276-F318)),ABS($Y$2:$Y$276-F318),0))","v":307},6585.6000000000013,6616.3119212962956,"R",1,22.420634920634917,76.900924080422811,307.60369632169125,0.30771836832078869,22.084690553745929,76.781752002698241,307.12700801079296,0.30819597447524988,475.42361111111109,356.03472222222217,null,null,null,1231]
[14.5,174,{"$f":"INDEX($Y$2:$Y$276,MATCH(MIN(ABS($Y$2:$Y$276-B319)),ABS($Y$2:$Y$276-B319),0))","v":173},232.00000000000003,{"$f":"INDEX($Y$2:$Y$276,MATCH(MIN(ABS($Y$2:$Y$276-D319)),ABS($Y$2:$Y$276-D319),0))","v":233},313.20000000000005,{"$f":"INDEX($Y$2:$Y$276,MATCH(MIN(ABS($Y$2:$Y$276-F319)),ABS($Y$2:$Y$276-F319),0))","v":313},7316.7000000000025,7301.3408564814818,"R",1,21.647509578544057,74.249168077649614,296.99667231059846,0.31870831004653111,21.661341853035143,74.301195275164915,297.20478110065966,0.31848514405121775,506.45138888888891,376.03472222222217,null,null,null,1237]
["HEIGHT ft","HEIGHT \"","PRIME height","WIDTH \"","PRIME width","DEPTH \"","PRIME depth","VOLUME","PRIME volume","TABLE","USEABLE 1=Yes 0=NO","F¹","F²","F³","minimum RT60","F¹","F²","F³","minimum RT60","Square Feet","Square Feet",null,null,null,1129]
[{"$f":"B321/12","v":8},{"$f":"B306","v":96},{"$f":"INDEX($Y$2:$Y$276,MATCH(MIN(ABS($Y$2:$Y$276-B321)),ABS($Y$2:$Y$276-B321),0))","v":97},{"$f":"B321*$D$222","v":131.50684931506851},{"$f":"INDEX($Y$2:$Y$276,MATCH(MIN(ABS($Y$2:$Y$276-D321)),ABS($Y$2:$Y$276-D321),0))","v":131},{"$f":"B321*$E$222","v":181.47945205479456},{"$f":"INDEX($Y$2:$Y$276,MATCH(MIN(ABS($Y$2:$Y$276-F321)),ABS($Y$2:$Y$276-F321),0))","v":181},{"$f":"(B321/12)*(D321/12)*(F321/12)","v":1325.8772752861705},{"$f":"(C321/12)*(E321/12)*(G321/12)","v":1330.9994212962963},"S",{"$f":"IF(H321>$L$21,$N$22,$O$22)","v":0},{"$f":"565/(F321/12)","v":37.359601449275353},{"$f":"(SQRT(O321/H321)*11250)","v":131.20857910085877},{"$f":"4*M321","v":524.83431640343508},{"$f":"0.25*(((0.028316846592*H321)/100)^(1/3))","v":0.18035274097586562},{"$f":"565/(G321/12)","v":37.458563535911601},{"$f":"(SQRT(S321/I321)*11250)","v":131.04005073645752},{"$f":"4*Q321","v":524.16020294583006},{"$f":"0.25*(((0.028316846592*I321)/100)^(1/3))","v":0.18058468954640663},{"$f":"(E321/12)*(G321/12)","v":164.65972222222223},{"$f":"(C321/12)*(G321/12)","v":121.92361111111113},null,null,null,1151]
[8.5,{"$f":"B307","v":102},{"$f":"INDEX($Y$2:$Y$276,MATCH(MIN(ABS($Y$2:$Y$276-B322)),ABS($Y$2:$Y$276-B322),0))","v":101},{"$f":"B322*$D$222","v":139.72602739726028},{"$f":"INDEX($Y$2:$Y$276,MATCH(MIN(ABS($Y$2:$Y$276-D322)),ABS($Y$2:$Y$276-D322),0))","v":139},{"$f":"B322*$E$222","v":192.82191780821921},{"$f":"INDEX($Y$2:$Y$276,MATCH(MIN(ABS($Y$2:$Y$276-F322)),ABS($Y$2:$Y$276-F322),0))","v":193},1590.3405892287487,{"$f":"(C322/12)*(E322/12)*(G322/12)","v":1568.013310185185},"S",1,35.161977834612102,123.49042738904355,493.96170955617418,0.19162478728685722,{"$f":"565/(G322/12)","v":35.129533678756481},{"$f":"(SQRT(S322/I322)*11250)","v":124.07380274555281},{"$f":"4*Q322","v":496.29521098221124},{"$f":"0.25*(((0.028316846592*I322)/100)^(1/3))","v":0.19072379790694166},186.29861111111111,135.36805555555554,null,null,null,1153]
[9,108,{"$f":"INDEX($Y$2:$Y$276,MATCH(MIN(ABS($Y$2:$Y$276-B323)),ABS($Y$2:$Y$276-B323),0))","v":107},147.94520547945206,{"$f":"INDEX($Y$2:$Y$276,MATCH(MIN(ABS($Y$2:$Y$276-D323)),ABS($Y$2:$Y$276-D323),0))","v":149},204.16438356164389,{"$f":"INDEX($Y$2:$Y$276,MATCH(MIN(ABS($Y$2:$Y$276-F323)),ABS($Y$2:$Y$276-F323),0))","v":199},1887.8213548508168,1836.0283564814813,"S",1,33.208534621578096,116.62984808965223,466.51939235860891,0.2028968335978488,34.070351758793976,117.7163750491394,470.8655001965576,0.20102408751977247,205.9097222222222,147.86805555555554,null,null,null,1163]
[9.5,114,{"$f":"INDEX($Y$2:$Y$276,MATCH(MIN(ABS($Y$2:$Y$276-B324)),ABS($Y$2:$Y$276-B324),0))","v":113},156.16438356164386,{"$f":"INDEX($Y$2:$Y$276,MATCH(MIN(ABS($Y$2:$Y$276-D324)),ABS($Y$2:$Y$276-D324),0))","v":157},215.50684931506854,{"$f":"INDEX($Y$2:$Y$276,MATCH(MIN(ABS($Y$2:$Y$276-F324)),ABS($Y$2:$Y$276-F324),0))","v":211},2220.2617751923444,2166.2910879629626,"S",1,31.460717009916085,110.49143503230212,441.96574012920848,0.21416887990884043,32.132701421800952,111.40150817375003,445.60603269500012,0.21241926853881279,230.04861111111111,165.57638888888886,null,null,null,1171]
[10,120,{"$f":"INDEX($Y$2:$Y$276,MATCH(MIN(ABS($Y$2:$Y$276-B325)),ABS($Y$2:$Y$276-B325),0))","v":113},164.38356164383563,{"$f":"INDEX($Y$2:$Y$276,MATCH(MIN(ABS($Y$2:$Y$276-D325)),ABS($Y$2:$Y$276-D325),0))","v":163},226.84931506849321,{"$f":"INDEX($Y$2:$Y$276,MATCH(MIN(ABS($Y$2:$Y$276-F325)),ABS($Y$2:$Y$276-F325),0))","v":227},2589.6040532933021,2419.6255787037039,"S",1,29.887681159420278,104.96686328068701,419.86745312274803,0.22544092621983203,29.867841409691628,107.36942297708622,429.47769190834487,0.22039633095018746,256.95138888888891,178.13194444444446,null,null,null,1181]
[10.5,126,{"$f":"INDEX($Y$2:$Y$276,MATCH(MIN(ABS($Y$2:$Y$276-B326)),ABS($Y$2:$Y$276-B326),0))","v":127},172.60273972602741,{"$f":"INDEX($Y$2:$Y$276,MATCH(MIN(ABS($Y$2:$Y$276-D326)),ABS($Y$2:$Y$276-D326),0))","v":173},238.19178082191786,{"$f":"INDEX($Y$2:$Y$276,MATCH(MIN(ABS($Y$2:$Y$276-F326)),ABS($Y$2:$Y$276-F326),0))","v":239},2997.7903921936586,3038.8130787037039,"S",1,28.464458247066936,99.968441219701916,399.87376487880766,0.23671297253082363,28.368200836820083,99.516557827696204,398.06623131078481,0.23778783548121007,287.13194444444446,210.78472222222226,null,null,null,1187]
[11,132,{"$f":"INDEX($Y$2:$Y$276,MATCH(MIN(ABS($Y$2:$Y$276-B327)),ABS($Y$2:$Y$276-B327),0))","v":131},180.82191780821921,{"$f":"INDEX($Y$2:$Y$276,MATCH(MIN(ABS($Y$2:$Y$276-D327)),ABS($Y$2:$Y$276-D327),0))","v":181},249.53424657534254,{"$f":"INDEX($Y$2:$Y$276,MATCH(MIN(ABS($Y$2:$Y$276-F327)),ABS($Y$2:$Y$276-F327),0))","v":251},3446.762994933385,3444.1325231481483,"S",1,27.170619235836618,95.42442116426092,381.69768465704368,0.24798501884181523,27.011952191235057,95.448708593122547,381.79483437249019,0.24792191774183553,315.4930555555556,228.34027777777777,null,null,null,1193]
[11.5,138,{"$f":"INDEX($Y$2:$Y$276,MATCH(MIN(ABS($Y$2:$Y$276-B328)),ABS($Y$2:$Y$276-B328),0))","v":137},189.04109589041099,{"$f":"INDEX($Y$2:$Y$276,MATCH(MIN(ABS($Y$2:$Y$276-D328)),ABS($Y$2:$Y$276-D328),0))","v":191},260.87671232876721,{"$f":"INDEX($Y$2:$Y$276,MATCH(MIN(ABS($Y$2:$Y$276-F328)),ABS($Y$2:$Y$276-F328),0))","v":263},3938.4640645524505,3982.5931712962965,"S",1,25.989287964713288,91.275533287553927,365.10213315021571,0.25925706515280683,25.779467680608363,90.937154337622374,363.7486173504895,0.26022176582007256,348.84027777777777,250.21527777777777,null,null,null,1201]
[12,144,{"$f":"INDEX($Y$2:$Y$276,MATCH(MIN(ABS($Y$2:$Y$276-B329)),ABS($Y$2:$Y$276-B329),0))","v":139},197.26027397260276,{"$f":"INDEX($Y$2:$Y$276,MATCH(MIN(ABS($Y$2:$Y$276-D329)),ABS($Y$2:$Y$276-D329),0))","v":197},272.21917808219183,{"$f":"INDEX($Y$2:$Y$276,MATCH(MIN(ABS($Y$2:$Y$276-F329)),ABS($Y$2:$Y$276-F329),0))","v":271},4474.8358040908251,4294.4403935185192,"S",1,24.906400966183568,87.472386067239185,349.88954426895674,0.27052911146379843,25.018450184501848,88.68043506043638,354.72174024174552,0.26684382935493584,370.74305555555554,261.59027777777777,null,null,null,1213]
[12.5,150,{"$f":"INDEX($Y$2:$Y$276,MATCH(MIN(ABS($Y$2:$Y$276-B330)),ABS($Y$2:$Y$276-B330),0))","v":149},205.47945205479454,{"$f":"INDEX($Y$2:$Y$276,MATCH(MIN(ABS($Y$2:$Y$276-D330)),ABS($Y$2:$Y$276-D330),0))","v":211},283.56164383561651,{"$f":"INDEX($Y$2:$Y$276,MATCH(MIN(ABS($Y$2:$Y$276-F330)),ABS($Y$2:$Y$276-F330),0))","v":283},5057.8204165884799,5148.8640046296287,"S",1,23.910144927536226,83.973490624549612,335.89396249819845,0.28180115777479003,23.957597173144876,83.475597134410961,333.90238853764384,0.28348197189036545,414.67361111111109,292.82638888888886,null,null,null,1217]
[13,156,{"$f":"INDEX($Y$2:$Y$276,MATCH(MIN(ABS($Y$2:$Y$276-B331)),ABS($Y$2:$Y$276-B331),0))","v":157},213.69863013698631,{"$f":"INDEX($Y$2:$Y$276,MATCH(MIN(ABS($Y$2:$Y$276-D331)),ABS($Y$2:$Y$276-D331),0))","v":211},294.90410958904118,{"$f":"INDEX($Y$2:$Y$276,MATCH(MIN(ABS($Y$2:$Y$276-F331)),ABS($Y$2:$Y$276-F331),0))","v":293},5689.360105085384,5617.0202546296296,"S",1,22.990523968784832,80.743740985143859,322.97496394057544,0.29307320408578164,23.139931740614333,81.088887996736062,324.35555198694425,0.29182576632868684,429.32638888888886,319.45138888888891,null,null,null,1223]
[13.5,162,{"$f":"INDEX($Y$2:$Y$276,MATCH(MIN(ABS($Y$2:$Y$276-B332)),ABS($Y$2:$Y$276-B332),0))","v":163},221.91780821917811,{"$f":"INDEX($Y$2:$Y$276,MATCH(MIN(ABS($Y$2:$Y$276-D332)),ABS($Y$2:$Y$276-D332),0))","v":223},306.2465753424658,{"$f":"INDEX($Y$2:$Y$276,MATCH(MIN(ABS($Y$2:$Y$276-F332)),ABS($Y$2:$Y$276-F332),0))","v":307},6371.3970726215066,6457.8373842592591,"S",1,22.139023081052063,77.753232059768152,311.01292823907261,0.30434525039677324,22.084690553745929,77.404754910407561,309.61901964163025,0.30571541642084327,475.42361111111109,347.50694444444446,null,null,null,1229]
[14,168,{"$f":"INDEX($Y$2:$Y$276,MATCH(MIN(ABS($Y$2:$Y$276-B333)),ABS($Y$2:$Y$276-B333),0))","v":167},230.13698630136989,{"$f":"INDEX($Y$2:$Y$276,MATCH(MIN(ABS($Y$2:$Y$276-D333)),ABS($Y$2:$Y$276-D333),0))","v":229},317.58904109589048,{"$f":"INDEX($Y$2:$Y$276,MATCH(MIN(ABS($Y$2:$Y$276-F333)),ABS($Y$2:$Y$276-F333),0))","v":317},7105.8735222368196,7015.6429398148139,"S",1,21.348343685300204,74.97633091477644,299.90532365910576,0.31561729670776484,21.388012618296528,75.296394736555371,301.18557894622148,0.31427569624259971,504.11805555555554,367.63194444444446,null,null,null,1231]
[14.5,174,{"$f":"INDEX($Y$2:$Y$276,MATCH(MIN(ABS($Y$2:$Y$276-B334)),ABS($Y$2:$Y$276-B334),0))","v":173},238.35616438356166,{"$f":"INDEX($Y$2:$Y$276,MATCH(MIN(ABS($Y$2:$Y$276-D334)),ABS($Y$2:$Y$276-D334),0))","v":239},328.93150684931516,{"$f":"INDEX($Y$2:$Y$276,MATCH(MIN(ABS($Y$2:$Y$276-F334)),ABS($Y$2:$Y$276-F334),0))","v":331},7894.7316569712921,7920.0561342592591,"S",1,20.612193903048471,72.390940193577251,289.563760774309,0.32688934301875638,20.483383685800604,72.313700835330224,289.25480334132089,0.32723849847312958,549.36805555555554,397.65972222222217,null,null,null,1237]
["HEIGHT ft","HEIGHT \"","PRIME height","WIDTH \"","PRIME width","DEPTH \"","PRIME depth","VOLUME","PRIME volume","TABLE","USEABLE 1=Yes 0=NO","F¹","F²","F³","minimum RT60","F¹","F²","F³","minimum RT60","Square Feet","Square Feet",null,null,null,1129]
[{"$f":"B336/12","v":8},{"$f":"B321","v":96},{"$f":"INDEX($Y$2:$Y$276,MATCH(MIN(ABS($Y$2:$Y$276-B336)),ABS($Y$2:$Y$276-B336),0))","v":97},{"$f":"B336*$D$223","v":135.21126760563385},{"$f":"INDEX($Y$2:$Y$276,MATCH(MIN(ABS($Y$2:$Y$276-D336)),ABS($Y$2:$Y$276-D336),0))","v":137},{"$f":"B336*$E$223","v":190.64788732394373},{"$f":"INDEX($Y$2:$Y$276,MATCH(MIN(ABS($Y$2:$Y$276-F336)),ABS($Y$2:$Y$276-F336),0))","v":191},{"$f":"(B336/12)*(D336/12)*(F336/12)","v":1432.0968061892493},{"$f":"(C336/12)*(E336/12)*(G336/12)","v":1468.8651620370372},"T ",{"$f":"IF(H336>$L$21,$N$22,$O$22)","v":0},{"$f":"565/(F336/12)","v":35.562943262411338},{"$f":"(SQRT(O336/H336)*11250)","v":127.88095848854415},{"$f":"4*M336","v":511.52383395417661},{"$f":"0.25*(((0.028316846592*H336)/100)^(1/3))","v":0.18504574222837414},{"$f":"565/(G336/12)","v":35.497382198952884},{"$f":"(SQRT(S336/I336)*11250)","v":126.80489865106605},{"$f":"4*Q336","v":507.21959460426422},{"$f":"0.25*(((0.028316846592*I336)/100)^(1/3))","v":0.18661603086411691},{"$f":"(E336/12)*(G336/12)","v":181.71527777777777},{"$f":"(C336/12)*(G336/12)","v":128.65972222222223},null,null,null,1151]
[8.5,{"$f":"B322","v":102},{"$f":"INDEX($Y$2:$Y$276,MATCH(MIN(ABS($Y$2:$Y$276-B337)),ABS($Y$2:$Y$276-B337),0))","v":101},{"$f":"B337*$D$223","v":143.66197183098595},{"$f":"INDEX($Y$2:$Y$276,MATCH(MIN(ABS($Y$2:$Y$276-D337)),ABS($Y$2:$Y$276-D337),0))","v":139},{"$f":"B337*$E$223","v":202.5633802816902},{"$f":"INDEX($Y$2:$Y$276,MATCH(MIN(ABS($Y$2:$Y$276-F337)),ABS($Y$2:$Y$276-F337),0))","v":199},1717.7469748065869,1616.7598379629628,"T ",1,33.471005423445959,120.35854916568863,481.43419666275452,0.19661110111764751,{"$f":"565/(G337/12)","v":34.070351758793976},{"$f":"(SQRT(S337/I337)*11250)","v":122.81408322487603},{"$f":"4*Q337","v":491.25633289950412},{"$f":"0.25*(((0.028316846592*I337)/100)^(1/3))","v":0.19268007592467576},192.09027777777777,139.57638888888886,null,null,null,1153]
[9,108,{"$f":"INDEX($Y$2:$Y$276,MATCH(MIN(ABS($Y$2:$Y$276-B338)),ABS($Y$2:$Y$276-B338),0))","v":107},152.11267605633807,{"$f":"INDEX($Y$2:$Y$276,MATCH(MIN(ABS($Y$2:$Y$276-D338)),ABS($Y$2:$Y$276-D338),0))","v":151},214.47887323943669,{"$f":"INDEX($Y$2:$Y$276,MATCH(MIN(ABS($Y$2:$Y$276-F338)),ABS($Y$2:$Y$276-F338),0))","v":211},2039.0597103749269,1972.8744212962961,"T ",1,31.611505122143409,113.67196310092814,454.68785240371255,0.20817646000692092,32.132701421800952,114.92914982526655,459.7165993010662,0.20589925981673093,221.25694444444443,156.7847222222222,null,null,null,1163]
[9.5,114,{"$f":"INDEX($Y$2:$Y$276,MATCH(MIN(ABS($Y$2:$Y$276-B339)),ABS($Y$2:$Y$276-B339),0))","v":113},160.56338028169017,{"$f":"INDEX($Y$2:$Y$276,MATCH(MIN(ABS($Y$2:$Y$276-D339)),ABS($Y$2:$Y$276-D339),0))","v":163},226.39436619718319,{"$f":"INDEX($Y$2:$Y$276,MATCH(MIN(ABS($Y$2:$Y$276-F339)),ABS($Y$2:$Y$276-F339),0))","v":227},2398.1328109502097,2419.6255787037039,"T ",1,29.947741694662174,107.68922820087928,430.75691280351714,0.21974181889619426,29.867841409691628,107.36942297708622,429.47769190834487,0.22039633095018746,256.95138888888891,178.13194444444446,null,null,null,1171]
[10,120,{"$f":"INDEX($Y$2:$Y$276,MATCH(MIN(ABS($Y$2:$Y$276-B340)),ABS($Y$2:$Y$276-B340),0))","v":113},169.0140845070423,{"$f":"INDEX($Y$2:$Y$276,MATCH(MIN(ABS($Y$2:$Y$276-D340)),ABS($Y$2:$Y$276-D340),0))","v":167},238.30985915492965,{"$f":"INDEX($Y$2:$Y$276,MATCH(MIN(ABS($Y$2:$Y$276-F340)),ABS($Y$2:$Y$276-F340),0))","v":239},2797.064074588377,2610.0515046296291,"T ",1,28.450354609929068,102.30476679083533,409.21906716334132,0.23130717778546767,28.368200836820083,104.69203675604858,418.76814702419432,0.22603273003016994,277.17361111111114,187.54861111111111,null,null,null,1181]
[10.5,126,{"$f":"INDEX($Y$2:$Y$276,MATCH(MIN(ABS($Y$2:$Y$276-B341)),ABS($Y$2:$Y$276-B341),0))","v":127},177.4647887323944,{"$f":"INDEX($Y$2:$Y$276,MATCH(MIN(ABS($Y$2:$Y$276-D341)),ABS($Y$2:$Y$276-D341),0))","v":179},250.22535211267615,{"$f":"INDEX($Y$2:$Y$276,MATCH(MIN(ABS($Y$2:$Y$276-F341)),ABS($Y$2:$Y$276-F341),0))","v":251},3237.9512993453695,3302.0734953703709,"T ",1,27.095575818980063,97.433111229366986,389.73244491746794,0.24287253667474104,27.011952191235057,96.798307323362081,387.19322929344833,0.24446529629219393,312.00694444444446,221.36805555555557,null,null,null,1187]
[11,132,{"$f":"INDEX($Y$2:$Y$276,MATCH(MIN(ABS($Y$2:$Y$276-B342)),ABS($Y$2:$Y$276-B342),0))","v":131},185.91549295774652,{"$f":"INDEX($Y$2:$Y$276,MATCH(MIN(ABS($Y$2:$Y$276-D342)),ABS($Y$2:$Y$276-D342),0))","v":181},262.14084507042264,{"$f":"INDEX($Y$2:$Y$276,MATCH(MIN(ABS($Y$2:$Y$276-F342)),ABS($Y$2:$Y$276-F342),0))","v":263},3722.8922832771295,3608.7922453703709,"T ",1,25.863958736299153,93.004333446213934,372.01733378485574,0.25443789556401442,25.779467680608363,93.974360967094398,375.89744386837759,0.25181152217331459,330.57638888888891,239.25694444444446,null,null,null,1193]
[11.5,138,{"$f":"INDEX($Y$2:$Y$276,MATCH(MIN(ABS($Y$2:$Y$276-B343)),ABS($Y$2:$Y$276-B343),0))","v":137},194.36619718309865,{"$f":"INDEX($Y$2:$Y$276,MATCH(MIN(ABS($Y$2:$Y$276-D343)),ABS($Y$2:$Y$276-D343),0))","v":193},274.05633802816914,{"$f":"INDEX($Y$2:$Y$276,MATCH(MIN(ABS($Y$2:$Y$276-F343)),ABS($Y$2:$Y$276-F343),0))","v":277},4253.9848244395989,4238.5167824074069,"T ",1,24.739438791242666,88.960666774639407,355.84266709855763,0.26600325445328782,24.476534296028881,89.068753075687823,356.27501230275129,0.26568045541492852,371.2569444444444,263.53472222222217,null,null,null,1201]
[12,144,{"$f":"INDEX($Y$2:$Y$276,MATCH(MIN(ABS($Y$2:$Y$276-B344)),ABS($Y$2:$Y$276-B344),0))","v":139},202.81690140845075,{"$f":"INDEX($Y$2:$Y$276,MATCH(MIN(ABS($Y$2:$Y$276-D344)),ABS($Y$2:$Y$276-D344),0))","v":199},285.97183098591557,{"$f":"INDEX($Y$2:$Y$276,MATCH(MIN(ABS($Y$2:$Y$276-F344)),ABS($Y$2:$Y$276-F344),0))","v":283},4833.3267208887146,4530.1290509259252,"T ",1,23.70862884160756,85.253972325696111,341.01588930278444,0.27756861334256117,23.957597173144876,87.115041951989994,348.46016780795998,0.27163881633013431,391.09027777777771,273.17361111111109,null,null,null,1213]
[12.5,150,{"$f":"INDEX($Y$2:$Y$276,MATCH(MIN(ABS($Y$2:$Y$276-B345)),ABS($Y$2:$Y$276-B345),0))","v":149},211.26760563380287,{"$f":"INDEX($Y$2:$Y$276,MATCH(MIN(ABS($Y$2:$Y$276-D345)),ABS($Y$2:$Y$276-D345),0))","v":211},297.88732394366207,{"$f":"INDEX($Y$2:$Y$276,MATCH(MIN(ABS($Y$2:$Y$276-F345)),ABS($Y$2:$Y$276-F345),0))","v":293},5463.0157706804248,5330.8026620370365,"T ",1,22.760283687943254,81.84381343266827,327.37525373067308,0.28913397223183462,23.139931740614333,82.514918073872195,330.05967229548878,0.2867824077484184,429.32638888888886,303.17361111111109,null,null,null,1217]
[13,156,{"$f":"INDEX($Y$2:$Y$276,MATCH(MIN(ABS($Y$2:$Y$276-B346)),ABS($Y$2:$Y$276-B346),0))","v":157},219.71830985915497,{"$f":"INDEX($Y$2:$Y$276,MATCH(MIN(ABS($Y$2:$Y$276-D346)),ABS($Y$2:$Y$276-D346),0))","v":223},309.80281690140856,{"$f":"INDEX($Y$2:$Y$276,MATCH(MIN(ABS($Y$2:$Y$276-F346)),ABS($Y$2:$Y$276-F346),0))","v":311},6145.1497718706642,6301.1695601851852,"T ",1,21.884888161483897,78.69597445448872,314.78389781795488,0.30069933112110797,21.80064308681672,78.041022814055211,312.16409125622084,0.30322292080629543,481.61805555555554,339.07638888888891,null,null,null,1223]
[13.5,162,{"$f":"INDEX($Y$2:$Y$276,MATCH(MIN(ABS($Y$2:$Y$276-B347)),ABS($Y$2:$Y$276-B347),0))","v":163},228.1690140845071,{"$f":"INDEX($Y$2:$Y$276,MATCH(MIN(ABS($Y$2:$Y$276-D347)),ABS($Y$2:$Y$276-D347),0))","v":229},321.71830985915506,{"$f":"INDEX($Y$2:$Y$276,MATCH(MIN(ABS($Y$2:$Y$276-F347)),ABS($Y$2:$Y$276-F347),0))","v":317},6881.8265225153791,6847.6035879629635,"T ",1,21.074336748095607,75.781308733952102,303.12523493580841,0.31226469001038137,21.388012618296528,75.907345537199419,303.62938214879767,0.31174620470415187,504.11805555555554,358.82638888888891,null,null,null,1229]
[14,168,{"$f":"INDEX($Y$2:$Y$276,MATCH(MIN(ABS($Y$2:$Y$276-B348)),ABS($Y$2:$Y$276-B348),0))","v":167},236.61971830985922,{"$f":"INDEX($Y$2:$Y$276,MATCH(MIN(ABS($Y$2:$Y$276-D348)),ABS($Y$2:$Y$276-D348),0))","v":239},333.63380281690155,{"$f":"INDEX($Y$2:$Y$276,MATCH(MIN(ABS($Y$2:$Y$276-F348)),ABS($Y$2:$Y$276-F348),0))","v":331},7675.143820670507,7645.3721064814818,"T ",1,20.321681864235046,73.074833422025222,292.29933368810089,0.32383004889965472,20.483383685800604,73.169563723229444,292.67825489291778,0.3234107964603854,549.36805555555554,383.86805555555554,null,null,null,1231]
[14.5,174,{"$f":"INDEX($Y$2:$Y$276,MATCH(MIN(ABS($Y$2:$Y$276-B349)),ABS($Y$2:$Y$276-B349),0))","v":173},245.07042253521132,{"$f":"INDEX($Y$2:$Y$276,MATCH(MIN(ABS($Y$2:$Y$276-D349)),ABS($Y$2:$Y$276-D349),0))","v":241},345.54929577464799,{"$f":"INDEX($Y$2:$Y$276,MATCH(MIN(ABS($Y$2:$Y$276-F349)),ABS($Y$2:$Y$276-F349),0))","v":347},8527.1994643919897,8372.3790509259252,"T ",1,19.620934213744185,70.55501157988644,282.22004631954576,0.33539540778892812,19.538904899135446,70.987254650762182,283.94901860304873,0.33335317722608226,580.74305555555554,416.88194444444446,null,null,null,1237]
["HEIGHT ft","HEIGHT \"","PRIME height","WIDTH \"","PRIME width","DEPTH \"","PRIME depth","VOLUME","PRIME volume","TABLE","USEABLE 1=Yes 0=NO","F¹","F²","F³","minimum RT60","F¹","F²","F³","minimum RT60","Square Feet","Square Feet",null,null,null,1129]
[{"$f":"B351/12","v":8},{"$f":"B336","v":96},{"$f":"INDEX($Y$2:$Y$276,MATCH(MIN(ABS($Y$2:$Y$276-B351)),ABS($Y$2:$Y$276-B351),0))","v":97},{"$f":"B351*$D$224","v":139.13043478260875},{"$f":"INDEX($Y$2:$Y$276,MATCH(MIN(ABS($Y$2:$Y$276-D351)),ABS($Y$2:$Y$276-D351),0))","v":139},{"$f":"B351*$E$224","v":200.34782608695662},{"$f":"INDEX($Y$2:$Y$276,MATCH(MIN(ABS($Y$2:$Y$276-F351)),ABS($Y$2:$Y$276-F351),0))","v":199},{"$f":"(B351/12)*(D351/12)*(F351/12)","v":1548.5822306238197},{"$f":"(C351/12)*(E351/12)*(G351/12)","v":1552.7297453703704},"U",{"$f":"IF(H351>$L$21,$N$22,$O$22)","v":1},{"$f":"565/(F351/12)","v":33.841145833333321},{"$f":"(SQRT(O351/H351)*11250)","v":124.59059243217233},{"$f":"4*M351","v":498.36236972868932},{"$f":"0.25*(((0.028316846592*H351)/100)^(1/3))","v":0.18993269410185407},{"$f":"565/(G351/12)","v":34.070351758793976},{"$f":"(SQRT(S351/I351)*11250)","v":124.47956171434868},{"$f":"4*Q351","v":497.91824685739471},{"$f":"0.25*(((0.028316846592*I351)/100)^(1/3))","v":0.19010210635776079},{"$f":"(E351/12)*(G351/12)","v":192.09027777777777},{"$f":"(C351/12)*(G351/12)","v":134.04861111111111},null,null,null,1151]
[8.5,{"$f":"B337","v":102},{"$f":"INDEX($Y$2:$Y$276,MATCH(MIN(ABS($Y$2:$Y$276-B352)),ABS($Y$2:$Y$276-B352),0))","v":101},{"$f":"B352*$D$224","v":147.82608695652178},{"$f":"INDEX($Y$2:$Y$276,MATCH(MIN(ABS($Y$2:$Y$276-D352)),ABS($Y$2:$Y$276-D352),0))","v":149},{"$f":"B352*$E$224","v":212.8695652173914},{"$f":"INDEX($Y$2:$Y$276,MATCH(MIN(ABS($Y$2:$Y$276-F352)),ABS($Y$2:$Y$276-F352),0))","v":211},1857.4669187145571,1837.5804398148143,"U",1,31.850490196078418,117.26173405380925,469.046936215237,0.20180348748321991,{"$f":"565/(G352/12)","v":32.132701421800952},{"$f":"(SQRT(S352/I352)*11250)","v":117.68322328722222},{"$f":"4*Q352","v":470.73289314888888},{"$f":"0.25*(((0.028316846592*I352)/100)^(1/3))","v":0.20108071668494079},218.32638888888886,147.99305555555554,null,null,null,1153]
[9,108,{"$f":"INDEX($Y$2:$Y$276,MATCH(MIN(ABS($Y$2:$Y$276-B353)),ABS($Y$2:$Y$276-B353),0))","v":107},156.52173913043484,{"$f":"INDEX($Y$2:$Y$276,MATCH(MIN(ABS($Y$2:$Y$276-D353)),ABS($Y$2:$Y$276-D353),0))","v":157},225.39130434782618,{"$f":"INDEX($Y$2:$Y$276,MATCH(MIN(ABS($Y$2:$Y$276-F353)),ABS($Y$2:$Y$276-F353),0))","v":227},2204.9149338374309,2206.8130787037035,"U",1,30.081018518518505,110.74719327304206,442.98877309216823,0.21367428086458581,29.867841409691628,110.71543185840464,442.86172743361857,0.21373557852940064,247.49305555555557,168.67361111111111,null,null,null,1163]
[9.5,114,{"$f":"INDEX($Y$2:$Y$276,MATCH(MIN(ABS($Y$2:$Y$276-B354)),ABS($Y$2:$Y$276-B354),0))","v":113},165.21739130434787,{"$f":"INDEX($Y$2:$Y$276,MATCH(MIN(ABS($Y$2:$Y$276-D354)),ABS($Y$2:$Y$276-D354),0))","v":167},237.91304347826096,{"$f":"INDEX($Y$2:$Y$276,MATCH(MIN(ABS($Y$2:$Y$276-F354)),ABS($Y$2:$Y$276-F354),0))","v":239},2593.1947069943303,2610.0515046296291,"U",1,28.497807017543849,104.91839362709248,419.67357450836994,0.22554507424595166,28.368200836820083,104.69203675604858,418.76814702419432,0.22603273003016994,277.17361111111114,187.54861111111111,null,null,null,1171]
[10,120,{"$f":"INDEX($Y$2:$Y$276,MATCH(MIN(ABS($Y$2:$Y$276-B355)),ABS($Y$2:$Y$276-B355),0))","v":113},173.91304347826093,{"$f":"INDEX($Y$2:$Y$276,MATCH(MIN(ABS($Y$2:$Y$276-D355)),ABS($Y$2:$Y$276-D355),0))","v":173},250.43478260869574,{"$f":"INDEX($Y$2:$Y$276,MATCH(MIN(ABS($Y$2:$Y$276-F355)),ABS($Y$2:$Y$276-F355),0))","v":251},3024.5746691871477,2839.5827546296296,"U",1,27.072916666666657,99.672473945737863,398.68989578295145,0.23741586762731756,27.011952191235057,101.79157436752401,407.16629747009603,0.23247333610293741,301.54861111111114,196.96527777777777,null,null,null,1181]
[10.5,126,{"$f":"INDEX($Y$2:$Y$276,MATCH(MIN(ABS($Y$2:$Y$276-B356)),ABS($Y$2:$Y$276-B356),0))","v":127},182.60869565217396,{"$f":"INDEX($Y$2:$Y$276,MATCH(MIN(ABS($Y$2:$Y$276-D356)),ABS($Y$2:$Y$276-D356),0))","v":181},262.95652173913055,{"$f":"INDEX($Y$2:$Y$276,MATCH(MIN(ABS($Y$2:$Y$276-F356)),ABS($Y$2:$Y$276-F356),0))","v":263},3501.3232514177716,3498.6001157407413,"U",1,25.783730158730148,94.926165662607474,379.7046626504299,0.24928666100868344,25.779467680608363,94.950787871665113,379.80315148666045,0.24922201711872508,330.57638888888891,231.95138888888891,null,null,null,1187]
[11,132,{"$f":"INDEX($Y$2:$Y$276,MATCH(MIN(ABS($Y$2:$Y$276-B357)),ABS($Y$2:$Y$276-B357),0))","v":131},191.30434782608702,{"$f":"INDEX($Y$2:$Y$276,MATCH(MIN(ABS($Y$2:$Y$276-D357)),ABS($Y$2:$Y$276-D357),0))","v":191},275.4782608695653,{"$f":"INDEX($Y$2:$Y$276,MATCH(MIN(ABS($Y$2:$Y$276-F357)),ABS($Y$2:$Y$276-F357),0))","v":277},4025.7088846880933,4010.8894675925922,"U",1,24.611742424242419,90.611339950670782,362.44535980268313,0.26115745439004928,24.476534296028881,90.722799585583672,362.89119834233469,0.26083660324067931,367.40972222222217,251.99305555555554,null,null,null,1193]
[11.5,138,{"$f":"INDEX($Y$2:$Y$276,MATCH(MIN(ABS($Y$2:$Y$276-B358)),ABS($Y$2:$Y$276-B358),0))","v":137},200.00000000000006,{"$f":"INDEX($Y$2:$Y$276,MATCH(MIN(ABS($Y$2:$Y$276-D358)),ABS($Y$2:$Y$276-D358),0))","v":199},288.00000000000011,{"$f":"INDEX($Y$2:$Y$276,MATCH(MIN(ABS($Y$2:$Y$276-F358)),ABS($Y$2:$Y$276-F358),0))","v":293},4600.0000000000027,4622.7193287037035,"U",1,23.541666666666657,86.671716474554657,346.68686589821863,0.27302824777141516,23.139931740614333,86.529494418447086,346.11797767378835,0.2734770038751515,404.90972222222223,278.75694444444446,null,null,null,1201]
[12,144,{"$f":"INDEX($Y$2:$Y$276,MATCH(MIN(ABS($Y$2:$Y$276-B359)),ABS($Y$2:$Y$276-B359),0))","v":139},208.69565217391312,{"$f":"INDEX($Y$2:$Y$276,MATCH(MIN(ABS($Y$2:$Y$276-D359)),ABS($Y$2:$Y$276-D359),0))","v":211},300.52173913043492,{"$f":"INDEX($Y$2:$Y$276,MATCH(MIN(ABS($Y$2:$Y$276-F359)),ABS($Y$2:$Y$276-F359),0))","v":307},5226.465028355392,5210.6498842592591,"U",1,22.560763888888879,83.060394954781543,332.24157981912617,0.28489904115278109,22.084690553745929,83.144343878226508,332.57737551290603,0.28461138517187268,449.84027777777771,296.34027777777777,null,null,null,1213]
[12.5,150,{"$f":"INDEX($Y$2:$Y$276,MATCH(MIN(ABS($Y$2:$Y$276-B360)),ABS($Y$2:$Y$276-B360),0))","v":149},217.39130434782615,{"$f":"INDEX($Y$2:$Y$276,MATCH(MIN(ABS($Y$2:$Y$276-D360)),ABS($Y$2:$Y$276-D360),0))","v":223},313.04347826086968,{"$f":"INDEX($Y$2:$Y$276,MATCH(MIN(ABS($Y$2:$Y$276-F360)),ABS($Y$2:$Y$276-F360),0))","v":313},5907.3724007561477,6018.5480324074069,"U",1,21.658333333333324,79.737979156590285,318.95191662636114,0.29676983453414696,21.661341853035143,79.243946815443636,316.97578726177454,0.29861999346777585,484.71527777777771,323.86805555555554,null,null,null,1217]
[13,156,{"$f":"INDEX($Y$2:$Y$276,MATCH(MIN(ABS($Y$2:$Y$276-B361)),ABS($Y$2:$Y$276-B361),0))","v":157},226.08695652173921,{"$f":"INDEX($Y$2:$Y$276,MATCH(MIN(ABS($Y$2:$Y$276-D361)),ABS($Y$2:$Y$276-D361),0))","v":227},325.56521739130449,{"$f":"INDEX($Y$2:$Y$276,MATCH(MIN(ABS($Y$2:$Y$276-F361)),ABS($Y$2:$Y$276-F361),0))","v":331},6644.9905482041631,6826.6834490740739,"U",1,20.825320512820504,76.671133804413742,306.68453521765497,0.30864062791551283,20.483383685800604,75.984804958656341,303.93921983462536,0.31142840852541692,521.78472222222229,360.88194444444446,null,null,null,1223]
[13.5,162,{"$f":"INDEX($Y$2:$Y$276,MATCH(MIN(ABS($Y$2:$Y$276-B362)),ABS($Y$2:$Y$276-B362),0))","v":163},234.78260869565224,{"$f":"INDEX($Y$2:$Y$276,MATCH(MIN(ABS($Y$2:$Y$276-D362)),ABS($Y$2:$Y$276-D362),0))","v":233},338.08695652173924,{"$f":"INDEX($Y$2:$Y$276,MATCH(MIN(ABS($Y$2:$Y$276-F362)),ABS($Y$2:$Y$276-F362),0))","v":337},7441.5879017013285,7406.7841435185192,"U",1,20.054012345679006,73.831462182028034,295.32584872811213,0.32051142129687871,20.118694362017806,73.946923809012972,295.78769523605189,0.32001097086210778,545.28472222222229,381.46527777777777,null,null,null,1229]
[14,168,{"$f":"INDEX($Y$2:$Y$276,MATCH(MIN(ABS($Y$2:$Y$276-B363)),ABS($Y$2:$Y$276-B363),0))","v":167},243.4782608695653,{"$f":"INDEX($Y$2:$Y$276,MATCH(MIN(ABS($Y$2:$Y$276-D363)),ABS($Y$2:$Y$276-D363),0))","v":241},350.60869565217405,{"$f":"INDEX($Y$2:$Y$276,MATCH(MIN(ABS($Y$2:$Y$276-F363)),ABS($Y$2:$Y$276-F363),0))","v":349},8299.4328922495333,8128.589699074073,"U",1,19.33779761904761,71.194624246955613,284.77849698782245,0.33238221467824458,19.426934097421203,71.689949413861228,286.75979765544491,0.33008569644510255,584.09027777777771,404.74305555555554,null,null,null,1231]
[14.5,174,{"$f":"INDEX($Y$2:$Y$276,MATCH(MIN(ABS($Y$2:$Y$276-B364)),ABS($Y$2:$Y$276-B364),0))","v":173},252.17391304347834,{"$f":"INDEX($Y$2:$Y$276,MATCH(MIN(ABS($Y$2:$Y$276-D364)),ABS($Y$2:$Y$276-D364),0))","v":251},363.13043478260886,{"$f":"INDEX($Y$2:$Y$276,MATCH(MIN(ABS($Y$2:$Y$276-F364)),ABS($Y$2:$Y$276-F364),0))","v":367},9220.7939508506679,9222.3616898148157,"U",1,18.670977011494244,68.739637203957145,274.95854881582858,0.34425300805961045,18.474114441416894,68.735741892455479,274.94296756982192,0.34427251716309659,639.70138888888891,440.90972222222217,null,null,null,1237]
["HEIGHT ft","HEIGHT \"","PRIME height","WIDTH \"","PRIME width","DEPTH \"","PRIME depth","VOLUME","PRIME volume","TABLE","USEABLE 1=Yes 0=NO","F¹","F²","F³","minimum RT60","F¹","F²","F³","minimum RT60","Square Feet","Square Feet",null,null,null,1129]
[{"$f":"B366/12","v":8},{"$f":"B351","v":96},{"$f":"INDEX($Y$2:$Y$276,MATCH(MIN(ABS($Y$2:$Y$276-B366)),ABS($Y$2:$Y$276-B366),0))","v":97},{"$f":"B366*$D$225","v":143.28358208955228},{"$f":"INDEX($Y$2:$Y$276,MATCH(MIN(ABS($Y$2:$Y$276-D366)),ABS($Y$2:$Y$276-D366),0))","v":139},{"$f":"B366*$E$225","v":210.62686567164187},{"$f":"INDEX($Y$2:$Y$276,MATCH(MIN(ABS($Y$2:$Y$276-F366)),ABS($Y$2:$Y$276-F366),0))","v":211},{"$f":"(B366/12)*(D366/12)*(F366/12)","v":1676.6317665404333},{"$f":"(C366/12)*(E366/12)*(G366/12)","v":1646.361689814815},"V",{"$f":"IF(H366>$L$21,$N$22,$O$22)","v":1},{"$f":"565/(F366/12)","v":32.189625850340121},{"$f":"(SQRT(O366/H366)*11250)","v":121.33444594645843},{"$f":"4*M366","v":485.33778378583372},{"$f":"0.25*(((0.028316846592*H366)/100)^(1/3))","v":0.19502975182192497},{"$f":"565/(G366/12)","v":32.132701421800952},{"$f":"(SQRT(S366/I366)*11250)","v":122.07355463567507},{"$f":"4*Q366","v":488.29421854270026},{"$f":"0.25*(((0.028316846592*I366)/100)^(1/3))","v":0.19384892125909295},{"$f":"(E366/12)*(G366/12)","v":203.67361111111111},{"$f":"(C366/12)*(G366/12)","v":142.13194444444446},null,null,null,1151]
[8.5,{"$f":"B352","v":102},{"$f":"INDEX($Y$2:$Y$276,MATCH(MIN(ABS($Y$2:$Y$276-B367)),ABS($Y$2:$Y$276-B367),0))","v":101},{"$f":"B367*$D$225","v":152.23880597014929},{"$f":"INDEX($Y$2:$Y$276,MATCH(MIN(ABS($Y$2:$Y$276-D367)),ABS($Y$2:$Y$276-D367),0))","v":151},{"$f":"B367*$E$225","v":223.79104477611949},{"$f":"INDEX($Y$2:$Y$276,MATCH(MIN(ABS($Y$2:$Y$276-F367)),ABS($Y$2:$Y$276-F367),0))","v":223},2011.0575852082882,1968.1556712962961,"V",1,30.296118447378941,114.19712559666675,456.78850238666701,0.20721911131079529,{"$f":"565/(G367/12)","v":30.40358744394619},{"$f":"(SQRT(S367/I367)*11250)","v":115.02092594770801},{"$f":"4*Q367","v":460.08370379083203},{"$f":"0.25*(((0.028316846592*I367)/100)^(1/3))","v":0.20573497114035452},233.84027777777777,156.4097222222222,null,null,null,1153]
[9,108,{"$f":"INDEX($Y$2:$Y$276,MATCH(MIN(ABS($Y$2:$Y$276-B368)),ABS($Y$2:$Y$276-B368),0))","v":107},161.19402985074629,{"$f":"INDEX($Y$2:$Y$276,MATCH(MIN(ABS($Y$2:$Y$276-D368)),ABS($Y$2:$Y$276-D368),0))","v":163},236.95522388059709,{"$f":"INDEX($Y$2:$Y$276,MATCH(MIN(ABS($Y$2:$Y$276-F368)),ABS($Y$2:$Y$276-F368),0))","v":239},2387.2354644687025,2412.2679398148148,"V",1,28.61300075585789,107.85284084129638,431.41136336518554,0.21940847079966561,28.368200836820083,107.47847438207334,429.91389752829338,0.22017270915352255,270.53472222222223,177.59027777777777,null,null,null,1163]
[9.5,114,{"$f":"INDEX($Y$2:$Y$276,MATCH(MIN(ABS($Y$2:$Y$276-B369)),ABS($Y$2:$Y$276-B369),0))","v":113},170.14925373134332,{"$f":"INDEX($Y$2:$Y$276,MATCH(MIN(ABS($Y$2:$Y$276-D369)),ABS($Y$2:$Y$276-D369),0))","v":173},250.11940298507471,{"$f":"INDEX($Y$2:$Y$276,MATCH(MIN(ABS($Y$2:$Y$276-F369)),ABS($Y$2:$Y$276-F369),0))","v":251},2807.6214078859448,2839.5827546296296,"V",1,27.107053347654844,102.17637553385973,408.70550213543891,0.23159783028853589,27.011952191235057,101.79157436752401,407.16629747009603,0.23247333610293741,301.54861111111114,196.96527777777777,null,null,null,1171]
[10,120,{"$f":"INDEX($Y$2:$Y$276,MATCH(MIN(ABS($Y$2:$Y$276-B370)),ABS($Y$2:$Y$276-B370),0))","v":113},179.10447761194033,{"$f":"INDEX($Y$2:$Y$276,MATCH(MIN(ABS($Y$2:$Y$276-D370)),ABS($Y$2:$Y$276-D370),0))","v":179},263.28358208955234,{"$f":"INDEX($Y$2:$Y$276,MATCH(MIN(ABS($Y$2:$Y$276-F370)),ABS($Y$2:$Y$276-F370),0))","v":263},3274.6714190242838,3078.5306712962965,"V",1,25.751700680272098,97.067556757166727,388.27022702866691,0.24378718977740621,25.779467680608363,99.08673384561871,396.34693538247484,0.23881932486802721,326.92361111111114,206.38194444444443,null,null,null,1181]
[10.5,126,{"$f":"INDEX($Y$2:$Y$276,MATCH(MIN(ABS($Y$2:$Y$276-B371)),ABS($Y$2:$Y$276-B371),0))","v":127},188.05970149253736,{"$f":"INDEX($Y$2:$Y$276,MATCH(MIN(ABS($Y$2:$Y$276-D371)),ABS($Y$2:$Y$276-D371),0))","v":191},276.44776119402997,{"$f":"INDEX($Y$2:$Y$276,MATCH(MIN(ABS($Y$2:$Y$276-F371)),ABS($Y$2:$Y$276-F371),0))","v":277},3790.841501447986,3888.4195601851848,"V",1,24.525429219306758,92.445292149682615,369.78116859873046,0.2559765492662765,24.476534296028881,91.665441615406692,366.66176646162677,0.25815428871954788,367.40972222222217,244.29861111111111,null,null,null,1187]
[11,132,{"$f":"INDEX($Y$2:$Y$276,MATCH(MIN(ABS($Y$2:$Y$276-B372)),ABS($Y$2:$Y$276-B372),0))","v":131},197.01492537313436,{"$f":"INDEX($Y$2:$Y$276,MATCH(MIN(ABS($Y$2:$Y$276-D372)),ABS($Y$2:$Y$276-D372),0))","v":197},289.61194029850759,{"$f":"INDEX($Y$2:$Y$276,MATCH(MIN(ABS($Y$2:$Y$276-F372)),ABS($Y$2:$Y$276-F372),0))","v":293},4358.5876587213215,4375.8396990740739,"V",1,23.410636982065544,88.243233415606113,352.97293366242445,0.26816590875514684,23.139931740614333,88.12711239566255,352.5084495826502,0.26851925856988873,400.84027777777783,266.54861111111109,null,null,null,1193]
[11.5,138,{"$f":"INDEX($Y$2:$Y$276,MATCH(MIN(ABS($Y$2:$Y$276-B373)),ABS($Y$2:$Y$276-B373),0))","v":137},205.97014925373139,{"$f":"INDEX($Y$2:$Y$276,MATCH(MIN(ABS($Y$2:$Y$276-D373)),ABS($Y$2:$Y$276-D373),0))","v":211},302.77611940298516,{"$f":"INDEX($Y$2:$Y$276,MATCH(MIN(ABS($Y$2:$Y$276-F373)),ABS($Y$2:$Y$276-F373),0))","v":307},4980.3658944085564,5135.6765046296287,"V",1,22.392783200236611,84.406571093188475,337.6262843727539,0.28035526824401713,22.084690553745929,83.546986205832127,334.18794482332851,0.28323974274893315,449.84027777777771,292.07638888888886,null,null,null,1201]
[12,144,{"$f":"INDEX($Y$2:$Y$276,MATCH(MIN(ABS($Y$2:$Y$276-B374)),ABS($Y$2:$Y$276-B374),0))","v":139},214.9253731343284,{"$f":"INDEX($Y$2:$Y$276,MATCH(MIN(ABS($Y$2:$Y$276-D374)),ABS($Y$2:$Y$276-D374),0))","v":211},315.94029850746278,{"$f":"INDEX($Y$2:$Y$276,MATCH(MIN(ABS($Y$2:$Y$276-F374)),ABS($Y$2:$Y$276-F374),0))","v":317},5658.6322120739605,5380.3778935185192,"V",1,21.459750566893415,80.889630630972292,323.55852252388917,0.29254462773288742,21.388012618296528,82.260702666343775,329.0428106653751,0.28766866940549973,464.49305555555554,305.9930555555556,null,null,null,1213]
[12.5,150,{"$f":"INDEX($Y$2:$Y$276,MATCH(MIN(ABS($Y$2:$Y$276-B375)),ABS($Y$2:$Y$276-B375),0))","v":149},223.88059701492543,{"$f":"INDEX($Y$2:$Y$276,MATCH(MIN(ABS($Y$2:$Y$276-D375)),ABS($Y$2:$Y$276-D375),0))","v":223},329.10447761194041,{"$f":"INDEX($Y$2:$Y$276,MATCH(MIN(ABS($Y$2:$Y$276-F375)),ABS($Y$2:$Y$276-F375),0))","v":331},6395.8426152818038,6364.66261574074,"V",1,20.60136054421768,77.654045405733399,310.6161816229336,0.30473398722175776,20.483383685800604,77.78064598808443,311.12258395233772,0.30423798336688701,512.59027777777771,342.49305555555554,null,null,null,1217]
[13,156,{"$f":"INDEX($Y$2:$Y$276,MATCH(MIN(ABS($Y$2:$Y$276-B376)),ABS($Y$2:$Y$276-B376),0))","v":157},232.83582089552243,{"$f":"INDEX($Y$2:$Y$276,MATCH(MIN(ABS($Y$2:$Y$276-D376)),ABS($Y$2:$Y$276-D376),0))","v":233},342.26865671641804,{"$f":"INDEX($Y$2:$Y$276,MATCH(MIN(ABS($Y$2:$Y$276-F376)),ABS($Y$2:$Y$276-F376),0))","v":347},7194.4531075963505,7345.8373842592609,"V",1,19.80900052328623,74.667351351666724,298.6694054066669,0.31692334671062805,19.538904899135446,74.150867812698763,296.60347125079505,0.31913081503189084,561.46527777777783,378.32638888888891,null,null,null,1223]
[13.5,162,{"$f":"INDEX($Y$2:$Y$276,MATCH(MIN(ABS($Y$2:$Y$276-B377)),ABS($Y$2:$Y$276-B377),0))","v":163},241.79104477611946,{"$f":"INDEX($Y$2:$Y$276,MATCH(MIN(ABS($Y$2:$Y$276-D377)),ABS($Y$2:$Y$276-D377),0))","v":241},355.43283582089566,{"$f":"INDEX($Y$2:$Y$276,MATCH(MIN(ABS($Y$2:$Y$276-F377)),ABS($Y$2:$Y$276-F377),0))","v":353},8056.9196925818733,8024.8258101851852,"V",1,19.075333837238592,71.90189389419757,287.60757557679028,0.32911270619949839,19.206798866855522,71.997619396664192,287.99047758665677,0.32867512952080963,590.78472222222217,399.57638888888891,null,null,null,1229]
[14,168,{"$f":"INDEX($Y$2:$Y$276,MATCH(MIN(ABS($Y$2:$Y$276-B378)),ABS($Y$2:$Y$276-B378),0))","v":167},250.74626865671647,{"$f":"INDEX($Y$2:$Y$276,MATCH(MIN(ABS($Y$2:$Y$276-D378)),ABS($Y$2:$Y$276-D378),0))","v":251},368.59701492537329,{"$f":"INDEX($Y$2:$Y$276,MATCH(MIN(ABS($Y$2:$Y$276-F378)),ABS($Y$2:$Y$276-F378),0))","v":367},8985.6983738026356,8902.5109953703704,"V",1,18.394071914480069,69.333969112261954,277.33587644904782,0.34130206568836868,18.474114441416894,69.549258140115597,278.19703256046239,0.34024556858269928,639.70138888888891,425.61805555555554,null,null,null,1231]
[14.5,174,{"$f":"INDEX($Y$2:$Y$276,MATCH(MIN(ABS($Y$2:$Y$276-B379)),ABS($Y$2:$Y$276-B379),0))","v":173},259.70149253731347,{"$f":"INDEX($Y$2:$Y$276,MATCH(MIN(ABS($Y$2:$Y$276-D379)),ABS($Y$2:$Y$276-D379),0))","v":257},381.76119402985086,{"$f":"INDEX($Y$2:$Y$276,MATCH(MIN(ABS($Y$2:$Y$276-F379)),ABS($Y$2:$Y$276-F379),0))","v":383},9983.2451548229037,9854.4924768518522,"V",1,17.759793572601449,66.943142591149481,267.77257036459793,0.35349142517723897,17.702349869451698,67.233427849650766,268.93371139860307,0.35196520000893383,683.5486111111112,460.13194444444446,null,null,null,1237]
["HEIGHT ft","HEIGHT \"","PRIME height","WIDTH \"","PRIME width","DEPTH \"","PRIME depth","VOLUME","PRIME volume","TABLE","USEABLE 1=Yes 0=NO","F¹","F²","F³","minimum RT60","F¹","F²","F³","minimum RT60","Square Feet","Square Feet",null,null,null,1129]
[{"$f":"B381/12","v":8},{"$f":"B366","v":96},{"$f":"INDEX($Y$2:$Y$276,MATCH(MIN(ABS($Y$2:$Y$276-B381)),ABS($Y$2:$Y$276-B381),0))","v":97},{"$f":"B381*$D$226","v":147.69230769230774},{"$f":"INDEX($Y$2:$Y$276,MATCH(MIN(ABS($Y$2:$Y$276-D381)),ABS($Y$2:$Y$276-D381),0))","v":149},{"$f":"B381*$E$226","v":221.53846153846166},{"$f":"INDEX($Y$2:$Y$276,MATCH(MIN(ABS($Y$2:$Y$276-F381)),ABS($Y$2:$Y$276-F381),0))","v":223},{"$f":"(B381/12)*(D381/12)*(F381/12)","v":1817.7514792899424},{"$f":"(C381/12)*(E381/12)*(G381/12)","v":1865.1730324074074},"W",{"$f":"IF(H381>$L$21,$N$22,$O$22)","v":1},{"$f":"565/(F381/12)","v":30.60416666666665},{"$f":"(SQRT(O381/H381)*11250)","v":118.10959288598436},{"$f":"4*M381","v":472.43837154393742},{"$f":"0.25*(((0.028316846592*H381)/100)^(1/3))","v":0.20035482556638853},{"$f":"565/(G381/12)","v":30.40358744394619},{"$f":"(SQRT(S381/I381)*11250)","v":117.10001901366022},{"$f":"4*Q381","v":468.40007605464086},{"$f":"0.25*(((0.028316846592*I381)/100)^(1/3))","v":0.20208217795103919},{"$f":"(E381/12)*(G381/12)","v":230.74305555555554},{"$f":"(C381/12)*(G381/12)","v":150.21527777777777},null,null,null,1151]
[8.5,{"$f":"B367","v":102},{"$f":"INDEX($Y$2:$Y$276,MATCH(MIN(ABS($Y$2:$Y$276-B382)),ABS($Y$2:$Y$276-B382),0))","v":101},{"$f":"B382*$D$226","v":156.92307692307699},{"$f":"INDEX($Y$2:$Y$276,MATCH(MIN(ABS($Y$2:$Y$276-D382)),ABS($Y$2:$Y$276-D382),0))","v":157},{"$f":"B382*$E$226","v":235.3846153846155},{"$f":"INDEX($Y$2:$Y$276,MATCH(MIN(ABS($Y$2:$Y$276-F382)),ABS($Y$2:$Y$276-F382),0))","v":233},2180.3254437869841,2138.1255787037039,"W",1,28.803921568627437,111.16196977504408,444.64787910017634,0.21287700216428782,{"$f":"565/(G382/12)","v":29.098712446351929},{"$f":"(SQRT(S382/I382)*11250)","v":111.8885395324554},{"$f":"4*Q382","v":447.55415812982159},{"$f":"0.25*(((0.028316846592*I382)/100)^(1/3))","v":0.21149464439585802},254.03472222222226,163.42361111111111,null,null,null,1153]
[9,108,{"$f":"INDEX($Y$2:$Y$276,MATCH(MIN(ABS($Y$2:$Y$276-B383)),ABS($Y$2:$Y$276-B383),0))","v":107},166.15384615384622,{"$f":"INDEX($Y$2:$Y$276,MATCH(MIN(ABS($Y$2:$Y$276-D383)),ABS($Y$2:$Y$276-D383),0))","v":167},249.23076923076934,{"$f":"INDEX($Y$2:$Y$276,MATCH(MIN(ABS($Y$2:$Y$276-F383)),ABS($Y$2:$Y$276-F383),0))","v":251},2588.1656804733748,2595.5549768518517,"W",1,27.203703703703692,104.98630478754164,419.94521915016657,0.22539917876218707,27.011952191235057,104.88658144245279,419.54632576981118,0.22561348224865138,291.09027777777777,186.50694444444443,null,null,null,1163]
[9.5,114,{"$f":"INDEX($Y$2:$Y$276,MATCH(MIN(ABS($Y$2:$Y$276-B384)),ABS($Y$2:$Y$276-B384),0))","v":113},175.38461538461544,{"$f":"INDEX($Y$2:$Y$276,MATCH(MIN(ABS($Y$2:$Y$276-D384)),ABS($Y$2:$Y$276-D384),0))","v":173},263.07692307692321,{"$f":"INDEX($Y$2:$Y$276,MATCH(MIN(ABS($Y$2:$Y$276-F384)),ABS($Y$2:$Y$276-F384),0))","v":263},3043.9349112426062,2975.3396990740739,"W",1,25.77192982456139,99.460709798723656,397.84283919489462,0.23792135536008638,25.779467680608363,100.21925172188017,400.87700688752068,0.23612057038759748,315.96527777777777,206.38194444444443,null,null,null,1171]
[10,120,{"$f":"INDEX($Y$2:$Y$276,MATCH(MIN(ABS($Y$2:$Y$276-B385)),ABS($Y$2:$Y$276-B385),0))","v":113},184.61538461538467,{"$f":"INDEX($Y$2:$Y$276,MATCH(MIN(ABS($Y$2:$Y$276-D385)),ABS($Y$2:$Y$276-D385),0))","v":181},276.92307692307708,{"$f":"INDEX($Y$2:$Y$276,MATCH(MIN(ABS($Y$2:$Y$276-F385)),ABS($Y$2:$Y$276-F385),0))","v":277},3550.2958579881688,3278.634837962963,"W",1,24.48333333333332,94.487674308787476,377.9506972351499,0.25044353195798563,24.476534296028881,97.028427206780449,388.1137088271218,0.24388550409003126,348.17361111111109,217.36805555555554,null,null,null,1181]
[10.5,126,{"$f":"INDEX($Y$2:$Y$276,MATCH(MIN(ABS($Y$2:$Y$276-B386)),ABS($Y$2:$Y$276-B386),0))","v":127},193.84615384615392,{"$f":"INDEX($Y$2:$Y$276,MATCH(MIN(ABS($Y$2:$Y$276-D386)),ABS($Y$2:$Y$276-D386),0))","v":193},290.76923076923089,{"$f":"INDEX($Y$2:$Y$276,MATCH(MIN(ABS($Y$2:$Y$276-F386)),ABS($Y$2:$Y$276-F386),0))","v":293},4109.9112426035535,4156.0896990740739,"W",1,23.317460317460309,89.988261246464262,359.95304498585705,0.26296570855588497,23.139931740614333,89.653731618440645,358.61492647376258,0.26394692617034593,392.70138888888886,258.40972222222223,null,null,null,1187]
[11,132,{"$f":"INDEX($Y$2:$Y$276,MATCH(MIN(ABS($Y$2:$Y$276-B387)),ABS($Y$2:$Y$276-B387),0))","v":131},203.07692307692315,{"$f":"INDEX($Y$2:$Y$276,MATCH(MIN(ABS($Y$2:$Y$276-D387)),ABS($Y$2:$Y$276-D387),0))","v":199},304.61538461538476,{"$f":"INDEX($Y$2:$Y$276,MATCH(MIN(ABS($Y$2:$Y$276-F387)),ABS($Y$2:$Y$276-F387),0))","v":307},4725.4437869822532,4631.4716435185173,"W",1,22.257575757575747,85.89788573526134,343.59154294104536,0.27548788515378425,22.084690553745929,86.474953731587007,345.89981492634803,0.27364948877382039,424.2569444444444,279.28472222222217,null,null,null,1193]
[11.5,138,{"$f":"INDEX($Y$2:$Y$276,MATCH(MIN(ABS($Y$2:$Y$276-B388)),ABS($Y$2:$Y$276-B388),0))","v":137},212.30769230769238,{"$f":"INDEX($Y$2:$Y$276,MATCH(MIN(ABS($Y$2:$Y$276-D388)),ABS($Y$2:$Y$276-D388),0))","v":211},318.46153846153862,{"$f":"INDEX($Y$2:$Y$276,MATCH(MIN(ABS($Y$2:$Y$276-F388)),ABS($Y$2:$Y$276-F388),0))","v":317},5399.556213017755,5302.9623842592591,"W",1,21.289855072463759,82.163195051119558,328.65278020447823,0.28801006175168348,21.388012618296528,82.659065793011308,330.63626317204523,0.2862822928539473,464.49305555555554,301.59027777777777,null,null,null,1201]
[12,144,{"$f":"INDEX($Y$2:$Y$276,MATCH(MIN(ABS($Y$2:$Y$276-B389)),ABS($Y$2:$Y$276-B389),0))","v":139},221.5384615384616,{"$f":"INDEX($Y$2:$Y$276,MATCH(MIN(ABS($Y$2:$Y$276-D389)),ABS($Y$2:$Y$276-D389),0))","v":223},332.30769230769249,{"$f":"INDEX($Y$2:$Y$276,MATCH(MIN(ABS($Y$2:$Y$276-F389)),ABS($Y$2:$Y$276-F389),0))","v":331},6134.9112426035554,5937.5040509259252,"W",1,20.402777777777768,78.739728590656227,314.95891436262491,0.30053223834958276,20.483383685800604,79.602865553788334,318.41146221515334,0.29727355561589308,512.59027777777771,319.50694444444446,null,null,null,1213]
[12.5,150,{"$f":"INDEX($Y$2:$Y$276,MATCH(MIN(ABS($Y$2:$Y$276-B390)),ABS($Y$2:$Y$276-B390),0))","v":149},230.76923076923086,{"$f":"INDEX($Y$2:$Y$276,MATCH(MIN(ABS($Y$2:$Y$276-D390)),ABS($Y$2:$Y$276-D390),0))","v":229},346.1538461538463,{"$f":"INDEX($Y$2:$Y$276,MATCH(MIN(ABS($Y$2:$Y$276-F390)),ABS($Y$2:$Y$276-F390),0))","v":347},6934.1715976331416,6851.8443287037035,"W",1,19.586666666666659,75.590139447029983,302.36055778811993,0.31305441494748204,19.538904899135446,75.891682124016626,303.5667284960665,0.31181054653287127,551.82638888888891,359.04861111111109,null,null,null,1217]
[13,156,{"$f":"INDEX($Y$2:$Y$276,MATCH(MIN(ABS($Y$2:$Y$276-B391)),ABS($Y$2:$Y$276-B391),0))","v":157},240.00000000000009,{"$f":"INDEX($Y$2:$Y$276,MATCH(MIN(ABS($Y$2:$Y$276-D391)),ABS($Y$2:$Y$276-D391),0))","v":241},360.00000000000017,{"$f":"INDEX($Y$2:$Y$276,MATCH(MIN(ABS($Y$2:$Y$276-F391)),ABS($Y$2:$Y$276-F391),0))","v":359},7800.0000000000073,7860.8119212962965,"W",1,18.833333333333325,72.682826391374988,290.73130556549995,0.32557659154538138,18.885793871866294,72.494914108231896,289.97965643292758,0.32642051061760613,600.82638888888891,391.40972222222223,null,null,null,1223]
[13.5,162,{"$f":"INDEX($Y$2:$Y$276,MATCH(MIN(ABS($Y$2:$Y$276-B392)),ABS($Y$2:$Y$276-B392),0))","v":163},249.23076923076931,{"$f":"INDEX($Y$2:$Y$276,MATCH(MIN(ABS($Y$2:$Y$276-D392)),ABS($Y$2:$Y$276-D392),0))","v":251},373.84615384615404,{"$f":"INDEX($Y$2:$Y$276,MATCH(MIN(ABS($Y$2:$Y$276-F392)),ABS($Y$2:$Y$276-F392),0))","v":373},8735.0591715976407,8831.3362268518522,"W",1,18.135802469135793,69.990869858361094,279.96347943344438,0.33809876814328066,18.176943699731904,69.735598882544565,278.94239553017826,0.3393363971856822,650.15972222222229,422.21527777777777,null,null,null,1229]
[14,168,{"$f":"INDEX($Y$2:$Y$276,MATCH(MIN(ABS($Y$2:$Y$276-B393)),ABS($Y$2:$Y$276-B393),0))","v":167},258.46153846153857,{"$f":"INDEX($Y$2:$Y$276,MATCH(MIN(ABS($Y$2:$Y$276-D393)),ABS($Y$2:$Y$276-D393),0))","v":257},387.69230769230791,{"$f":"INDEX($Y$2:$Y$276,MATCH(MIN(ABS($Y$2:$Y$276-F393)),ABS($Y$2:$Y$276-F393),0))","v":389},9742.0118343195372,9661.7424768518522,"W",1,17.488095238095227,67.491195934848193,269.96478373939277,0.35062094474117994,17.429305912596401,67.677585401357064,270.71034160542825,0.34965530670238792,694.25694444444446,451.1319444444444,null,null,null,1231]
[14.5,174,{"$f":"INDEX($Y$2:$Y$276,MATCH(MIN(ABS($Y$2:$Y$276-B394)),ABS($Y$2:$Y$276-B394),0))","v":173},267.69230769230779,{"$f":"INDEX($Y$2:$Y$276,MATCH(MIN(ABS($Y$2:$Y$276-D394)),ABS($Y$2:$Y$276-D394),0))","v":269},401.53846153846172,{"$f":"INDEX($Y$2:$Y$276,MATCH(MIN(ABS($Y$2:$Y$276-F394)),ABS($Y$2:$Y$276-F394),0))","v":401},10823.520710059182,10799.384837962964,"W",1,16.885057471264361,65.163913316405157,260.65565326562063,0.36314312133907922,16.90773067331671,65.21242279674135,260.8496911869654,0.36287299053656741,749.09027777777771,481.7569444444444,null,null,null,1237]
["HEIGHT ft","HEIGHT \"","PRIME height","WIDTH \"","PRIME width","DEPTH \"","PRIME depth","VOLUME","PRIME volume","TABLE","USEABLE 1=Yes 0=NO","F¹","F²","F³","minimum RT60","F¹","F²","F³","minimum RT60","Square Feet","Square Feet",null,null,null,1129]
[{"$f":"B396/12","v":8},{"$f":"B381","v":96},{"$f":"INDEX($Y$2:$Y$276,MATCH(MIN(ABS($Y$2:$Y$276-B396)),ABS($Y$2:$Y$276-B396),0))","v":97},{"$f":"B396*$D$227","v":152.38095238095244},{"$f":"INDEX($Y$2:$Y$276,MATCH(MIN(ABS($Y$2:$Y$276-D396)),ABS($Y$2:$Y$276-D396),0))","v":151},{"$f":"B396*$E$227","v":233.14285714285725},{"$f":"INDEX($Y$2:$Y$276,MATCH(MIN(ABS($Y$2:$Y$276-F396)),ABS($Y$2:$Y$276-F396),0))","v":233},{"$f":"(B396/12)*(D396/12)*(F396/12)","v":1973.6961451247182},{"$f":"(C396/12)*(E396/12)*(G396/12)","v":1974.9716435185187},"X",{"$f":"IF(H396>$L$21,$N$22,$O$22)","v":1},{"$f":"565/(F396/12)","v":29.080882352941163},{"$f":"(SQRT(O396/H396)*11250)","v":114.91319783749199},{"$f":"4*M396","v":459.65279134996797},{"$f":"0.25*(((0.028316846592*H396)/100)^(1/3))","v":0.20592784228190639},{"$f":"565/(G396/12)","v":29.098712446351929},{"$f":"(SQRT(S396/I396)*11250)","v":114.88845433217273},{"$f":"4*Q396","v":459.55381732869091},{"$f":"0.25*(((0.028316846592*I396)/100)^(1/3))","v":0.20597219292349614},{"$f":"(E396/12)*(G396/12)","v":244.32638888888891},{"$f":"(C396/12)*(G396/12)","v":156.95138888888891},null,null,null,1151]
[8.5,{"$f":"B382","v":102},{"$f":"INDEX($Y$2:$Y$276,MATCH(MIN(ABS($Y$2:$Y$276-B397)),ABS($Y$2:$Y$276-B397),0))","v":101},{"$f":"B397*$D$227","v":161.90476190476195},{"$f":"INDEX($Y$2:$Y$276,MATCH(MIN(ABS($Y$2:$Y$276-D397)),ABS($Y$2:$Y$276-D397),0))","v":163},{"$f":"B397*$E$227","v":247.71428571428584},{"$f":"INDEX($Y$2:$Y$276,MATCH(MIN(ABS($Y$2:$Y$276-F397)),ABS($Y$2:$Y$276-F397),0))","v":251},2367.3752834467136,2391.3269675925926,"X",1,27.370242214532858,108.15359796469836,432.61439185879345,0.21879833242452551,{"$f":"565/(G397/12)","v":27.011952191235057},{"$f":"(SQRT(S397/I397)*11250)","v":107.79129451799173},{"$f":"4*Q397","v":431.16517807196692},{"$f":"0.25*(((0.028316846592*I397)/100)^(1/3))","v":0.21953374793582023},284.1180555555556,176.04861111111111,null,null,null,1153]
[9,108,{"$f":"INDEX($Y$2:$Y$276,MATCH(MIN(ABS($Y$2:$Y$276-B398)),ABS($Y$2:$Y$276-B398),0))","v":107},171.4285714285715,{"$f":"INDEX($Y$2:$Y$276,MATCH(MIN(ABS($Y$2:$Y$276-D398)),ABS($Y$2:$Y$276-D398),0))","v":173},262.28571428571439,{"$f":"INDEX($Y$2:$Y$276,MATCH(MIN(ABS($Y$2:$Y$276-F398)),ABS($Y$2:$Y$276-F398),0))","v":263},2810.2040816326548,2817.3570601851848,"X",1,25.849673202614369,102.14506474443733,408.58025897774934,0.23166882256714466,25.779467680608363,102.05854622649626,408.23418490598505,0.23186521614634753,315.96527777777777,195.42361111111111,null,null,null,1163]
[9.5,114,{"$f":"INDEX($Y$2:$Y$276,MATCH(MIN(ABS($Y$2:$Y$276-B399)),ABS($Y$2:$Y$276-B399),0))","v":113},180.95238095238102,{"$f":"INDEX($Y$2:$Y$276,MATCH(MIN(ABS($Y$2:$Y$276-D399)),ABS($Y$2:$Y$276-D399),0))","v":181},276.857142857143,{"$f":"INDEX($Y$2:$Y$276,MATCH(MIN(ABS($Y$2:$Y$276-F399)),ABS($Y$2:$Y$276-F399),0))","v":277},3305.0736961451275,3278.634837962963,"X",1,24.489164086687293,96.769008705256425,387.0760348210257,0.24453931270976384,24.476534296028881,97.028427206780449,388.1137088271218,0.24388550409003126,348.17361111111109,217.36805555555554,null,null,null,1171]
[10,120,{"$f":"INDEX($Y$2:$Y$276,MATCH(MIN(ABS($Y$2:$Y$276-B400)),ABS($Y$2:$Y$276-B400),0))","v":113},190.47619047619054,{"$f":"INDEX($Y$2:$Y$276,MATCH(MIN(ABS($Y$2:$Y$276-D400)),ABS($Y$2:$Y$276-D400),0))","v":191},291.42857142857156,{"$f":"INDEX($Y$2:$Y$276,MATCH(MIN(ABS($Y$2:$Y$276-F400)),ABS($Y$2:$Y$276-F400),0))","v":293},3854.875283446715,3659.6174768518517,"X",1,23.264705882352931,91.930558269993583,367.72223307997433,0.25740980285238296,23.139931740614333,93.537288693971419,374.14915477588568,0.2529881634458121,388.63194444444446,229.92361111111111,null,null,null,1181]
[10.5,126,{"$f":"INDEX($Y$2:$Y$276,MATCH(MIN(ABS($Y$2:$Y$276-B401)),ABS($Y$2:$Y$276-B401),0))","v":127},200.00000000000009,{"$f":"INDEX($Y$2:$Y$276,MATCH(MIN(ABS($Y$2:$Y$276-D401)),ABS($Y$2:$Y$276-D401),0))","v":199},306.00000000000017,{"$f":"INDEX($Y$2:$Y$276,MATCH(MIN(ABS($Y$2:$Y$276-F401)),ABS($Y$2:$Y$276-F401),0))","v":307},4462.5000000000045,4490.0526620370365,"X",1,22.156862745098028,87.552912638089126,350.2116505523565,0.27028029299500211,22.084690553745929,87.37345913802011,349.49383655208044,0.27083541287987495,424.2569444444444,270.75694444444446,null,null,null,1187]
[11,132,{"$f":"INDEX($Y$2:$Y$276,MATCH(MIN(ABS($Y$2:$Y$276-B402)),ABS($Y$2:$Y$276-B402),0))","v":131},209.5238095238096,{"$f":"INDEX($Y$2:$Y$276,MATCH(MIN(ABS($Y$2:$Y$276-D402)),ABS($Y$2:$Y$276-D402),0))","v":211},320.57142857142873,{"$f":"INDEX($Y$2:$Y$276,MATCH(MIN(ABS($Y$2:$Y$276-F402)),ABS($Y$2:$Y$276-F402),0))","v":317},5130.8390022675776,5070.7158564814808,"X",1,21.149732620320847,83.573234790903271,334.29293916361308,0.28315078313762126,21.388012618296528,83.902245301977146,335.60898120790858,0.28204044832434211,464.49305555555554,288.38194444444446,null,null,null,1193]
[11.5,138,{"$f":"INDEX($Y$2:$Y$276,MATCH(MIN(ABS($Y$2:$Y$276-B403)),ABS($Y$2:$Y$276-B403),0))","v":137},219.04761904761912,{"$f":"INDEX($Y$2:$Y$276,MATCH(MIN(ABS($Y$2:$Y$276-D403)),ABS($Y$2:$Y$276-D403),0))","v":223},335.14285714285728,{"$f":"INDEX($Y$2:$Y$276,MATCH(MIN(ABS($Y$2:$Y$276-F403)),ABS($Y$2:$Y$276-F403),0))","v":337},5862.7834467120229,5958.152199074073,"X",1,20.230179028132984,79.939615886950961,319.75846354780384,0.29602127328024042,20.118694362017806,79.510803782647315,318.04321513058926,0.29761775450134514,521.88194444444434,320.61805555555554,null,null,null,1201]
[12,144,{"$f":"INDEX($Y$2:$Y$276,MATCH(MIN(ABS($Y$2:$Y$276-B404)),ABS($Y$2:$Y$276-B404),0))","v":139},228.57142857142867,{"$f":"INDEX($Y$2:$Y$276,MATCH(MIN(ABS($Y$2:$Y$276-D404)),ABS($Y$2:$Y$276-D404),0))","v":229},349.71428571428589,{"$f":"INDEX($Y$2:$Y$276,MATCH(MIN(ABS($Y$2:$Y$276-F404)),ABS($Y$2:$Y$276-F404),0))","v":349},6661.2244897959245,6428.8304398148148,"X",1,19.387254901960777,76.60879855832799,306.43519423331196,0.30889176342285957,19.426934097421203,77.520997254662689,310.08398901865075,0.3052569976963917,555.00694444444434,336.88194444444446,null,null,null,1213]
[12.5,150,{"$f":"INDEX($Y$2:$Y$276,MATCH(MIN(ABS($Y$2:$Y$276-B405)),ABS($Y$2:$Y$276-B405),0))","v":149},238.09523809523819,{"$f":"INDEX($Y$2:$Y$276,MATCH(MIN(ABS($Y$2:$Y$276-D405)),ABS($Y$2:$Y$276-D405),0))","v":239},364.28571428571445,{"$f":"INDEX($Y$2:$Y$276,MATCH(MIN(ABS($Y$2:$Y$276-F405)),ABS($Y$2:$Y$276-F405),0))","v":367},7529.0532879818666,7563.2158564814808,"X",1,18.611764705882344,73.544446615994872,294.17778646397949,0.32176225356547872,18.474114441416894,73.433547599414652,293.73419039765861,0.3222481774879849,609.11805555555554,379.74305555555554,null,null,null,1217]
[13,156,{"$f":"INDEX($Y$2:$Y$276,MATCH(MIN(ABS($Y$2:$Y$276-B406)),ABS($Y$2:$Y$276-B406),0))","v":157},247.61904761904771,{"$f":"INDEX($Y$2:$Y$276,MATCH(MIN(ABS($Y$2:$Y$276-D406)),ABS($Y$2:$Y$276-D406),0))","v":251},378.85714285714306,{"$f":"INDEX($Y$2:$Y$276,MATCH(MIN(ABS($Y$2:$Y$276-F406)),ABS($Y$2:$Y$276-F406),0))","v":379},8469.1609977324333,8643.0862268518522,"X",1,17.895927601809944,70.715814053841228,282.86325621536491,0.33463274370809787,17.889182058047496,70.238257069647148,280.95302827858859,0.33690794543668529,660.61805555555554,413.21527777777777,null,null,null,1223]
[13.5,162,{"$f":"INDEX($Y$2:$Y$276,MATCH(MIN(ABS($Y$2:$Y$276-B407)),ABS($Y$2:$Y$276-B407),0))","v":163},257.14285714285722,{"$f":"INDEX($Y$2:$Y$276,MATCH(MIN(ABS($Y$2:$Y$276-D407)),ABS($Y$2:$Y$276-D407),0))","v":257},393.42857142857162,{"$f":"INDEX($Y$2:$Y$276,MATCH(MIN(ABS($Y$2:$Y$276-F407)),ABS($Y$2:$Y$276-F407),0))","v":397},9484.4387755102089,9624.2633101851861,"X",1,17.233115468409579,68.096709829624899,272.3868393184996,0.34750323385071696,17.078085642317379,67.765322472722858,271.06128989089143,0.3492026012259265,708.53472222222229,449.38194444444451,null,null,null,1229]
[14,168,{"$f":"INDEX($Y$2:$Y$276,MATCH(MIN(ABS($Y$2:$Y$276-B408)),ABS($Y$2:$Y$276-B408),0))","v":167},266.66666666666674,{"$f":"INDEX($Y$2:$Y$276,MATCH(MIN(ABS($Y$2:$Y$276-D408)),ABS($Y$2:$Y$276-D408),0))","v":269},408.00000000000017,{"$f":"INDEX($Y$2:$Y$276,MATCH(MIN(ABS($Y$2:$Y$276-F408)),ABS($Y$2:$Y$276-F408),0))","v":409},10577.777777777785,10632.816550925927,"X",1,16.617647058823522,65.664684478566855,262.65873791426742,0.36037372399333617,16.577017114914423,65.551188129488381,262.20475251795352,0.3609976806773289,764.03472222222229,474.32638888888891,null,null,null,1231]
[14.5,174,{"$f":"INDEX($Y$2:$Y$276,MATCH(MIN(ABS($Y$2:$Y$276-B409)),ABS($Y$2:$Y$276-B409),0))","v":173},276.19047619047632,{"$f":"INDEX($Y$2:$Y$276,MATCH(MIN(ABS($Y$2:$Y$276-D409)),ABS($Y$2:$Y$276-D409),0))","v":277},422.57142857142878,{"$f":"INDEX($Y$2:$Y$276,MATCH(MIN(ABS($Y$2:$Y$276-F409)),ABS($Y$2:$Y$276-F409),0))","v":421},11752.069160997744,11675.197337962962,"X",1,16.044624746450296,63.400385013788686,253.60154005515474,0.37324421413595532,16.104513064133016,63.539227653580134,254.15691061432054,0.37242862014951189,809.84027777777783,505.78472222222223,null,null,null,1237]

{"sheet":"RATIOS","index":7,"n_rows":41,"n_cols":47,"rows_kept":41,"cut":false,"hidden":false,"merged":[[0,20,0,22],[0,0,0,2],[0,4,0,6],[0,8,0,10],[0,12,0,14],[0,16,0,18],[0,32,0,34],[0,36,0,38],[0,40,0,42],[0,44,0,46],[0,24,0,26],[0,28,0,30]]}
["BOLT 1",null,null,null,"BOLT 2",null,null,null,"SEPMEYER 1",null,null,null,"SEPMEYER 2",null,null,null,"SEPMEYER 3",null,null,null,"LOUDEN 1",null,null,null,"LOUDEN 2",null,null,null,"LOUDEN 3",null,null,null,"ANSI 12.51 / ISO 3741 (1)",null,null,null,"ANSI 12.51 / ISO 3741 (2)",null,null,null,"ANSI 12.51 / ISO 3741 (3)",null,null,null,"ANSI 12.51 / ISO 3741 (4)"]
["HEIGHT","WIDTH","DEPTH",null,"HEIGHT","WIDTH","DEPTH",null,"HEIGHT","WIDTH","DEPTH",null,"HEIGHT","WIDTH","DEPTH",null,"HEIGHT","WIDTH","DEPTH",null,"HEIGHT","WIDTH","DEPTH",null,"HEIGHT","WIDTH","DEPTH",null,"HEIGHT","WIDTH","DEPTH",null,"HEIGHT","WIDTH","DEPTH",null,"HEIGHT","WIDTH","DEPTH",null,"HEIGHT","WIDTH","DEPTH",null,"HEIGHT","WIDTH","DEPTH"]
[1,1.5,2.5,null,1,1.26,1.59,null,1,1.1399999999999999,1.39,null,1,1.28,1.54,null,1,1.6,2.33,null,1,1.4,1.9,null,1,1.3,1.9,null,1,1.5,2.1,null,1,1.428571,1.6949149999999999,null,1,1.265822,1.5873010000000001,null,1,1.2048190000000001,1.5384610000000001,null,1,1.2048190000000001,2.127659]
[]
[]
["HEIGHT",101.44,null,null,"HEIGHT",{"$f":"B6","v":101.44},null,null,"HEIGHT",{"$f":"F6","v":101.44},null,null,"HEIGHT",{"$f":"J6","v":101.44},null,null,"HEIGHT",{"$f":"N6","v":101.44},null,null,"HEIGHT",{"$f":"R6","v":101.44},null,null,"HEIGHT",{"$f":"V6","v":101.44},null,null,"HEIGHT",{"$f":"$B$6","v":101.44},null,null,"HEIGHT",{"$f":"$B$6","v":101.44},null,null,"HEIGHT",{"$f":"$B$6","v":101.44},null,null,"HEIGHT",{"$f":"$B$6","v":101.44},null,null,"HEIGHT",{"$f":"$B$6","v":101.44}]
["WIDTH",{"$f":"B6*$B$3","v":152.16},null,null,"WIDTH",{"$f":"F6*$F$3","v":127.81439999999999},null,null,"WIDTH",{"$f":"J6*$J$3","v":115.64159999999998},null,null,"WIDTH",{"$f":"N6*$N$3","v":129.8432},null,null,"WIDTH",{"$f":"R6*$R$3","v":162.304},null,null,"WIDTH",{"$f":"V6*$V$3","v":142.01599999999999},null,null,"WIDTH",{"$f":"Z6*$Z$3","v":131.87200000000001},null,null,"WIDTH",{"$f":"AD6*AD3","v":152.16},null,null,"WIDTH",{"$f":"AH6*AH3","v":144.91424223999999},null,null,"WIDTH",{"$f":"AL6*AL3","v":128.40498367999999},null,null,"WIDTH",{"$f":"AP6*AP3","v":122.21683936000001},null,null,"WIDTH",{"$f":"AT6*AT3","v":122.21683936000001}]
["DEPTH",{"$f":"B6*$C$3","v":253.6},null,null,"DEPTH",{"$f":"F6*$G$3","v":161.28960000000001},null,null,"DEPTH",{"$f":"J6*$K$3","v":141.0016},null,null,"DEPTH",{"$f":"N6*$O$3","v":156.2176},null,null,"DEPTH",{"$f":"R6*$S$3","v":236.3552},null,null,"DEPTH",{"$f":"V6*$W$3","v":192.73599999999999},null,null,"DEPTH",{"$f":"Z6*$AA$3","v":192.73599999999999},null,null,"DEPTH",{"$f":"AD6*AE3","v":213.024},null,null,"DEPTH",{"$f":"AH6*AI3","v":171.93217759999999},null,null,"DEPTH",{"$f":"AL6*AM3","v":161.01581344000002},null,null,"DEPTH",{"$f":"AP6*AQ3","v":156.06148383999999},null,null,"DEPTH",{"$f":"AT6*AU3","v":215.82972895999998}]
["Area",{"$f":"(B7/12)*(B8/12)","v":267.97066666666666},null,null,"Area",{"$f":"(F7)/12*(F8)/12","v":143.16064896},null,null,"Area",{"$f":"(J7)/12*(J8)/12","v":113.23368490666665},null,null,"Area",{"$f":"(N7)/12*(N8)/12","v":140.85967416888889},null,null,"Area",{"$f":"(R7)/12*(R8)/12","v":266.3985720888889},null,null,"Area",{"$f":"(V7)/12*(V8)/12","v":190.08052622222218},null,null,"Area",{"$f":"(Z7)/12*(Z8)/12","v":176.50334577777778},null,null,"Area",{"$f":"(AD7)/12*(AD8)/12","v":225.09536},null,null,"Area",{"$f":"(AH7)/12*(AH8)/12","v":173.02375856650761},null,null,"Area",{"$f":"(AL7)/12*(AL8)/12","v":143.57800622906336},null,null,"Area",{"$f":"(AP7)/12*(AP8)/12","v":132.45375903303136},null,null,"Area",{"$f":"(AT7)/12*(AT8)/12","v":183.1807452320601}]
["Volume",{"$f":"(B6/12)*(B7/12)*(B8/12)","v":2265.2453688888886},null,null,"Volume",{"$f":"(F6/12)*(F7/12)*(F8/12)","v":1210.1846858751999},null,null,"Volume",{"$f":"(J6/12)*(J7/12)*(J8/12)","v":957.2020830776886},null,null,"Volume",{"$f":"(N6/12)*(N7/12)*(N8/12)","v":1190.7337789743408},null,null,"Volume",{"$f":"(R6/12)*(R7/12)*(R8/12)","v":2251.9559293914076},null,null,"Volume",{"$f":"(V6/12)*(V7/12)*(V8/12)","v":1606.8140483318518},null,null,"Volume",{"$f":"(Z6/12)*(Z7/12)*(Z8/12)","v":1492.0416163081481},null,null,"Volume",{"$f":"(AD6/12)*(AD7/12)*(AD8/12)","v":1902.8061098666665},null,null,"Volume",{"$f":"(AH6/12)*(AH7/12)*(AH8/12)","v":1462.6275057488779},null,null,"Volume",{"$f":"(AL6/12)*(AL7/12)*(AL8/12)","v":1213.7127459896822},null,null,"Volume",{"$f":"(AP6/12)*(AP7/12)*(AP8/12)","v":1119.675776359225},null,null,"Volume",{"$f":"(AT6/12)*(AT7/12)*(AT8/12)","v":1548.4878996950149}]
[]
["HEIGHT",{"$f":"B13/$B$3","v":164},null,null,"HEIGHT",{"$f":"F13/$F$3","v":195.23809523809524},null,null,"HEIGHT",{"$f":"J13/$J$3","v":215.78947368421055},null,null,"HEIGHT",{"$f":"N13/$N$3","v":192.1875},null,null,"HEIGHT",{"$f":"R13/$R$3","v":153.75},null,null,"HEIGHT",{"$f":"V13/$V$3","v":175.71428571428572},null,null,"HEIGHT",{"$f":"Z13/$Z$3","v":189.23076923076923},null,null,"HEIGHT",{"$f":"AD13/AD3","v":164},null,null,"HEIGHT",{"$f":"AH13/AH3","v":172.2000516600155},null,null,"HEIGHT",{"$f":"AL13/AL3","v":194.34012049087471},null,null,"HEIGHT",{"$f":"AP13/AP3","v":204.1800469614108},null,null,"HEIGHT",{"$f":"AT13/AT3","v":204.1800469614108}]
["WIDTH",246,null,null,"WIDTH",{"$f":"$B$13","v":246},null,null,"WIDTH",{"$f":"$B$13","v":246},null,null,"WIDTH",{"$f":"$B$13","v":246},null,null,"WIDTH",{"$f":"$B$13","v":246},null,null,"WIDTH",{"$f":"$B$13","v":246},null,null,"WIDTH",{"$f":"$B$13","v":246},null,null,"WIDTH",{"$f":"$B$13","v":246},null,null,"WIDTH",{"$f":"$B$13","v":246},null,null,"WIDTH",{"$f":"$B$13","v":246},null,null,"WIDTH",{"$f":"$B$13","v":246},null,null,"WIDTH",{"$f":"$B$13","v":246}]
["DEPTH",{"$f":"B12*$C$3","v":410},null,null,"DEPTH",{"$f":"F12*$G$3","v":310.42857142857144},null,null,"DEPTH",{"$f":"J12*$K$3","v":299.94736842105266},null,null,"DEPTH",{"$f":"N12*$O$3","v":295.96875},null,null,"DEPTH",{"$f":"R12*$S$3","v":358.23750000000001},null,null,"DEPTH",{"$f":"V12*$W$3","v":333.85714285714283},null,null,"DEPTH",{"$f":"Z12*$AA$3","v":359.53846153846149},null,null,"DEPTH",{"$f":"AD12*AE3","v":344.40000000000003},null,null,"DEPTH",{"$f":"AH12*AI3","v":291.86445055933518},null,null,"DEPTH",{"$f":"AL12*AM3","v":308.47626759528595},null,null,"DEPTH",{"$f":"AP12*AQ3","v":314.12303922829904},null,null,"DEPTH",{"$f":"AT12*AU3","v":434.42551453786831}]
["Area",{"$f":"(B13)/12*(B14)/12","v":700.41666666666663},null,null,"Area",{"$f":"(F13)/12*(F14)/12","v":530.31547619047626},null,null,"Area",{"$f":"(J13)/12*(J14)/12","v":512.4100877192983},null,null,"Area",{"$f":"(N13)/12*(N14)/12","v":505.61328125},null,null,"Area",{"$f":"(R13)/12*(R14)/12","v":611.98906250000005},null,null,"Area",{"$f":"(V13)/12*(V14)/12","v":570.33928571428567},null,null,"Area",{"$f":"(Z13)/12*(Z14)/12","v":614.21153846153845},null,null,"Area",{"$f":"(AD13)/12*(AD14)/12","v":588.35},null,null,"Area",{"$f":"(AH13)/12*(AH14)/12","v":498.6017697055309},null,null,"Area",{"$f":"(AL13)/12*(AL14)/12","v":526.98029047528019},null,null,"Area",{"$f":"(AP13)/12*(AP14)/12","v":536.6268586816775},null,null,"Area",{"$f":"(AT13)/12*(AT14)/12","v":742.14358733552501}]
["Volume",{"$f":"(B12/12)*(B13/12)*(B14/12)","v":9572.3611111111095},null,null,"Volume",{"$f":"(F12/12)*(F13/12)*(F14/12)","v":8628.1486205593355},null,null,"Volume",{"$f":"(J12/12)*(J13/12)*(J14/12)","v":9214.3919282856295},null,null,"Volume",{"$f":"(N12/12)*(N13/12)*(N14/12)","v":8097.7127075195313},null,null,"Volume",{"$f":"(R12/12)*(R13/12)*(R14/12)","v":7841.1098632812509},null,null,"Volume",{"$f":"(V12/12)*(V13/12)*(V14/12)","v":8351.3966836734689},null,null,"Volume",{"$f":"(Z12/12)*(Z13/12)*(Z14/12)","v":9685.6434911242595},null,null,"Volume",{"$f":"(AD12/12)*(AD13/12)*(AD14/12)","v":8040.7833333333328},null,null,"Volume",{"$f":"(AH12/12)*(AH13/12)*(AH14/12)","v":7154.937541755633},null,null,"Volume",{"$f":"(AL12/12)*(AL13/12)*(AL14/12)","v":8534.4510956068425},null,null,"Volume",{"$f":"(AP12/12)*(AP13/12)*(AP14/12)","v":9130.7081005316068},null,null,"Volume",{"$f":"(AT12/12)*(AT13/12)*(AT14/12)","v":12627.576042856448}]
[]
["HEIGHT",{"$f":"B20/$C$3","v":115.2},null,null,"HEIGHT",{"$f":"F20/$G$3","v":181.1320754716981},null,null,"HEIGHT",{"$f":"J20/$K$3","v":207.19424460431657},null,null,"HEIGHT",{"$f":"N20/$O$3","v":187.012987012987},null,null,"HEIGHT",{"$f":"R20/$S$3","v":123.60515021459227},null,null,"HEIGHT",{"$f":"V20/$W$3","v":151.57894736842107},null,null,"HEIGHT",{"$f":"Z20/$AA$3","v":151.57894736842107},null,null,"HEIGHT",{"$f":"AD20/AE3","v":137.14285714285714},null,null,"HEIGHT",{"$f":"AH20/AI3","v":169.92002548800383},null,null,"HEIGHT",{"$f":"AL20/AM3","v":181.44006713282482},null,null,"HEIGHT",{"$f":"AP20/AQ3","v":187.20006552002292},null,null,"HEIGHT",{"$f":"AT20/AU3","v":135.36003654720986}]
["WIDTH",{"$f":"B18*$B$3","v":172.8},null,null,"WIDTH",{"$f":"F18*$F$3","v":228.22641509433961},null,null,"WIDTH",{"$f":"J18*$J$3","v":236.20143884892087},null,null,"WIDTH",{"$f":"N18*$N$3","v":239.37662337662337},null,null,"WIDTH",{"$f":"R18*$R$3","v":197.76824034334766},null,null,"WIDTH",{"$f":"V18*$V$3","v":212.21052631578948},null,null,"WIDTH",{"$f":"Z18*$Z$3","v":197.0526315789474},null,null,"WIDTH",{"$f":"AD18*AD3","v":205.71428571428572},null,null,"WIDTH",{"$f":"AH18*AH3","v":242.74282073142314},null,null,"WIDTH",{"$f":"AL18*AL3","v":229.67082865820657},null,null,"WIDTH",{"$f":"AP18*AP3","v":225.54219573976852},null,null,"WIDTH",{"$f":"AT18*AT3","v":163.08434387277285}]
["DEPTH",288,null,null,"DEPTH",{"$f":"$B$20","v":288},null,null,"DEPTH",{"$f":"$B$20","v":288},null,null,"DEPTH",{"$f":"$B$20","v":288},null,null,"DEPTH",{"$f":"$B$20","v":288},null,null,"DEPTH",{"$f":"$B$20","v":288},null,null,"DEPTH",{"$f":"$B$20","v":288},null,null,"DEPTH",{"$f":"$B$20","v":288},null,null,"DEPTH",{"$f":"$B$20","v":288},null,null,"DEPTH",{"$f":"$B$20","v":288},null,null,"DEPTH",{"$f":"$B$20","v":288},null,null,"DEPTH",{"$f":"$B$20","v":288}]
["Area",{"$f":"(B19)/12*(B20)/12","v":345.59999999999997},null,null,"Area",{"$f":"(F19)/12*(F20)/12","v":456.45283018867923},null,null,"Area",{"$f":"(J19)/12*(J20)/12","v":472.4028776978418},null,null,"Area",{"$f":"(N19)/12*(N20)/12","v":478.75324675324674},null,null,"Area",{"$f":"(R19)/12*(R20)/12","v":395.53648068669531},null,null,"Area",{"$f":"(V19)/12*(V20)/12","v":424.42105263157896},null,null,"Area",{"$f":"(Z19)/12*(Z20)/12","v":394.1052631578948},null,null,"Area",{"$f":"(AD19)/12*(AD20)/12","v":411.42857142857139},null,null,"Area",{"$f":"(AH19)/12*(AH20)/12","v":485.48564146284633},null,null,"Area",{"$f":"(AL19)/12*(AL20)/12","v":459.34165731641315},null,null,"Area",{"$f":"(AP19)/12*(AP20)/12","v":451.08439147953703},null,null,"Area",{"$f":"(AT19)/12*(AT20)/12","v":326.1686877455457}]
["Volume",{"$f":"(B18/12)*(B19/12)*(B20/12)","v":3317.76},null,null,"Volume",{"$f":"(F18/12)*(F19/12)*(F20/12)","v":6889.8540405838366},null,null,"Volume",{"$f":"(J18/12)*(J19/12)*(J20/12)","v":8156.5964494591399},null,null,"Volume",{"$f":"(N18/12)*(N19/12)*(N20/12)","v":7461.0895597908584},null,null,"Volume",{"$f":"(R18/12)*(R19/12)*(R20/12)","v":4074.1955092191797},null,null,"Volume",{"$f":"(V18/12)*(V19/12)*(V20/12)","v":5361.1080332409983},null,null,"Volume",{"$f":"(Z18/12)*(Z19/12)*(Z20/12)","v":4978.1717451523555},null,null,"Volume",{"$f":"(AD18/12)*(AD19/12)*(AD20/12)","v":4702.0408163265301},null,null,"Volume",{"$f":"(AH18/12)*(AH19/12)*(AH20/12)","v":6874.4777142855619},null,null,"Volume",{"$f":"(AL18/12)*(AL19/12)*(AL20/12)","v":6945.2484283660833},null,null,"Volume",{"$f":"(AP18/12)*(AP19/12)*(AP20/12)","v":7036.9189700024162},null,null,"Volume",{"$f":"(AT18/12)*(AT19/12)*(AT20/12)","v":3679.183791149379}]
[]
[]
["HEIGHT",114,null,null,"HEIGHT",114,null,null,"HEIGHT",{"$f":"F25","v":114},null,null,"HEIGHT",{"$f":"J25","v":114},null,null,"HEIGHT",{"$f":"N25","v":114},null,null,"HEIGHT",{"$f":"R25","v":114},null,null,"HEIGHT",{"$f":"V25","v":114},null,null,"HEIGHT",{"$f":"$B$25","v":114},null,null,"HEIGHT",{"$f":"$B$25","v":114},null,null,"HEIGHT",{"$f":"$B$25","v":114},null,null,"HEIGHT",{"$f":"$B$25","v":114},null,null,"HEIGHT",{"$f":"$B$25","v":114}]
["WIDTH",{"$f":"B25*$B$3","v":171},null,null,"WIDTH",{"$f":"F25*$B$3","v":171},null,null,"WIDTH",{"$f":"J25*$J$3","v":129.95999999999998},null,null,"WIDTH",{"$f":"N25*$N$3","v":145.92000000000002},null,null,"WIDTH",{"$f":"R25*$R$3","v":182.4},null,null,"WIDTH",{"$f":"V25*$V$3","v":159.6},null,null,"WIDTH",{"$f":"Z25*$Z$3","v":148.20000000000002},null,null,"WIDTH",{"$f":"AD25*AD3","v":171},null,null,"WIDTH",{"$f":"AH25*AH3","v":162.85709400000002},null,null,"WIDTH",{"$f":"AL25*AL3","v":144.303708},null,null,"WIDTH",{"$f":"AP25*AP3","v":137.349366},null,null,"WIDTH",{"$f":"AT25*AT3","v":137.349366}]
["DEPTH",{"$f":"B25*$C$3","v":285},null,null,"DEPTH",{"$f":"F25*$C$3","v":285},null,null,"DEPTH",{"$f":"J25*$K$3","v":158.45999999999998},null,null,"DEPTH",{"$f":"N25*$O$3","v":175.56},null,null,"DEPTH",{"$f":"R25*$S$3","v":265.62},null,null,"DEPTH",{"$f":"V25*$W$3","v":216.6},null,null,"DEPTH",{"$f":"Z25*$AA$3","v":216.6},null,null,"DEPTH",{"$f":"AD25*AE3","v":239.4},null,null,"DEPTH",{"$f":"AH25*AI3","v":193.22030999999998},null,null,"DEPTH",{"$f":"AL25*AM3","v":180.952314},null,null,"DEPTH",{"$f":"AP25*AQ3","v":175.38455400000001},null,null,"DEPTH",{"$f":"AT25*AU3","v":242.55312599999999}]
["Area",{"$f":"(B26)/12*(B27)/12","v":338.4375},null,null,"Area",{"$f":"(F26)/12*(F27)/12","v":338.4375},null,null,"Area",{"$f":"(J26)/12*(J27)/12","v":143.01014999999995},null,null,"Area",{"$f":"(N26)/12*(N27)/12","v":177.90080000000003},null,null,"Area",{"$f":"(R26)/12*(R27)/12","v":336.45200000000006},null,null,"Area",{"$f":"(V26)/12*(V27)/12","v":240.06499999999997},null,null,"Area",{"$f":"(Z26)/12*(Z27)/12","v":222.91750000000002},null,null,"Area",{"$f":"(AD26)/12*(AD27)/12","v":284.28750000000002},null,null,"Area",{"$f":"(AH26)/12*(AH27)/12","v":218.52290408596625},null,null,"Area",{"$f":"(AL26)/12*(AL27)/12","v":181.3339575095855},null,null,"Area",{"$f":"(AP26)/12*(AP27)/12","v":167.28442568119974},null,null,"Area",{"$f":"(AT26)/12*(AT27)/12","v":231.35081998207022}]
["Volume",{"$f":"(B25/12)*(B26/12)*(B27/12)","v":3215.15625},null,null,"Volume",{"$f":"(F25/12)*(F26/12)*(F27/12)","v":3215.15625},null,null,"Volume",{"$f":"(J25/12)*(J26/12)*(J27/12)","v":1358.5964249999997},null,null,"Volume",{"$f":"(N25/12)*(N26/12)*(N27/12)","v":1690.0576000000005},null,null,"Volume",{"$f":"(R25/12)*(R26/12)*(R27/12)","v":3196.2940000000003},null,null,"Volume",{"$f":"(V25/12)*(V26/12)*(V27/12)","v":2280.6174999999998},null,null,"Volume",{"$f":"(Z25/12)*(Z26/12)*(Z27/12)","v":2117.7162500000004},null,null,"Volume",{"$f":"(AD25/12)*(AD26/12)*(AD27/12)","v":2700.7312499999998},null,null,"Volume",{"$f":"(AH25/12)*(AH26/12)*(AH27/12)","v":2075.9675888166794},null,null,"Volume",{"$f":"(AL25/12)*(AL26/12)*(AL27/12)","v":1722.6725963410624},null,null,"Volume",{"$f":"(AP25/12)*(AP26/12)*(AP27/12)","v":1589.2020439713979},null,null,"Volume",{"$f":"(AT25/12)*(AT26/12)*(AT27/12)","v":2197.832789829667}]
[]
["HEIGHT",167,null,null,"HEIGHT",{"$f":"B31","v":167},null,null,"HEIGHT",{"$f":"$B$6","v":101.44},null,null,"HEIGHT",{"$f":"$B$6","v":101.44},null,null,"HEIGHT",{"$f":"$B$6","v":101.44},null,null,"HEIGHT",{"$f":"$B$6","v":101.44},null,null,"HEIGHT",{"$f":"$B$6","v":101.44},null,null,"HEIGHT",{"$f":"$B$31","v":167},null,null,"HEIGHT",{"$f":"$B$31","v":167},null,null,"HEIGHT",{"$f":"$B$31","v":167},null,null,"HEIGHT",{"$f":"$B$31","v":167},null,null,"HEIGHT",{"$f":"$B$31","v":167}]
["WIDTH",{"$f":"B31*$B$3","v":250.5},null,null,"WIDTH",{"$f":"F31*$F$3","v":210.42},null,null,"WIDTH",{"$f":"J31*$J$3","v":115.64159999999998},null,null,"WIDTH",{"$f":"N31*$N$3","v":129.8432},null,null,"WIDTH",{"$f":"R31*$R$3","v":162.304},null,null,"WIDTH",{"$f":"V31*$V$3","v":142.01599999999999},null,null,"WIDTH",{"$f":"Z31*$Z$3","v":131.87200000000001},null,null,"WIDTH",{"$f":"AD31*AD3","v":250.5},null,null,"WIDTH",{"$f":"AH31*AH3","v":238.57135700000001},null,null,"WIDTH",{"$f":"AL31*AL3","v":211.39227399999999},null,null,"WIDTH",{"$f":"AP31*AP3","v":201.20477300000002},null,null,"WIDTH",{"$f":"AT31*AT3","v":201.20477300000002}]
["DEPTH",{"$f":"B31*$C$3","v":417.5},null,null,"DEPTH",{"$f":"F31*$G$3","v":265.53000000000003},null,null,"DEPTH",{"$f":"J31*$K$3","v":141.0016},null,null,"DEPTH",{"$f":"N31*$O$3","v":156.2176},null,null,"DEPTH",{"$f":"R31*$S$3","v":236.3552},null,null,"DEPTH",{"$f":"V31*$W$3","v":192.73599999999999},null,null,"DEPTH",{"$f":"Z31*$AA$3","v":192.73599999999999},null,null,"DEPTH",{"$f":"AD31*AE3","v":350.7},null,null,"DEPTH",{"$f":"AH31*AI3","v":283.05080499999997},null,null,"DEPTH",{"$f":"AL31*AM3","v":265.07926700000002},null,null,"DEPTH",{"$f":"AP31*AQ3","v":256.92298700000003},null,null,"DEPTH",{"$f":"AT31*AU3","v":355.319053}]
["Area",{"$f":"(B32)/12*(B33)/12","v":726.27604166666663},null,null,"Area",{"$f":"(F32)/12*(F33)/12","v":388.00571250000007},null,null,"Area",{"$f":"(J32)/12*(J33)/12","v":113.23368490666665},null,null,"Area",{"$f":"(N32)/12*(N33)/12","v":140.85967416888889},null,null,"Area",{"$f":"(R32)/12*(R33)/12","v":266.3985720888889},null,null,"Area",{"$f":"(V32)/12*(V33)/12","v":190.08052622222218},null,null,"Area",{"$f":"(Z32)/12*(Z33)/12","v":176.50334577777778},null,null,"Area",{"$f":"(AD32)/12*(AD33)/12","v":610.07187499999998},null,null,"Area",{"$f":"(AH32)/12*(AH33)/12","v":468.94315728328041},null,null,"Area",{"$f":"(AL32)/12*(AL33)/12","v":389.13686834293861},null,null,"Area",{"$f":"(AP32)/12*(AP33)/12","v":358.98702276261776},null,null,"Area",{"$f":"(AT32)/12*(AT33)/12","v":496.47145417666644}]
["Volume",{"$f":"(B31/12)*(B32/12)*(B33/12)","v":10107.341579861109},null,null,"Volume",{"$f":"(F31/12)*(F32/12)*(F33/12)","v":5399.7461656250007},null,null,"Volume",{"$f":"(J31/12)*(J32/12)*(J33/12)","v":957.2020830776886},null,null,"Volume",{"$f":"(N31/12)*(N32/12)*(N33/12)","v":1190.7337789743408},null,null,"Volume",{"$f":"(R31/12)*(R32/12)*(R33/12)","v":2251.9559293914076},null,null,"Volume",{"$f":"(V31/12)*(V32/12)*(V33/12)","v":1606.8140483318518},null,null,"Volume",{"$f":"(Z31/12)*(Z32/12)*(Z33/12)","v":1492.0416163081481},null,null,"Volume",{"$f":"(AD31/12)*(AD32/12)*(AD33/12)","v":8490.1669270833318},null,null,"Volume",{"$f":"(AH31/12)*(AH32/12)*(AH33/12)","v":6526.1256055256517},null,null,"Volume",{"$f":"(AL31/12)*(AL32/12)*(AL33/12)","v":5415.4880844392283},null,null,"Volume",{"$f":"(AP31/12)*(AP32/12)*(AP33/12)","v":4995.9027334464308},null,null,"Volume",{"$f":"(AT31/12)*(AT32/12)*(AT33/12)","v":6909.2277372919407}]
[]
["HEIGHT",107,null,null,"HEIGHT",{"$f":"$B$6","v":101.44},null,null,"HEIGHT",{"$f":"$B$6","v":101.44},null,null,"HEIGHT",{"$f":"$B$6","v":101.44},null,null,"HEIGHT",{"$f":"$B$6","v":101.44},null,null,"HEIGHT",{"$f":"$B$6","v":101.44},null,null,"HEIGHT",{"$f":"$B$6","v":101.44},null,null,"HEIGHT",{"$f":"$B$37","v":107},null,null,"HEIGHT",{"$f":"$B$37","v":107},null,null,"HEIGHT",{"$f":"$B$37","v":107},null,null,"HEIGHT",{"$f":"$B$37","v":107},null,null,"HEIGHT",{"$f":"$B$37","v":107}]
["WIDTH",{"$f":"B37*$B$3","v":160.5},null,null,"WIDTH",{"$f":"F37*$F$3","v":127.81439999999999},null,null,"WIDTH",{"$f":"J37*$J$3","v":115.64159999999998},null,null,"WIDTH",{"$f":"N37*$N$3","v":129.8432},null,null,"WIDTH",{"$f":"R37*$R$3","v":162.304},null,null,"WIDTH",{"$f":"V37*$V$3","v":142.01599999999999},null,null,"WIDTH",{"$f":"Z37*$Z$3","v":131.87200000000001},null,null,"WIDTH",{"$f":"AD37*AD3","v":160.5},null,null,"WIDTH",{"$f":"AH37*AH3","v":152.85709700000001},null,null,"WIDTH",{"$f":"AL37*AL3","v":135.44295399999999},null,null,"WIDTH",{"$f":"AP37*AP3","v":128.91563300000001},null,null,"WIDTH",{"$f":"AT37*AT3","v":128.91563300000001}]
["DEPTH",{"$f":"B37*$C$3","v":267.5},null,null,"DEPTH",{"$f":"F37*$G$3","v":161.28960000000001},null,null,"DEPTH",{"$f":"J37*$K$3","v":141.0016},null,null,"DEPTH",{"$f":"N37*$O$3","v":156.2176},null,null,"DEPTH",{"$f":"R37*$S$3","v":236.3552},null,null,"DEPTH",{"$f":"V37*$W$3","v":192.73599999999999},null,null,"DEPTH",{"$f":"Z37*$AA$3","v":192.73599999999999},null,null,"DEPTH",{"$f":"AD37*AE3","v":224.70000000000002},null,null,"DEPTH",{"$f":"AH37*AI3","v":181.35590500000001},null,null,"DEPTH",{"$f":"AL37*AM3","v":169.841207},null,null,"DEPTH",{"$f":"AP37*AQ3","v":164.61532700000001},null,null,"DEPTH",{"$f":"AT37*AU3","v":227.659513}]
["Area",{"$f":"(B38/12)*(B39/12)","v":298.15104166666669},null,null,"Area",{"$f":"(F38)/12*(F39)/12","v":143.16064896},null,null,"Area",{"$f":"(J38)/12*(J39)/12","v":113.23368490666665},null,null,"Area",{"$f":"(N38)/12*(N39)/12","v":140.85967416888889},null,null,"Area",{"$f":"(R38)/12*(R39)/12","v":266.3985720888889},null,null,"Area",{"$f":"(V38)/12*(V39)/12","v":190.08052622222218},null,null,"Area",{"$f":"(Z38)/12*(Z39)/12","v":176.50334577777778},null,null,"Area",{"$f":"(AD38)/12*(AD39)/12","v":250.44687500000001},null,null,"Area",{"$f":"(AH38)/12*(AH39)/12","v":192.51067473685964},null,null,"Area",{"$f":"(AL38)/12*(AL39)/12","v":159.74857490976024},null,null,"Area",{"$f":"(AP38)/12*(AP39)/12","v":147.37145195629856},null,null,"Area",{"$f":"(AT38)/12*(AT39)/12","v":203.81159879768563}]
["Volume",{"$f":"(B37/12)*(B38/12)*(B39/12)","v":2658.5134548611109},null,null,"Volume",{"$f":"(F37/12)*(F38/12)*(F39/12)","v":1210.1846858751999},null,null,"Volume",{"$f":"(J37/12)*(J38/12)*(J39/12)","v":957.2020830776886},null,null,"Volume",{"$f":"(N37/12)*(N38/12)*(N39/12)","v":1190.7337789743408},null,null,"Volume",{"$f":"(R37/12)*(R38/12)*(R39/12)","v":2251.9559293914076},null,null,"Volume",{"$f":"(V37/12)*(V38/12)*(V39/12)","v":1606.8140483318518},null,null,"Volume",{"$f":"(Z37/12)*(Z38/12)*(Z39/12)","v":1492.0416163081481},null,null,"Volume",{"$f":"(AD37/12)*(AD38/12)*(AD39/12)","v":2233.1513020833331},null,null,"Volume",{"$f":"(AH37/12)*(AH38/12)*(AH39/12)","v":1716.5535164036651},null,null,"Volume",{"$f":"(AL37/12)*(AL38/12)*(AL39/12)","v":1424.424792945362},null,null,"Volume",{"$f":"(AP37/12)*(AP38/12)*(AP39/12)","v":1314.0621132769954},null,null,"Volume",{"$f":"(AT37/12)*(AT38/12)*(AT39/12)","v":1817.3200892793634}]